BEGIN:VCALENDAR
VERSION:2.0
PRODID:-//Lowell Public Library - Lowell, IN - ECPv6.7.0//NONSGML v1.0//EN
CALSCALE:GREGORIAN
METHOD:PUBLISH
X-WR-CALNAME:Lowell Public Library - Lowell, IN
X-ORIGINAL-URL:https://www.lowellpl.lib.in.us
X-WR-CALDESC:Events for Lowell Public Library - Lowell, IN
REFRESH-INTERVAL;VALUE=DURATION:PT1H
X-Robots-Tag:noindex
X-PUBLISHED-TTL:PT1H
BEGIN:VTIMEZONE
TZID:America/Chicago
BEGIN:DAYLIGHT
TZOFFSETFROM:-0600
TZOFFSETTO:-0500
TZNAME:CDT
DTSTART:20260308T080000
END:DAYLIGHT
BEGIN:STANDARD
TZOFFSETFROM:-0500
TZOFFSETTO:-0600
TZNAME:CST
DTSTART:20261101T070000
END:STANDARD
END:VTIMEZONE
BEGIN:VEVENT
DTSTART;TZID=America/Chicago:20260203T090000
DTEND;TZID=America/Chicago:20260203T120000
DTSTAMP:20260422T070757
CREATED:20260108T152556Z
LAST-MODIFIED:20260126T210450Z
UID:10005056-1770109200-1770120000@www.lowellpl.lib.in.us
SUMMARY:AARP Tax Prep (Lowell) - FULL
DESCRIPTION:                AARP TAX PREPARATION \nAARP Foundation Tax-Aide provides tax assistance to anyone\, free of charge\, with a focus on taxpayers who are over 50 and have low to moderate income.  Tax-Aide volunteers are IRS-certified every year\, so they understand the latest changes and additions to the tax code.  You do not need to be an AARP member to use this service. * \nTax preparation will be held on Tuesdays\, Feb 3- April 7. Call for an appointment—spots are very limited and fill up quickly! Please – no walk-ins! \n  \n*Source – https://www.aarp.org/money/taxes/aarp-taxaide/
URL:https://www.lowellpl.lib.in.us/event/aarp-tax-prep-lowell/2026-02-03/
LOCATION:Lowell Public Library\, 1505 E Commercial Ave\, Lowell\, IN\, 46356-2107\, United States
CATEGORIES:Adult,Events
ATTACH;FMTTYPE=image/jpeg:https://www.lowellpl.lib.in.us/wp-content/uploads/2021/07/aarp-tax.jpg
END:VEVENT
BEGIN:VEVENT
DTSTART;TZID=America/Chicago:20260203T160000
DTEND;TZID=America/Chicago:20260203T170000
DTSTAMP:20260422T070757
CREATED:20260107T165721Z
LAST-MODIFIED:20260115T145132Z
UID:10005042-1770134400-1770138000@www.lowellpl.lib.in.us
SUMMARY:Tales for Tails (Lowell)
DESCRIPTION:Tales for Tails! \nFebruary \nTuesdays \n4 P.M—5 P.M \nRead or just visit with a certified therapy dog \nJoin us on Tuesdays as we offer the opportunity for kids to read or just visit with therapy dogs. \nThis is a fun program\, where children get a chance to cozy up with a loveable pup and practice their reading skills. Kids can read to one of the therapy dogs for a few minutes or just visit with one. Some of these pups have pretty neat talents to share as well! Such a fun way to build confidence and increase the kids love of reading! \n**For ages 6 yrs-12 yrs** \n*REGISTRATION IS REQUIRED* \nRegistration opens Monday\, January 19th \n  \n 
URL:https://www.lowellpl.lib.in.us/event/tales-for-tails-93/
LOCATION:Lowell Public Library\, 1505 E Commercial Ave\, Lowell\, IN\, 46356-2107\, United States
CATEGORIES:Events,Kids
ATTACH;FMTTYPE=image/jpeg:https://www.lowellpl.lib.in.us/wp-content/uploads/2023/05/therapy-dog.jpg
END:VEVENT
BEGIN:VEVENT
DTSTART;TZID=America/Chicago:20260203T163000
DTEND;TZID=America/Chicago:20260203T173000
DTSTAMP:20260422T070757
CREATED:20260113T204421Z
LAST-MODIFIED:20260113T204421Z
UID:10005085-1770136200-1770139800@www.lowellpl.lib.in.us
SUMMARY:Kids Games (Shelby)
DESCRIPTION:You pick what we play!
URL:https://www.lowellpl.lib.in.us/event/kids-games-shelby/
LOCATION:Shelby Branch\, 23323 Shelby Rd\, Shelby\, IN\, 46377\, United States
CATEGORIES:Events
ATTACH;FMTTYPE=image/jpeg:https://www.lowellpl.lib.in.us/wp-content/uploads/2022/02/games.jpg
END:VEVENT
BEGIN:VEVENT
DTSTART;TZID=America/Chicago:20260203T163000
DTEND;TZID=America/Chicago:20260203T173000
DTSTAMP:20260422T070757
CREATED:20260115T212554Z
LAST-MODIFIED:20260115T212554Z
UID:10005098-1770136200-1770139800@www.lowellpl.lib.in.us
SUMMARY:Kids Valentine Craft (Schneider)
DESCRIPTION:Create Valentine bugs using clothespins and paper.
URL:https://www.lowellpl.lib.in.us/event/kids-valentine-craft-schneider/
LOCATION:Schneider Branch Library\, 24002 Parrish Ave\, Schneider\, IN\, 46376\, United States
CATEGORIES:Events
ATTACH;FMTTYPE=image/jpeg:https://www.lowellpl.lib.in.us/wp-content/uploads/2026/01/Valentine-bugs.jpg
END:VEVENT
END:VCALENDAR