BEGIN:VCALENDAR
VERSION:2.0
PRODID:-//Lowell Public Library - Lowell, IN - ECPv6.7.0//NONSGML v1.0//EN
CALSCALE:GREGORIAN
METHOD:PUBLISH
X-ORIGINAL-URL:https://www.lowellpl.lib.in.us
X-WR-CALDESC:Events for Lowell Public Library - Lowell, IN
REFRESH-INTERVAL;VALUE=DURATION:PT1H
X-Robots-Tag:noindex
X-PUBLISHED-TTL:PT1H
BEGIN:VTIMEZONE
TZID:America/Chicago
BEGIN:DAYLIGHT
TZOFFSETFROM:-0600
TZOFFSETTO:-0500
TZNAME:CDT
DTSTART:20260308T080000
END:DAYLIGHT
BEGIN:STANDARD
TZOFFSETFROM:-0500
TZOFFSETTO:-0600
TZNAME:CST
DTSTART:20261101T070000
END:STANDARD
END:VTIMEZONE
BEGIN:VEVENT
DTSTART;TZID=America/Chicago:20260204T163000
DTEND;TZID=America/Chicago:20260204T173000
DTSTAMP:20260422T100452
CREATED:20260113T202504Z
LAST-MODIFIED:20260113T202843Z
UID:10005080-1770222600-1770226200@www.lowellpl.lib.in.us
SUMMARY:YA Independent Crafts (Shelby)
DESCRIPTION:Create your artwork using a variety of craft supplies.
URL:https://www.lowellpl.lib.in.us/event/ya-independent-crafts-shelby-2/
LOCATION:Shelby Branch\, 23323 Shelby Rd\, Shelby\, IN\, 46377\, United States
CATEGORIES:Events,YA/Teen
ATTACH;FMTTYPE=image/jpeg:https://www.lowellpl.lib.in.us/wp-content/uploads/2022/01/crafts-scaled.jpg
END:VEVENT
BEGIN:VEVENT
DTSTART;TZID=America/Chicago:20260204T163000
DTEND;TZID=America/Chicago:20260204T173000
DTSTAMP:20260422T100452
CREATED:20260115T211818Z
LAST-MODIFIED:20260115T211818Z
UID:10005094-1770222600-1770226200@www.lowellpl.lib.in.us
SUMMARY:YA Craft (Schneider)
DESCRIPTION:Grown heart-shaped crystals.
URL:https://www.lowellpl.lib.in.us/event/ya-craft-schneider-3/
LOCATION:Schneider Branch Library\, 24002 Parrish Ave\, Schneider\, IN\, 46376\, United States
CATEGORIES:Events
ATTACH;FMTTYPE=image/jpeg:https://www.lowellpl.lib.in.us/wp-content/uploads/2026/01/Valentine-Heart-Crystals.jpg
END:VEVENT
BEGIN:VEVENT
DTSTART;TZID=America/Chicago:20260204T163000
DTEND;TZID=America/Chicago:20260204T173000
DTSTAMP:20260422T100452
CREATED:20260119T225246Z
LAST-MODIFIED:20260203T224410Z
UID:10005103-1770222600-1770226200@www.lowellpl.lib.in.us
SUMMARY:(Canceled) YA Chess / Checkers (Lowell) FEB 4
DESCRIPTION:February 4th’s YA Chess / Checkers program has been canceled; we apologize for any inconvenience. \nYoung Adults (5th-12th grade students)\nAre you interested in playing Chess OR Checkers with others your age?  \nCome to our YA Checkers / Chess program on Wednesday\, FEBRUARY 4\, from 4:30-5:30 at the Lowell Public Library. \nRegistration encouraged. \nThis will (hopefully) be a regular program on 1st & 3rd Wednesdays if there is enough participation. \n 
URL:https://www.lowellpl.lib.in.us/event/ya-chess-checkers-lowell-feb-4/
LOCATION:Lowell Public Library\, 1505 E Commercial Ave\, Lowell\, IN\, 46356-2107\, United States
CATEGORIES:Events,YA/Teen
ATTACH;FMTTYPE=image/png:https://www.lowellpl.lib.in.us/wp-content/uploads/2025/12/chess-checkers-image.png
END:VEVENT
BEGIN:VEVENT
DTSTART;TZID=America/Chicago:20260204T173000
DTEND;TZID=America/Chicago:20260204T190000
DTSTAMP:20260422T100452
CREATED:20260108T153055Z
LAST-MODIFIED:20260108T153055Z
UID:10005064-1770226200-1770231600@www.lowellpl.lib.in.us
SUMMARY:Friends of the Library Meet (Lowell)
DESCRIPTION:Attend our monthly meeting where we plan upcoming Friends events\, fundraisers\, and projects that support and improve the library. New friends welcome!  \n 
URL:https://www.lowellpl.lib.in.us/event/friends-of-the-library-meet-lowell-4/
LOCATION:Lowell Public Library\, 1505 E Commercial Ave\, Lowell\, IN\, 46356-2107\, United States
CATEGORIES:Adult,Events
ATTACH;FMTTYPE=image/jpeg:https://www.lowellpl.lib.in.us/wp-content/uploads/2023/08/friends-of-the-library.jpg
END:VEVENT
END:VCALENDAR