BEGIN:VCALENDAR
VERSION:2.0
PRODID:-//Lowell Public Library - Lowell, IN - ECPv6.7.0//NONSGML v1.0//EN
CALSCALE:GREGORIAN
METHOD:PUBLISH
X-WR-CALNAME:Lowell Public Library - Lowell, IN
X-ORIGINAL-URL:https://www.lowellpl.lib.in.us
X-WR-CALDESC:Events for Lowell Public Library - Lowell, IN
REFRESH-INTERVAL;VALUE=DURATION:PT1H
X-Robots-Tag:noindex
X-PUBLISHED-TTL:PT1H
BEGIN:VTIMEZONE
TZID:America/Chicago
BEGIN:DAYLIGHT
TZOFFSETFROM:-0600
TZOFFSETTO:-0500
TZNAME:CDT
DTSTART:20260308T080000
END:DAYLIGHT
BEGIN:STANDARD
TZOFFSETFROM:-0500
TZOFFSETTO:-0600
TZNAME:CST
DTSTART:20261101T070000
END:STANDARD
END:VTIMEZONE
BEGIN:VEVENT
DTSTART;TZID=America/Chicago:20260205T090000
DTEND;TZID=America/Chicago:20260205T120000
DTSTAMP:20260422T070628
CREATED:20251209T161229Z
LAST-MODIFIED:20251209T192609Z
UID:10004948-1770282000-1770292800@www.lowellpl.lib.in.us
SUMMARY:Knit & Crochet (Lowell)
DESCRIPTION:Meet up to knit and crochet\, and share patterns and tips.
URL:https://www.lowellpl.lib.in.us/event/knit-crochet-33/2026-02-05/
LOCATION:Lowell Public Library\, 1505 E Commercial Ave\, Lowell\, IN\, 46356-2107\, United States
CATEGORIES:Events
ATTACH;FMTTYPE=image/jpeg:https://www.lowellpl.lib.in.us/wp-content/uploads/2022/01/crochet.jpg
END:VEVENT
BEGIN:VEVENT
DTSTART;TZID=America/Chicago:20260205T110000
DTEND;TZID=America/Chicago:20260205T120000
DTSTAMP:20260422T070628
CREATED:20260102T210454Z
LAST-MODIFIED:20260102T210454Z
UID:10004998-1770289200-1770292800@www.lowellpl.lib.in.us
SUMMARY:Senior Social - Bingo (Lowell)
DESCRIPTION:Senior Social – White Elephant Bingo \nHave fun playing bingo with us. Bring an unwanted item from home for the prize table. Limit 30. Pre-register. \n 
URL:https://www.lowellpl.lib.in.us/event/senior-social-bingo-lowell/
LOCATION:Lowell Public Library\, 1505 E Commercial Ave\, Lowell\, IN\, 46356-2107\, United States
CATEGORIES:Events
ATTACH;FMTTYPE=image/gif:https://www.lowellpl.lib.in.us/wp-content/uploads/2022/01/bingo_animated.gif
END:VEVENT
BEGIN:VEVENT
DTSTART;TZID=America/Chicago:20260205T150000
DTEND;TZID=America/Chicago:20260205T153000
DTSTAMP:20260422T070628
CREATED:20260115T205350Z
LAST-MODIFIED:20260115T205433Z
UID:10005088-1770303600-1770305400@www.lowellpl.lib.in.us
SUMMARY:Story Time (Shelby)
DESCRIPTION:Join Miss Jackie for a few stories\, a flannel board activity and a simple craft.
URL:https://www.lowellpl.lib.in.us/event/story-time-shelby-3/
LOCATION:Shelby Branch\, 23323 Shelby Rd\, Shelby\, IN\, 46377\, United States
CATEGORIES:Events,Kids
ATTACH;FMTTYPE=image/jpeg:https://www.lowellpl.lib.in.us/wp-content/uploads/2024/09/story-time.jpeg
END:VEVENT
BEGIN:VEVENT
DTSTART;TZID=America/Chicago:20260205T173000
DTEND;TZID=America/Chicago:20260205T190000
DTSTAMP:20260422T070628
CREATED:20260106T152033Z
LAST-MODIFIED:20260106T152033Z
UID:10005001-1770312600-1770318000@www.lowellpl.lib.in.us
SUMMARY:Simple Stamping (Lowell)
DESCRIPTION:Make two cards with envelopes.  A $7 fee\, payable at class\, will cover all materials. Limit 12.  Pre-register. \n  \n 
URL:https://www.lowellpl.lib.in.us/event/simple-stamping-lowell/
LOCATION:Lowell Public Library\, 1505 E Commercial Ave\, Lowell\, IN\, 46356-2107\, United States
CATEGORIES:Events
ATTACH;FMTTYPE=image/jpeg:https://www.lowellpl.lib.in.us/wp-content/uploads/2026/01/cardmaking-2.jpg
END:VEVENT
BEGIN:VEVENT
DTSTART;TZID=America/Chicago:20260205T173000
DTEND;TZID=America/Chicago:20260205T190000
DTSTAMP:20260422T070628
CREATED:20260112T173412Z
LAST-MODIFIED:20260112T221702Z
UID:10005069-1770312600-1770318000@www.lowellpl.lib.in.us
SUMMARY:YA Diamond HeARTs (Lowell)
DESCRIPTION:Come to the Lowell Public Library on February 5th at 5:30 and make a special valentine in style! We’ll be completing diamond art hearts for you to do with as you please: show some self love and keep it or give it to someone special as a gift. \n  \nIf you’ve never done diamond art\, don’t be discouraged. This is a good beginner size project. If\, for some reason\, you don’t finish\, we’ll have bags for you to take home to finish your special project. \n  \nThis is a free program for 5th grade—12th grade students. \nRegistration is REQUIRED. \n 
URL:https://www.lowellpl.lib.in.us/event/ya-diamond-hearts-lowell/
LOCATION:Lowell Public Library\, 1505 E Commercial Ave\, Lowell\, IN\, 46356-2107\, United States
CATEGORIES:Events,YA/Teen
ATTACH;FMTTYPE=image/png:https://www.lowellpl.lib.in.us/wp-content/uploads/2026/01/DIAMOND-ART.png
END:VEVENT
END:VCALENDAR