BEGIN:VCALENDAR
VERSION:2.0
PRODID:-//Lowell Public Library - Lowell, IN - ECPv6.7.0//NONSGML v1.0//EN
CALSCALE:GREGORIAN
METHOD:PUBLISH
X-WR-CALNAME:Lowell Public Library - Lowell, IN
X-ORIGINAL-URL:https://www.lowellpl.lib.in.us
X-WR-CALDESC:Events for Lowell Public Library - Lowell, IN
REFRESH-INTERVAL;VALUE=DURATION:PT1H
X-Robots-Tag:noindex
X-PUBLISHED-TTL:PT1H
BEGIN:VTIMEZONE
TZID:America/Chicago
BEGIN:DAYLIGHT
TZOFFSETFROM:-0600
TZOFFSETTO:-0500
TZNAME:CDT
DTSTART:20260308T080000
END:DAYLIGHT
BEGIN:STANDARD
TZOFFSETFROM:-0500
TZOFFSETTO:-0600
TZNAME:CST
DTSTART:20261101T070000
END:STANDARD
END:VTIMEZONE
BEGIN:VEVENT
DTSTART;TZID=America/Chicago:20260207T100000
DTEND;TZID=America/Chicago:20260207T140000
DTSTAMP:20260422T052820
CREATED:20260106T153859Z
LAST-MODIFIED:20260106T153859Z
UID:10005002-1770458400-1770472800@www.lowellpl.lib.in.us
SUMMARY:Red Cross Blood Drive (Lowell)
DESCRIPTION:Give Blood\, Give Life. Visit redcrossblood.org or call 1-800-RED CROSS to schedule your appointment.  \n 
URL:https://www.lowellpl.lib.in.us/event/red-cross-blood-drive-lowell/
LOCATION:Lowell Public Library\, 1505 E Commercial Ave\, Lowell\, IN\, 46356-2107\, United States
ATTACH;FMTTYPE=image/jpeg:https://www.lowellpl.lib.in.us/wp-content/uploads/2022/01/red-cross-2.jpg
END:VEVENT
BEGIN:VEVENT
DTSTART;TZID=America/Chicago:20260207T110000
DTEND;TZID=America/Chicago:20260207T120000
DTSTAMP:20260422T052820
CREATED:20260115T210107Z
LAST-MODIFIED:20260115T210840Z
UID:10005090-1770462000-1770465600@www.lowellpl.lib.in.us
SUMMARY:Adult Coloring (Schneider)
DESCRIPTION:Relax and color.  Colored pencils will be available.
URL:https://www.lowellpl.lib.in.us/event/adult-coloring-shelby/
LOCATION:Schneider Branch Library\, 24002 Parrish Ave\, Schneider\, IN\, 46376\, United States
CATEGORIES:Events
ATTACH;FMTTYPE=image/jpeg:https://www.lowellpl.lib.in.us/wp-content/uploads/2022/01/coloring2.jpg
END:VEVENT
END:VCALENDAR