BEGIN:VCALENDAR
VERSION:2.0
PRODID:-//Lowell Public Library - Lowell, IN - ECPv6.7.0//NONSGML v1.0//EN
CALSCALE:GREGORIAN
METHOD:PUBLISH
X-WR-CALNAME:Lowell Public Library - Lowell, IN
X-ORIGINAL-URL:https://www.lowellpl.lib.in.us
X-WR-CALDESC:Events for Lowell Public Library - Lowell, IN
REFRESH-INTERVAL;VALUE=DURATION:PT1H
X-Robots-Tag:noindex
X-PUBLISHED-TTL:PT1H
BEGIN:VTIMEZONE
TZID:America/Chicago
BEGIN:DAYLIGHT
TZOFFSETFROM:-0600
TZOFFSETTO:-0500
TZNAME:CDT
DTSTART:20260308T080000
END:DAYLIGHT
BEGIN:STANDARD
TZOFFSETFROM:-0500
TZOFFSETTO:-0600
TZNAME:CST
DTSTART:20261101T070000
END:STANDARD
END:VTIMEZONE
BEGIN:VEVENT
DTSTART;TZID=America/Chicago:20260217T100000
DTEND;TZID=America/Chicago:20260217T113000
DTSTAMP:20260422T052817
CREATED:20260106T162446Z
LAST-MODIFIED:20260106T162446Z
UID:10005019-1771322400-1771327800@www.lowellpl.lib.in.us
SUMMARY:Adult Coloring (Lowell)
DESCRIPTION:Join in on the fun!  Coloring helps us de-stress and stimulates brain areas related to motor skills. All supplies will be provided or you may bring your own. \n 
URL:https://www.lowellpl.lib.in.us/event/adult-coloring-lowell/2026-02-17/
LOCATION:Lowell Public Library\, 1505 E Commercial Ave\, Lowell\, IN\, 46356-2107\, United States
CATEGORIES:Events
ATTACH;FMTTYPE=image/jpeg:https://www.lowellpl.lib.in.us/wp-content/uploads/2022/01/coloring.jpg
END:VEVENT
BEGIN:VEVENT
DTSTART;TZID=America/Chicago:20260217T103000
DTEND;TZID=America/Chicago:20260217T110000
DTSTAMP:20260422T052817
CREATED:20260107T193738Z
LAST-MODIFIED:20260108T150828Z
UID:10005048-1771324200-1771326000@www.lowellpl.lib.in.us
SUMMARY:Story time (Lowell)
DESCRIPTION:Join Miss Jackie for a few stories\, group activities or a simple craft! (Sometimes we get messy!) \nThis is a free program for children ages 5 years of age and younger to enjoy with a parent or guardian. \nStory time will last about 30-40 minutes. \nLimited space. Registration is required \nPlease call or register online \nDates: \nTuesday\, February 17th and 24th \nWednesday\, February 18th and 25th \nOR \nThursday\, February 19th and 26th \n10:30 A.M \nPlease only choose a Tuesday\, Wednesday OR Thursday session \nRegistration opens Monday\, January 26th \n 
URL:https://www.lowellpl.lib.in.us/event/story-time-60/
LOCATION:Lowell Public Library\, 1505 E Commercial Ave\, Lowell\, IN\, 46356-2107\, United States
CATEGORIES:Events,Kids
ATTACH;FMTTYPE=image/png:https://www.lowellpl.lib.in.us/wp-content/uploads/2022/01/StoryTimeGraphic.png
END:VEVENT
BEGIN:VEVENT
DTSTART;TZID=America/Chicago:20260217T160000
DTEND;TZID=America/Chicago:20260217T170000
DTSTAMP:20260422T052817
CREATED:20260107T194002Z
LAST-MODIFIED:20260115T144817Z
UID:10005049-1771344000-1771347600@www.lowellpl.lib.in.us
SUMMARY:Tales for Tails (Lowell)
DESCRIPTION:February \nTuesdays \n4 P.M—5 P.M \nRead or just visit with a certified therapy dog \nJoin us on Tuesdays as we offer the opportunity for kids to read or just visit with therapy dogs. \nThis is a fun program\, where children get a chance to cozy up with a loveable pup and practice their reading skills. Kids can read to one of the therapy dogs for a few minutes or just visit with one. Some of these pups have pretty neat talents to share as well! Such a fun way to build confidence and increase the kids love of reading! \n**For ages 6 yrs-12 yrs** \n*REGISTRATION IS REQUIRED* \nRegistration opens Monday\, January 19th \n  \n 
URL:https://www.lowellpl.lib.in.us/event/tales-for-tails-95/
LOCATION:Lowell Public Library\, 1505 E Commercial Ave\, Lowell\, IN\, 46356-2107\, United States
CATEGORIES:Events,Kids
ATTACH;FMTTYPE=image/jpeg:https://www.lowellpl.lib.in.us/wp-content/uploads/2023/05/therapy-dog.jpg
END:VEVENT
BEGIN:VEVENT
DTSTART;TZID=America/Chicago:20260217T163000
DTEND;TZID=America/Chicago:20260217T173000
DTSTAMP:20260422T052817
CREATED:20260113T204549Z
LAST-MODIFIED:20260113T204549Z
UID:10005086-1771345800-1771349400@www.lowellpl.lib.in.us
SUMMARY:Kids Wii Games (Shelby)
DESCRIPTION:Play a variety of Wii Games
URL:https://www.lowellpl.lib.in.us/event/kids-wii-games-shelby-4/
LOCATION:Shelby Branch\, 23323 Shelby Rd\, Shelby\, IN\, 46377\, United States
CATEGORIES:Events
ATTACH;FMTTYPE=image/jpeg:https://www.lowellpl.lib.in.us/wp-content/uploads/2022/12/wii-remotes.jpg
END:VEVENT
BEGIN:VEVENT
DTSTART;TZID=America/Chicago:20260217T163000
DTEND;TZID=America/Chicago:20260217T173000
DTSTAMP:20260422T052817
CREATED:20260115T213017Z
LAST-MODIFIED:20260115T213053Z
UID:10005100-1771345800-1771349400@www.lowellpl.lib.in.us
SUMMARY:Kids Craft (Schneider)
DESCRIPTION:Pick what you’d like to make.
URL:https://www.lowellpl.lib.in.us/event/kids-craft-83/
LOCATION:Schneider Branch Library\, 24002 Parrish Ave\, Schneider\, IN\, 46376\, United States
CATEGORIES:Events
ATTACH;FMTTYPE=image/png:https://www.lowellpl.lib.in.us/wp-content/uploads/2026/01/feb-craft.png
END:VEVENT
BEGIN:VEVENT
DTSTART;TZID=America/Chicago:20260217T180000
DTEND;TZID=America/Chicago:20260217T190000
DTSTAMP:20260422T052817
CREATED:20260107T193044Z
LAST-MODIFIED:20260108T150540Z
UID:10005047-1771351200-1771354800@www.lowellpl.lib.in.us
SUMMARY:Library Board Meets (Lowell)
DESCRIPTION:The regular meeting of the Lowell Public Library Board of Trustees will be held. \n 
URL:https://www.lowellpl.lib.in.us/event/library-board-meets-43/
LOCATION:Lowell Public Library\, 1505 E Commercial Ave\, Lowell\, IN\, 46356-2107\, United States
CATEGORIES:Events
ATTACH;FMTTYPE=image/jpeg:https://www.lowellpl.lib.in.us/wp-content/uploads/2022/01/board-meeting-3.jpg
END:VEVENT
BEGIN:VEVENT
DTSTART;TZID=America/Chicago:20260217T180000
DTEND;TZID=America/Chicago:20260217T190000
DTSTAMP:20260422T052817
CREATED:20260115T211130Z
LAST-MODIFIED:20260115T211130Z
UID:10005092-1771351200-1771354800@www.lowellpl.lib.in.us
SUMMARY:Adult Craft (Schneider)
DESCRIPTION:Choose a craft to try or bring your own to work on.
URL:https://www.lowellpl.lib.in.us/event/adult-craft-schneider-5/
LOCATION:Schneider Branch Library\, 24002 Parrish Ave\, Schneider\, IN\, 46376\, United States
CATEGORIES:Events
ATTACH;FMTTYPE=image/jpeg:https://www.lowellpl.lib.in.us/wp-content/uploads/2024/02/crafting-e1708032388238.jpg
END:VEVENT
END:VCALENDAR