BEGIN:VCALENDAR
VERSION:2.0
PRODID:-//Lowell Public Library - Lowell, IN - ECPv6.7.0//NONSGML v1.0//EN
CALSCALE:GREGORIAN
METHOD:PUBLISH
X-WR-CALNAME:Lowell Public Library - Lowell, IN
X-ORIGINAL-URL:https://www.lowellpl.lib.in.us
X-WR-CALDESC:Events for Lowell Public Library - Lowell, IN
REFRESH-INTERVAL;VALUE=DURATION:PT1H
X-Robots-Tag:noindex
X-PUBLISHED-TTL:PT1H
BEGIN:VTIMEZONE
TZID:America/Chicago
BEGIN:DAYLIGHT
TZOFFSETFROM:-0600
TZOFFSETTO:-0500
TZNAME:CDT
DTSTART:20260308T080000
END:DAYLIGHT
BEGIN:STANDARD
TZOFFSETFROM:-0500
TZOFFSETTO:-0600
TZNAME:CST
DTSTART:20261101T070000
END:STANDARD
END:VTIMEZONE
BEGIN:VEVENT
DTSTART;TZID=America/Chicago:20260218T103000
DTEND;TZID=America/Chicago:20260218T110000
DTSTAMP:20260422T052925
CREATED:20260107T194245Z
LAST-MODIFIED:20260108T151033Z
UID:10005050-1771410600-1771412400@www.lowellpl.lib.in.us
SUMMARY:Story time (Lowell)
DESCRIPTION:Join Miss Jackie for a few stories\, group activities or a simple craft! (Sometimes we get messy!) \nThis is a free program for children ages 5 years of age and younger to enjoy with a parent or guardian. \nStory time will last about 30-40 minutes. \nLimited space. Registration is required \nPlease call or register online \nDates: \nTuesday\, February 17th and 24th \nWednesday\, February 18th and 25th \nOR \nThursday\, February 19th and 26th \n10:30 A.M \nPlease only choose a Tuesday\, Wednesday OR Thursday session \nRegistration opens Monday\, January 26th \n 
URL:https://www.lowellpl.lib.in.us/event/story-time-61/
LOCATION:Lowell Public Library\, 1505 E Commercial Ave\, Lowell\, IN\, 46356-2107\, United States
CATEGORIES:Events,Kids
ATTACH;FMTTYPE=image/png:https://www.lowellpl.lib.in.us/wp-content/uploads/2022/01/StoryTimeGraphic.png
END:VEVENT
BEGIN:VEVENT
DTSTART;TZID=America/Chicago:20260218T120000
DTEND;TZID=America/Chicago:20260218T150000
DTSTAMP:20260422T052925
CREATED:20260106T163522Z
LAST-MODIFIED:20260106T163522Z
UID:10005030-1771416000-1771426800@www.lowellpl.lib.in.us
SUMMARY:Adult Game Day (Lowell)
DESCRIPTION:Play card and board games. All adults are welcome to attend.  \n 
URL:https://www.lowellpl.lib.in.us/event/adult-game-day-lowell-2/2026-02-18/
LOCATION:IN
CATEGORIES:Events
ATTACH;FMTTYPE=image/jpeg:https://www.lowellpl.lib.in.us/wp-content/uploads/2025/12/Game-Day.jpg
END:VEVENT
BEGIN:VEVENT
DTSTART;TZID=America/Chicago:20260218T163000
DTEND;TZID=America/Chicago:20260218T173000
DTSTAMP:20260422T052925
CREATED:20260113T203526Z
LAST-MODIFIED:20260113T203526Z
UID:10005083-1771432200-1771435800@www.lowellpl.lib.in.us
SUMMARY:YA Movie (Shelby)
DESCRIPTION:Celebrate National Muffin Day with a fun movie and muffins!
URL:https://www.lowellpl.lib.in.us/event/ya-movie-shelby-2/
LOCATION:Shelby Branch\, 23323 Shelby Rd\, Shelby\, IN\, 46377\, United States
CATEGORIES:Adult,Events
ATTACH;FMTTYPE=image/png:https://www.lowellpl.lib.in.us/wp-content/uploads/2025/01/family-movie-night-feb.png
END:VEVENT
BEGIN:VEVENT
DTSTART;TZID=America/Chicago:20260218T163000
DTEND;TZID=America/Chicago:20260218T173000
DTSTAMP:20260422T052925
CREATED:20260115T212122Z
LAST-MODIFIED:20260115T212122Z
UID:10005096-1771432200-1771435800@www.lowellpl.lib.in.us
SUMMARY:YA Game Day (Schneider)
DESCRIPTION:Play board games for your friends
URL:https://www.lowellpl.lib.in.us/event/ya-game-day-schneider-3/
LOCATION:Schneider Branch Library\, 24002 Parrish Ave\, Schneider\, IN\, 46376\, United States
ATTACH;FMTTYPE=image/bmp:https://www.lowellpl.lib.in.us/wp-content/uploads/2022/04/game-day.bmp
END:VEVENT
BEGIN:VEVENT
DTSTART;TZID=America/Chicago:20260218T163000
DTEND;TZID=America/Chicago:20260218T173000
DTSTAMP:20260422T052925
CREATED:20260119T225402Z
LAST-MODIFIED:20260122T182930Z
UID:10005104-1771432200-1771435800@www.lowellpl.lib.in.us
SUMMARY:YA Chess / Checkers (Lowell) FEB 18
DESCRIPTION:Young Adults (5th-12th grade students)\nAre you interested in playing Chess OR Checkers with others your age?  \nCome to our YA Checkers / Chess program on Wednesday\, FEBRUARY 18\, from 4:30-5:30 at the Lowell Public Library. \nRegistration encouraged. \nThis will (hopefully) be a regular program on 1st & 3rd Wednesdays if there is enough participation. \n 
URL:https://www.lowellpl.lib.in.us/event/ya-chess-checkers-lowell-feb-18/
LOCATION:Lowell Public Library\, 1505 E Commercial Ave\, Lowell\, IN\, 46356-2107\, United States
CATEGORIES:Events,YA/Teen
ATTACH;FMTTYPE=image/png:https://www.lowellpl.lib.in.us/wp-content/uploads/2025/12/chess-checkers-image.png
END:VEVENT
END:VCALENDAR