BEGIN:VCALENDAR
VERSION:2.0
PRODID:-//Lowell Public Library - Lowell, IN - ECPv6.7.0//NONSGML v1.0//EN
CALSCALE:GREGORIAN
METHOD:PUBLISH
X-WR-CALNAME:Lowell Public Library - Lowell, IN
X-ORIGINAL-URL:https://www.lowellpl.lib.in.us
X-WR-CALDESC:Events for Lowell Public Library - Lowell, IN
REFRESH-INTERVAL;VALUE=DURATION:PT1H
X-Robots-Tag:noindex
X-PUBLISHED-TTL:PT1H
BEGIN:VTIMEZONE
TZID:America/Chicago
BEGIN:DAYLIGHT
TZOFFSETFROM:-0600
TZOFFSETTO:-0500
TZNAME:CDT
DTSTART:20260308T080000
END:DAYLIGHT
BEGIN:STANDARD
TZOFFSETFROM:-0500
TZOFFSETTO:-0600
TZNAME:CST
DTSTART:20261101T070000
END:STANDARD
END:VTIMEZONE
BEGIN:VEVENT
DTSTART;TZID=America/Chicago:20260225T103000
DTEND;TZID=America/Chicago:20260225T110000
DTSTAMP:20260422T100118
CREATED:20260107T215108Z
LAST-MODIFIED:20260108T151421Z
UID:10005054-1772015400-1772017200@www.lowellpl.lib.in.us
SUMMARY:Story time (Lowell)
DESCRIPTION:Join Miss Jackie for a few stories\, group activities or a simple craft! (Sometimes we get messy!) \nThis is a free program for children ages 5 years of age and younger to enjoy with a parent or guardian. \nStory time will last about 30-40 minutes. \nLimited space. Registration is required \nPlease call or register online \nDates: \nTuesday\, February 17th and 24th \nWednesday\, February 18th and 25th \nOR \nThursday\, February 19th and 26th \n10:30 A.M \nPlease only choose a Tuesday\, Wednesday OR Thursday session \nRegistration opens Monday\, January 26th \n 
URL:https://www.lowellpl.lib.in.us/event/story-time-64/
LOCATION:Lowell Public Library\, 1505 E Commercial Ave\, Lowell\, IN\, 46356-2107\, United States
CATEGORIES:Events,Kids
ATTACH;FMTTYPE=image/png:https://www.lowellpl.lib.in.us/wp-content/uploads/2022/01/StoryTimeGraphic.png
END:VEVENT
BEGIN:VEVENT
DTSTART;TZID=America/Chicago:20260225T163000
DTEND;TZID=America/Chicago:20260225T173000
DTSTAMP:20260422T100118
CREATED:20260113T203806Z
LAST-MODIFIED:20260113T203806Z
UID:10005084-1772037000-1772040600@www.lowellpl.lib.in.us
SUMMARY:Tales for Tails (Shelby)
DESCRIPTION:Read to a certified therapy dog
URL:https://www.lowellpl.lib.in.us/event/tales-for-tails-shelby-2/
LOCATION:Shelby Branch\, 23323 Shelby Rd\, Shelby\, IN\, 46377\, United States
CATEGORIES:Events
ATTACH;FMTTYPE=image/jpeg:https://www.lowellpl.lib.in.us/wp-content/uploads/2023/05/therapy-dog.jpg
END:VEVENT
BEGIN:VEVENT
DTSTART;TZID=America/Chicago:20260225T163000
DTEND;TZID=America/Chicago:20260225T173000
DTSTAMP:20260422T100118
CREATED:20260115T212306Z
LAST-MODIFIED:20260115T212306Z
UID:10005097-1772037000-1772040600@www.lowellpl.lib.in.us
SUMMARY:YA Snowball Fight (Schneider)
DESCRIPTION:Come in from the cold for a fun snowball fight.
URL:https://www.lowellpl.lib.in.us/event/ya-snowball-fight-schneider/
LOCATION:Schneider Branch Library\, 24002 Parrish Ave\, Schneider\, IN\, 46376\, United States
CATEGORIES:Events
ATTACH;FMTTYPE=image/jpeg:https://www.lowellpl.lib.in.us/wp-content/uploads/2025/01/snowballs-snow-Ya0YOlA-600.jpg
END:VEVENT
BEGIN:VEVENT
DTSTART;TZID=America/Chicago:20260225T173000
DTEND;TZID=America/Chicago:20260225T183000
DTSTAMP:20260422T100118
CREATED:20260119T174346Z
LAST-MODIFIED:20260119T174650Z
UID:10005102-1772040600-1772044200@www.lowellpl.lib.in.us
SUMMARY:Understanding Social Security (Lowell)
DESCRIPTION:Understanding Social Security \nPresented by Dave Ghormely\, CFA Senior Regional Consultant\, MFS \nHosted by Aaron Pollock of Edward Jones \n  \nPre-register
URL:https://www.lowellpl.lib.in.us/event/understanding-social-security-lowell/
LOCATION:Lowell Public Library\, 1505 E Commercial Ave\, Lowell\, IN\, 46356-2107\, United States
CATEGORIES:Events
ATTACH;FMTTYPE=image/jpeg:https://www.lowellpl.lib.in.us/wp-content/uploads/2026/01/social-security-scaled.jpg
END:VEVENT
END:VCALENDAR