BEGIN:VCALENDAR
VERSION:2.0
PRODID:-//Lowell Public Library - Lowell, IN - ECPv6.7.0//NONSGML v1.0//EN
CALSCALE:GREGORIAN
METHOD:PUBLISH
X-WR-CALNAME:Lowell Public Library - Lowell, IN
X-ORIGINAL-URL:https://www.lowellpl.lib.in.us
X-WR-CALDESC:Events for Lowell Public Library - Lowell, IN
REFRESH-INTERVAL;VALUE=DURATION:PT1H
X-Robots-Tag:noindex
X-PUBLISHED-TTL:PT1H
BEGIN:VTIMEZONE
TZID:America/Chicago
BEGIN:DAYLIGHT
TZOFFSETFROM:-0600
TZOFFSETTO:-0500
TZNAME:CDT
DTSTART:20260308T080000
END:DAYLIGHT
BEGIN:STANDARD
TZOFFSETFROM:-0500
TZOFFSETTO:-0600
TZNAME:CST
DTSTART:20261101T070000
END:STANDARD
END:VTIMEZONE
BEGIN:VEVENT
DTSTART;TZID=America/Chicago:20260309T130000
DTEND;TZID=America/Chicago:20260309T150000
DTSTAMP:20260422T040827
CREATED:20260204T194210Z
LAST-MODIFIED:20260204T194210Z
UID:10005106-1773061200-1773068400@www.lowellpl.lib.in.us
SUMMARY:Adult Book Club (Lowell)
DESCRIPTION:Read\, then meet to discuss James\, written by Percival Everett.
URL:https://www.lowellpl.lib.in.us/event/adult-book-club-lowell-2/
LOCATION:Lowell Public Library\, 1505 E Commercial Ave\, Lowell\, IN\, 46356-2107\, United States
CATEGORIES:Events
ATTACH;FMTTYPE=image/jpeg:https://www.lowellpl.lib.in.us/wp-content/uploads/2026/02/James.jpg
END:VEVENT
BEGIN:VEVENT
DTSTART;TZID=America/Chicago:20260309T160000
DTEND;TZID=America/Chicago:20260309T170000
DTSTAMP:20260422T040827
CREATED:20260212T201159Z
LAST-MODIFIED:20260226T211602Z
UID:10005144-1773072000-1773075600@www.lowellpl.lib.in.us
SUMMARY:Over 18 Game Day (Shelby)
DESCRIPTION:Get together to play cards or board games. \n 
URL:https://www.lowellpl.lib.in.us/event/over-18-game-day-shelby-9/2026-03-09/
LOCATION:Shelby Branch\, 23323 Shelby Rd\, Shelby\, IN\, 46377\, United States
CATEGORIES:Events
ATTACH;FMTTYPE=image/jpeg:https://www.lowellpl.lib.in.us/wp-content/uploads/2024/04/over-18-game-2.jpg
END:VEVENT
BEGIN:VEVENT
DTSTART;TZID=America/Chicago:20260309T160000
DTEND;TZID=America/Chicago:20260309T180000
DTSTAMP:20260422T040827
CREATED:20260210T162409Z
LAST-MODIFIED:20260214T164414Z
UID:10005127-1773072000-1773079200@www.lowellpl.lib.in.us
SUMMARY:Family Movie Night (Lowell)
DESCRIPTION:Monday\, March 9th  \n4 P.M.-6 P.M. \nWear your pajamas and bring something cozy to sit on. \nA snack and bottled water will be provided. Feel free to bring your own as well. \nRegistration required \nRegistration opens \nFebruary 16th \n 
URL:https://www.lowellpl.lib.in.us/event/family-movie-night-14/
LOCATION:Lowell Public Library\, 1505 E Commercial Ave\, Lowell\, IN\, 46356-2107\, United States
CATEGORIES:Events,Kids
ATTACH;FMTTYPE=image/webp:https://www.lowellpl.lib.in.us/wp-content/uploads/2026/02/Elio-March-9th.webp
END:VEVENT
BEGIN:VEVENT
DTSTART;TZID=America/Chicago:20260309T180000
DTEND;TZID=America/Chicago:20260309T190000
DTSTAMP:20260422T040827
CREATED:20260219T202329Z
LAST-MODIFIED:20260219T202329Z
UID:10005425-1773079200-1773082800@www.lowellpl.lib.in.us
SUMMARY:Adult Ceramics (Schneider)
DESCRIPTION:Paint some Peeps! Call for information and to register. \n 
URL:https://www.lowellpl.lib.in.us/event/adult-ceramics-schneider-4/
LOCATION:Schneider Branch Library\, 24002 Parrish Ave\, Schneider\, IN\, 46376\, United States
CATEGORIES:Events
ATTACH;FMTTYPE=image/jpeg:https://www.lowellpl.lib.in.us/wp-content/uploads/2025/02/ceramic-PEEPS.jpg
END:VEVENT
END:VCALENDAR