BEGIN:VCALENDAR
VERSION:2.0
PRODID:-//Lowell Public Library - Lowell, IN - ECPv6.7.0//NONSGML v1.0//EN
CALSCALE:GREGORIAN
METHOD:PUBLISH
X-WR-CALNAME:Lowell Public Library - Lowell, IN
X-ORIGINAL-URL:https://www.lowellpl.lib.in.us
X-WR-CALDESC:Events for Lowell Public Library - Lowell, IN
REFRESH-INTERVAL;VALUE=DURATION:PT1H
X-Robots-Tag:noindex
X-PUBLISHED-TTL:PT1H
BEGIN:VTIMEZONE
TZID:America/Chicago
BEGIN:DAYLIGHT
TZOFFSETFROM:-0600
TZOFFSETTO:-0500
TZNAME:CDT
DTSTART:20260308T080000
END:DAYLIGHT
BEGIN:STANDARD
TZOFFSETFROM:-0500
TZOFFSETTO:-0600
TZNAME:CST
DTSTART:20261101T070000
END:STANDARD
END:VTIMEZONE
BEGIN:VEVENT
DTSTART;TZID=America/Chicago:20260410T130000
DTEND;TZID=America/Chicago:20260410T140000
DTSTAMP:20260419T132355
CREATED:20260402T211417Z
LAST-MODIFIED:20260402T211417Z
UID:10005566-1775826000-1775829600@www.lowellpl.lib.in.us
SUMMARY:Healthy Eating  Made Simple (Lowell)
DESCRIPTION:Lake County residents only\n\nFree workshop includes:\nNutrition guidelines for the whole family\,  a healthy cooking demonstration\, tasty recipe samples\, and an easy way to incorporate more fruits and vegetables into your meals.\nAfter class\, visit the Health Clinic (in the same room) offering free blood pressure and glucose checks\, lead testing for children under 6\, TB testing\, and vaccines for all ages.\nPre-register at https://forms.office.com/r/FVXQZvgjaa.
URL:https://www.lowellpl.lib.in.us/event/healthy-eating-made-simple-lowell/
LOCATION:Lowell Public Library\, 1505 E Commercial Ave\, Lowell\, IN\, 46356-2107\, United States
CATEGORIES:Events
ATTACH;FMTTYPE=image/png:https://www.lowellpl.lib.in.us/wp-content/uploads/2026/04/Healthy-Eating-Made-Simple.png
END:VEVENT
BEGIN:VEVENT
DTSTART;TZID=America/Chicago:20260410T130000
DTEND;TZID=America/Chicago:20260410T160000
DTSTAMP:20260419T132355
CREATED:20260226T211003Z
LAST-MODIFIED:20260226T211014Z
UID:10005444-1775826000-1775836800@www.lowellpl.lib.in.us
SUMMARY:LC Health Dept. Vaccine Clinic (Lowell)
DESCRIPTION:Glucose and blood pressure testing and vaccines will be available. Call the Health Dept to register at 219-755-3658.
URL:https://www.lowellpl.lib.in.us/event/lc-health-dept-vaccine-clinic-lowell-3/
LOCATION:Lowell Public Library\, 1505 E Commercial Ave\, Lowell\, IN\, 46356-2107\, United States
CATEGORIES:Events
ATTACH;FMTTYPE=image/png:https://www.lowellpl.lib.in.us/wp-content/uploads/2024/06/vaccine-3.png
END:VEVENT
END:VCALENDAR