BEGIN:VCALENDAR
VERSION:2.0
PRODID:-//Lowell Public Library - Lowell, IN - ECPv6.7.0//NONSGML v1.0//EN
CALSCALE:GREGORIAN
METHOD:PUBLISH
X-WR-CALNAME:Lowell Public Library - Lowell, IN
X-ORIGINAL-URL:https://www.lowellpl.lib.in.us
X-WR-CALDESC:Events for Lowell Public Library - Lowell, IN
REFRESH-INTERVAL;VALUE=DURATION:PT1H
X-Robots-Tag:noindex
X-PUBLISHED-TTL:PT1H
BEGIN:VTIMEZONE
TZID:America/Chicago
BEGIN:DAYLIGHT
TZOFFSETFROM:-0600
TZOFFSETTO:-0500
TZNAME:CDT
DTSTART:20260308T080000
END:DAYLIGHT
BEGIN:STANDARD
TZOFFSETFROM:-0500
TZOFFSETTO:-0600
TZNAME:CST
DTSTART:20261101T070000
END:STANDARD
END:VTIMEZONE
BEGIN:VEVENT
DTSTART;TZID=America/Chicago:20260415T103000
DTEND;TZID=America/Chicago:20260415T110000
DTSTAMP:20260419T114113
CREATED:20260310T213340Z
LAST-MODIFIED:20260310T213340Z
UID:10005484-1776249000-1776250800@www.lowellpl.lib.in.us
SUMMARY:Storytime (Lowell)
DESCRIPTION:Join Miss Jackie for a few stories\, group activities or a simple craft! \n(Sometimes we get messy!) \nThis is a free program for children ages 5 years of age and younger to enjoy with a parent or guardian. \nStory time will last about 30-40 minutes. \nLimited space. \nRegistration is required \nPlease call or register online \nONLY 1 WEEK THIS MONTH \nTuesday\,April 14th \nWednesday\,April 15th \nOR \nThursday\,April 16th \n10:30 A.M \nPlease only choose a Tuesday\, Wednesday OR Thursday session \nREGISTRATION OPENS \nMARCH 23rd
URL:https://www.lowellpl.lib.in.us/event/storytime-lowell/
LOCATION:Lowell Public Library\, 1505 E Commercial Ave\, Lowell\, IN\, 46356-2107\, United States
CATEGORIES:Events,Kids
ATTACH;FMTTYPE=image/png:https://www.lowellpl.lib.in.us/wp-content/uploads/2026/02/storytime.png
END:VEVENT
BEGIN:VEVENT
DTSTART;TZID=America/Chicago:20260415T120000
DTEND;TZID=America/Chicago:20260415T150000
DTSTAMP:20260419T114113
CREATED:20260106T163522Z
LAST-MODIFIED:20260106T163522Z
UID:10005032-1776254400-1776265200@www.lowellpl.lib.in.us
SUMMARY:Adult Game Day (Lowell)
DESCRIPTION:Play card and board games. All adults are welcome to attend.  \n 
URL:https://www.lowellpl.lib.in.us/event/adult-game-day-lowell-2/2026-04-15/
LOCATION:IN
CATEGORIES:Events
ATTACH;FMTTYPE=image/jpeg:https://www.lowellpl.lib.in.us/wp-content/uploads/2025/12/Game-Day.jpg
END:VEVENT
BEGIN:VEVENT
DTSTART;TZID=America/Chicago:20260415T163000
DTEND;TZID=America/Chicago:20260415T173000
DTSTAMP:20260419T114113
CREATED:20260217T173958Z
LAST-MODIFIED:20260226T204659Z
UID:10005423-1776270600-1776274200@www.lowellpl.lib.in.us
SUMMARY:YA Chess / Checkers (Lowell)
DESCRIPTION:Young Adults (5th-12th grade students)\nAre you interested in playing Chess OR Checkers with others your age?  \nCome to our YA Checkers / Chess program on Wednesday\, APRIL 15\, from 4:30-5:30 at the Lowell Public Library. \nRegistration encouraged. \nThis will (hopefully) be a regular program on 1st & 3rd Wednesdays if there is enough participation. \n 
URL:https://www.lowellpl.lib.in.us/event/ya-chess-checkers-lowell-apr-15/
LOCATION:Lowell Public Library\, 1505 E Commercial Ave\, Lowell\, IN\, 46356-2107\, United States
CATEGORIES:Events,YA/Teen
ATTACH;FMTTYPE=image/png:https://www.lowellpl.lib.in.us/wp-content/uploads/2025/12/chess-checkers-image.png
END:VEVENT
BEGIN:VEVENT
DTSTART;TZID=America/Chicago:20260415T163000
DTEND;TZID=America/Chicago:20260415T173000
DTSTAMP:20260419T114113
CREATED:20260319T161358Z
LAST-MODIFIED:20260319T161704Z
UID:10005517-1776270600-1776274200@www.lowellpl.lib.in.us
SUMMARY:YA Game Day (Schneider)
DESCRIPTION:Play board games with your friends
URL:https://www.lowellpl.lib.in.us/event/ya-game-day-schneider-4/2026-04-15/
LOCATION:Schneider Branch Library\, 24002 Parrish Ave\, Schneider\, IN\, 46376\, United States
CATEGORIES:Events
ATTACH;FMTTYPE=image/jpeg:https://www.lowellpl.lib.in.us/wp-content/uploads/2026/02/game-day-colorful.jpg
END:VEVENT
BEGIN:VEVENT
DTSTART;TZID=America/Chicago:20260415T163000
DTEND;TZID=America/Chicago:20260415T173000
DTSTAMP:20260419T114113
CREATED:20260324T201202Z
LAST-MODIFIED:20260324T201842Z
UID:10005529-1776270600-1776274200@www.lowellpl.lib.in.us
SUMMARY:YA Craft (Shelby)
DESCRIPTION:Canvas painting
URL:https://www.lowellpl.lib.in.us/event/ya-craft-shelby-2/
LOCATION:Shelby Branch\, 23323 Shelby Rd\, Shelby\, IN\, 46377\, United States
CATEGORIES:Events
ATTACH;FMTTYPE=image/jpeg:https://www.lowellpl.lib.in.us/wp-content/uploads/2024/03/canvas-painting.jpg
END:VEVENT
END:VCALENDAR