BEGIN:VCALENDAR
VERSION:2.0
PRODID:-//Lowell Public Library - Lowell, IN - ECPv6.7.0//NONSGML v1.0//EN
CALSCALE:GREGORIAN
METHOD:PUBLISH
X-WR-CALNAME:Lowell Public Library - Lowell, IN
X-ORIGINAL-URL:https://www.lowellpl.lib.in.us
X-WR-CALDESC:Events for Lowell Public Library - Lowell, IN
REFRESH-INTERVAL;VALUE=DURATION:PT1H
X-Robots-Tag:noindex
X-PUBLISHED-TTL:PT1H
BEGIN:VTIMEZONE
TZID:America/Chicago
BEGIN:DAYLIGHT
TZOFFSETFROM:-0600
TZOFFSETTO:-0500
TZNAME:CDT
DTSTART:20260308T080000
END:DAYLIGHT
BEGIN:STANDARD
TZOFFSETFROM:-0500
TZOFFSETTO:-0600
TZNAME:CST
DTSTART:20261101T070000
END:STANDARD
END:VTIMEZONE
BEGIN:VEVENT
DTSTART;TZID=America/Chicago:20260416T090000
DTEND;TZID=America/Chicago:20260416T120000
DTSTAMP:20260419T132236
CREATED:20251209T161229Z
LAST-MODIFIED:20251209T192609Z
UID:10004958-1776330000-1776340800@www.lowellpl.lib.in.us
SUMMARY:Knit & Crochet (Lowell)
DESCRIPTION:Meet up to knit and crochet\, and share patterns and tips.
URL:https://www.lowellpl.lib.in.us/event/knit-crochet-33/2026-04-16/
LOCATION:Lowell Public Library\, 1505 E Commercial Ave\, Lowell\, IN\, 46356-2107\, United States
CATEGORIES:Events
ATTACH;FMTTYPE=image/jpeg:https://www.lowellpl.lib.in.us/wp-content/uploads/2022/01/crochet.jpg
END:VEVENT
BEGIN:VEVENT
DTSTART;TZID=America/Chicago:20260416T103000
DTEND;TZID=America/Chicago:20260416T110000
DTSTAMP:20260419T132236
CREATED:20260310T213555Z
LAST-MODIFIED:20260310T213555Z
UID:10005485-1776335400-1776337200@www.lowellpl.lib.in.us
SUMMARY:Storytime (Lowell)
DESCRIPTION:Join Miss Jackie for a few stories\, group activities or a simple craft! \n(Sometimes we get messy!) \nThis is a free program for children ages 5 years of age and younger to enjoy with a parent or guardian. \nStory time will last about 30-40 minutes. \nLimited space. \nRegistration is required \nPlease call or register online \nONLY 1 WEEK THIS MONTH \nTuesday\,April 14th \nWednesday\,April 15th \nOR \nThursday\,April 16th \n10:30 A.M \nPlease only choose a Tuesday\, Wednesday OR Thursday session \nREGISTRATION OPENS \nMARCH 23rd
URL:https://www.lowellpl.lib.in.us/event/storytime-lowell-2/
LOCATION:Lowell Public Library\, 1505 E Commercial Ave\, Lowell\, IN\, 46356-2107\, United States
CATEGORIES:Events,Kids
ATTACH;FMTTYPE=image/png:https://www.lowellpl.lib.in.us/wp-content/uploads/2026/02/storytime.png
END:VEVENT
BEGIN:VEVENT
DTSTART;TZID=America/Chicago:20260416T120000
DTEND;TZID=America/Chicago:20260416T150000
DTSTAMP:20260419T132236
CREATED:20260226T212157Z
LAST-MODIFIED:20260226T212157Z
UID:10005448-1776340800-1776351600@www.lowellpl.lib.in.us
SUMMARY:Adult Game Day (Lowell)
DESCRIPTION:Play card or board games. All adults are welcome to attend.
URL:https://www.lowellpl.lib.in.us/event/adult-game-day-lowell-3/
LOCATION:Lowell Public Library\, 1505 E Commercial Ave\, Lowell\, IN\, 46356-2107\, United States
CATEGORIES:Events
ATTACH;FMTTYPE=image/jpeg:https://www.lowellpl.lib.in.us/wp-content/uploads/2025/12/Game-Day.jpg
END:VEVENT
BEGIN:VEVENT
DTSTART;TZID=America/Chicago:20260416T160000
DTEND;TZID=America/Chicago:20260416T170000
DTSTAMP:20260419T132236
CREATED:20260311T193447Z
LAST-MODIFIED:20260311T193447Z
UID:10005494-1776355200-1776358800@www.lowellpl.lib.in.us
SUMMARY:Book Discussion (Shelby)
DESCRIPTION:Read\, then meet to discuss Echo Burning\, written by Lee Child.
URL:https://www.lowellpl.lib.in.us/event/book-discussion-shelby-2/
LOCATION:Shelby Branch\, 23323 Shelby Rd\, Shelby\, IN\, 46377\, United States
CATEGORIES:Events
ATTACH;FMTTYPE=image/jpeg:https://www.lowellpl.lib.in.us/wp-content/uploads/2026/03/echo-burning.jpg
END:VEVENT
BEGIN:VEVENT
DTSTART;TZID=America/Chicago:20260416T173000
DTEND;TZID=America/Chicago:20260416T190000
DTSTAMP:20260419T132236
CREATED:20260302T225436Z
LAST-MODIFIED:20260302T225436Z
UID:10005476-1776360600-1776366000@www.lowellpl.lib.in.us
SUMMARY:YA Book Bedazzle (Lowell)
DESCRIPTION:Bedazzle a YA Book! \nCome to the Lowell Public Library on Thursday\, April 16 at 5:30 to add some glam to your favorite book! You’re welcome to bring a book of your own\, if not\, we’ve got plenty here for you to pick from. We’ll essentially be doing diamond art on book covers.  \nWe will NOT be doing the entire cover\, but rather the title and an embellishment or 2. \nWater and snacks will be provided. \nThis is a free program for students in grades 5-12. Registration is required.
URL:https://www.lowellpl.lib.in.us/event/ya-book-bedazzle-lowell/
LOCATION:Lowell Public Library\, 1505 E Commercial Ave\, Lowell\, IN\, 46356-2107\, United States
CATEGORIES:Events,YA/Teen
ATTACH;FMTTYPE=image/png:https://www.lowellpl.lib.in.us/wp-content/uploads/2026/03/bedazzle4.png
END:VEVENT
END:VCALENDAR