BEGIN:VCALENDAR
VERSION:2.0
PRODID:-//Lowell Public Library - Lowell, IN - ECPv6.7.0//NONSGML v1.0//EN
CALSCALE:GREGORIAN
METHOD:PUBLISH
X-ORIGINAL-URL:https://www.lowellpl.lib.in.us
X-WR-CALDESC:Events for Lowell Public Library - Lowell, IN
REFRESH-INTERVAL;VALUE=DURATION:PT1H
X-Robots-Tag:noindex
X-PUBLISHED-TTL:PT1H
BEGIN:VTIMEZONE
TZID:America/Chicago
BEGIN:DAYLIGHT
TZOFFSETFROM:-0600
TZOFFSETTO:-0500
TZNAME:CDT
DTSTART:20260308T080000
END:DAYLIGHT
BEGIN:STANDARD
TZOFFSETFROM:-0500
TZOFFSETTO:-0600
TZNAME:CST
DTSTART:20261101T070000
END:STANDARD
END:VTIMEZONE
BEGIN:VEVENT
DTSTART;TZID=America/Chicago:20260429T090000
DTEND;TZID=America/Chicago:20260429T120000
DTSTAMP:20260419T114359
CREATED:20260227T223844Z
LAST-MODIFIED:20260302T220351Z
UID:10005471-1777453200-1777464000@www.lowellpl.lib.in.us
SUMMARY:Donations Accepted
DESCRIPTION:Spring symbolizes new beginnings. Embrace the changing season and make positive changes in your life. You will feel a weight lifted. It’s time for spring cleaning! Are you planning to declutter your home? We would love to take your donations! You can drop off items starting at 9:00 AM on \n\n\nSaturday\, April 18\, until noon on Wednesday\, April 29. Please note that drop-offs are not allowed after 7 PM from Monday to Thursday\, \n\n\nor after 4 PM on Fridays and Saturdays. We welcome items that are in good\, clean\, and working condition. Accepted items include crafts\, artwork\,  music\, toys and games\, baby and children’s clothing\, kitchen items\, seasonal decor\, office supplies\, and more! However\, we do not accept adult clothing\, cassette tapes\, sharp objects/knives\, large mirrors\, undergarments\, children’s furniture\, or strollers. \n\n\n\n  \nRummage Sale Dates: \nApril 30\, 9 AM-5 PM \n\n\nMay 1\, 9 AM-4 PM \n\n\nMay 2\, 9 AM-12 PM -$5 Bag Sale \n\n\n\n\n\nThis event is the Friends’ largest fundraiser of the year\, and with your support\, we hope to make it a great success. Please consider \n\n\ndonating to help keep Lowell Public Library programming the best it can be!
URL:https://www.lowellpl.lib.in.us/event/donations-accepted-2/2026-04-29/
LOCATION:Lowell Public Library\, 1505 E Commercial Ave\, Lowell\, IN\, 46356-2107\, United States
CATEGORIES:Events
ATTACH;FMTTYPE=image/jpeg:https://www.lowellpl.lib.in.us/wp-content/uploads/2022/03/donations-1.jpg
END:VEVENT
BEGIN:VEVENT
DTSTART;TZID=America/Chicago:20260429T163000
DTEND;TZID=America/Chicago:20260429T173000
DTSTAMP:20260419T114359
CREATED:20260319T161358Z
LAST-MODIFIED:20260319T161704Z
UID:10005518-1777480200-1777483800@www.lowellpl.lib.in.us
SUMMARY:YA Game Day (Schneider)
DESCRIPTION:Play board games with your friends
URL:https://www.lowellpl.lib.in.us/event/ya-game-day-schneider-4/2026-04-29/
LOCATION:Schneider Branch Library\, 24002 Parrish Ave\, Schneider\, IN\, 46376\, United States
CATEGORIES:Events
ATTACH;FMTTYPE=image/jpeg:https://www.lowellpl.lib.in.us/wp-content/uploads/2026/02/game-day-colorful.jpg
END:VEVENT
BEGIN:VEVENT
DTSTART;TZID=America/Chicago:20260429T163000
DTEND;TZID=America/Chicago:20260429T180000
DTSTAMP:20260419T114359
CREATED:20260311T201131Z
LAST-MODIFIED:20260311T201131Z
UID:10005503-1777480200-1777485600@www.lowellpl.lib.in.us
SUMMARY:YA/Teen Superhero Movie (Shelby)
DESCRIPTION:Watch a movie and have jelly beans. (National Jelly Bean Day is April 22.)
URL:https://www.lowellpl.lib.in.us/event/ya-teen-superhero-movie-shelby/
LOCATION:Shelby Branch\, 23323 Shelby Rd\, Shelby\, IN\, 46377\, United States
ATTACH;FMTTYPE=image/jpeg:https://www.lowellpl.lib.in.us/wp-content/uploads/2023/04/movie.jpg
END:VEVENT
END:VCALENDAR