BEGIN:VCALENDAR
VERSION:2.0
PRODID:-//Lowell Public Library - Lowell, IN - ECPv6.7.0//NONSGML v1.0//EN
CALSCALE:GREGORIAN
METHOD:PUBLISH
X-WR-CALNAME:Lowell Public Library - Lowell, IN
X-ORIGINAL-URL:https://www.lowellpl.lib.in.us
X-WR-CALDESC:Events for Lowell Public Library - Lowell, IN
REFRESH-INTERVAL;VALUE=DURATION:PT1H
X-Robots-Tag:noindex
X-PUBLISHED-TTL:PT1H
BEGIN:VTIMEZONE
TZID:America/Chicago
BEGIN:DAYLIGHT
TZOFFSETFROM:-0600
TZOFFSETTO:-0500
TZNAME:CDT
DTSTART:20260308T080000
END:DAYLIGHT
BEGIN:STANDARD
TZOFFSETFROM:-0500
TZOFFSETTO:-0600
TZNAME:CST
DTSTART:20261101T070000
END:STANDARD
END:VTIMEZONE
BEGIN:VEVENT
DTSTART;TZID=America/Chicago:20260430T090000
DTEND;TZID=America/Chicago:20260430T120000
DTSTAMP:20260419T132238
CREATED:20251209T161229Z
LAST-MODIFIED:20251209T192609Z
UID:10004960-1777539600-1777550400@www.lowellpl.lib.in.us
SUMMARY:Knit & Crochet (Lowell)
DESCRIPTION:Meet up to knit and crochet\, and share patterns and tips.
URL:https://www.lowellpl.lib.in.us/event/knit-crochet-33/2026-04-30/
LOCATION:Lowell Public Library\, 1505 E Commercial Ave\, Lowell\, IN\, 46356-2107\, United States
CATEGORIES:Events
ATTACH;FMTTYPE=image/jpeg:https://www.lowellpl.lib.in.us/wp-content/uploads/2022/01/crochet.jpg
END:VEVENT
BEGIN:VEVENT
DTSTART;TZID=America/Chicago:20260430T090000
DTEND;TZID=America/Chicago:20260430T170000
DTSTAMP:20260419T132238
CREATED:20260302T191349Z
LAST-MODIFIED:20260302T191523Z
UID:10005473-1777539600-1777568400@www.lowellpl.lib.in.us
SUMMARY:Rummage Sale (Lowell)
DESCRIPTION:Friends of the Library Rummage Sale \nThis event is the Friends’ largest fundraiser of the year\, and with your support\, we hope to make it a great success.  \nProceeds help to fund library programs for all ages at Lowell\, Shelby\, and Schneider libraries
URL:https://www.lowellpl.lib.in.us/event/friends-rummage-sale-3/
LOCATION:Lowell Public Library\, 1505 E Commercial Ave\, Lowell\, IN\, 46356-2107\, United States
CATEGORIES:Events
ATTACH;FMTTYPE=image/jpeg:https://www.lowellpl.lib.in.us/wp-content/uploads/2025/04/rummage-sale.jpg
END:VEVENT
END:VCALENDAR