BEGIN:VCALENDAR
VERSION:2.0
PRODID:-//Lowell Public Library - Lowell, IN - ECPv6.7.0//NONSGML v1.0//EN
CALSCALE:GREGORIAN
METHOD:PUBLISH
X-WR-CALNAME:Lowell Public Library - Lowell, IN
X-ORIGINAL-URL:https://www.lowellpl.lib.in.us
X-WR-CALDESC:Events for Lowell Public Library - Lowell, IN
REFRESH-INTERVAL;VALUE=DURATION:PT1H
X-Robots-Tag:noindex
X-PUBLISHED-TTL:PT1H
BEGIN:VTIMEZONE
TZID:America/Chicago
BEGIN:DAYLIGHT
TZOFFSETFROM:-0600
TZOFFSETTO:-0500
TZNAME:CDT
DTSTART:20260308T080000
END:DAYLIGHT
BEGIN:STANDARD
TZOFFSETFROM:-0500
TZOFFSETTO:-0600
TZNAME:CST
DTSTART:20261101T070000
END:STANDARD
END:VTIMEZONE
BEGIN:VEVENT
DTSTART;TZID=America/Chicago:20260502T090000
DTEND;TZID=America/Chicago:20260502T120000
DTSTAMP:20260419T114145
CREATED:20260302T191831Z
LAST-MODIFIED:20260302T192002Z
UID:10005475-1777712400-1777723200@www.lowellpl.lib.in.us
SUMMARY:Rummage Sale (Lowell)
DESCRIPTION:Friends of the Library Rummage Sale \nThis event is the Friends’ largest fundraiser of the year\, and with your support\, we hope to make it a great success.  \nProceeds help to fund library programs for all ages at Lowell\, Shelby\, and Schneider libraries. \nSaturday only- $5.00 a bag!
URL:https://www.lowellpl.lib.in.us/event/rummage-sale-lowell-2/
LOCATION:Lowell Public Library\, 1505 E Commercial Ave\, Lowell\, IN\, 46356-2107\, United States
CATEGORIES:Events
ATTACH;FMTTYPE=image/jpeg:https://www.lowellpl.lib.in.us/wp-content/uploads/2025/04/rummage-sale.jpg
END:VEVENT
BEGIN:VEVENT
DTSTART;TZID=America/Chicago:20260502T110000
DTEND;TZID=America/Chicago:20260502T120000
DTSTAMP:20260419T114145
CREATED:20260402T205559Z
LAST-MODIFIED:20260402T205559Z
UID:10005565-1777719600-1777723200@www.lowellpl.lib.in.us
SUMMARY:Cook the Book (Shelby)
DESCRIPTION:COOK THE BOOK \nEveryone chooses a brunch recipe from any Taste of Home Cookbook or a brunch recipe from the Taste of Home website. Then bring a copy of the recipe and the completed dish to share on May 2nd. Please call (219)552-0809 to register for this program. \n 
URL:https://www.lowellpl.lib.in.us/event/cook-the-book-shelby/
LOCATION:Shelby Branch\, 23323 Shelby Rd\, Shelby\, IN\, 46377\, United States
CATEGORIES:Events
ATTACH;FMTTYPE=image/jpeg:https://www.lowellpl.lib.in.us/wp-content/uploads/2026/04/taste-of-home-brunch-classics.jpg
END:VEVENT
END:VCALENDAR