BEGIN:VCALENDAR
VERSION:2.0
PRODID:-//Lowell Public Library - Lowell, IN - ECPv6.7.0//NONSGML v1.0//EN
CALSCALE:GREGORIAN
METHOD:PUBLISH
X-ORIGINAL-URL:https://www.lowellpl.lib.in.us
X-WR-CALDESC:Events for Lowell Public Library - Lowell, IN
REFRESH-INTERVAL;VALUE=DURATION:PT1H
X-Robots-Tag:noindex
X-PUBLISHED-TTL:PT1H
BEGIN:VTIMEZONE
TZID:America/Chicago
BEGIN:DAYLIGHT
TZOFFSETFROM:-0600
TZOFFSETTO:-0500
TZNAME:CDT
DTSTART:20260308T080000
END:DAYLIGHT
BEGIN:STANDARD
TZOFFSETFROM:-0500
TZOFFSETTO:-0600
TZNAME:CST
DTSTART:20261101T070000
END:STANDARD
END:VTIMEZONE
BEGIN:VEVENT
DTSTART;TZID=America/Chicago:20260507T090000
DTEND;TZID=America/Chicago:20260507T120000
DTSTAMP:20260419T130832
CREATED:20260408T192900Z
LAST-MODIFIED:20260408T192900Z
UID:10005570-1778144400-1778155200@www.lowellpl.lib.in.us
SUMMARY:Knit & Crochet (Lowell)
DESCRIPTION:Meet up to knit and crochet and share patterns and tips.
URL:https://www.lowellpl.lib.in.us/event/knit-crochet-lowell/2026-05-07/
LOCATION:Lowell Public Library\, 1505 E Commercial Ave\, Lowell\, IN\, 46356-2107\, United States
CATEGORIES:Events
ATTACH;FMTTYPE=image/jpeg:https://www.lowellpl.lib.in.us/wp-content/uploads/2022/01/crochet.jpg
END:VEVENT
BEGIN:VEVENT
DTSTART;TZID=America/Chicago:20260507T110000
DTEND;TZID=America/Chicago:20260507T120000
DTSTAMP:20260419T130832
CREATED:20260327T163020Z
LAST-MODIFIED:20260327T163020Z
UID:10005545-1778151600-1778155200@www.lowellpl.lib.in.us
SUMMARY:Senior Social Chair Yoga (Lowell)
DESCRIPTION:Chair yoga is a gentle\, accessible form of yoga that adapts traditional poses for a seated position or utilizes a chair for support during standing poses. Designed for all fitness levels—particularly seniors\, beginners\, or those with limited mobility—it focuses on improving flexibility\, strength\, circulation\, and reducing stress. \nLimit 20.  You MUST pre-register.
URL:https://www.lowellpl.lib.in.us/event/senior-social-chair-yoga-lowell/
LOCATION:Lowell Public Library\, 1505 E Commercial Ave\, Lowell\, IN\, 46356-2107\, United States
CATEGORIES:Events
ATTACH;FMTTYPE=image/jpeg:https://www.lowellpl.lib.in.us/wp-content/uploads/2026/03/chair-yoga.jpg
END:VEVENT
BEGIN:VEVENT
DTSTART;TZID=America/Chicago:20260507T173000
DTEND;TZID=America/Chicago:20260507T190000
DTSTAMP:20260419T130832
CREATED:20260327T163443Z
LAST-MODIFIED:20260327T163727Z
UID:10005547-1778175000-1778180400@www.lowellpl.lib.in.us
SUMMARY:Simple Stamping (Lowell)
DESCRIPTION:Make two cards with envelopes. A $7 fee\, payable at class\, will cover all materials. Limit 12. Pre-register.
URL:https://www.lowellpl.lib.in.us/event/simple-stamping-44/
LOCATION:Lowell Public Library\, 1505 E Commercial Ave\, Lowell\, IN\, 46356-2107\, United States
ATTACH;FMTTYPE=image/jpeg:https://www.lowellpl.lib.in.us/wp-content/uploads/2026/01/cardmaking-2.jpg
END:VEVENT
BEGIN:VEVENT
DTSTART;TZID=America/Chicago:20260507T173000
DTEND;TZID=America/Chicago:20260507T190000
DTSTAMP:20260419T130832
CREATED:20260415T212929Z
LAST-MODIFIED:20260416T181817Z
UID:10005615-1778175000-1778180400@www.lowellpl.lib.in.us
SUMMARY:YA Creative Art (Lowell)
DESCRIPTION:Demonstrate your artistic creativity on Thursday\, May 7th from 5:30 TO 7:00pm at the Lowell Public Library. \nThere will be blank canvas\, sketch paper\, paint\, colored pencils\, scissors\, chalk\, glue\, and other artsy tidbits for you to create a masterpiece! Just make sure to bring your creativity.  \nEnjoy some food from a nacho bar as you work on your creations. \nThis program is for 5th-12th grade. Registration is required.
URL:https://www.lowellpl.lib.in.us/event/ya-creative-art-lowell/
LOCATION:Lowell Public Library\, 1505 E Commercial Ave\, Lowell\, IN\, 46356-2107\, United States
CATEGORIES:Events,YA/Teen
ATTACH;FMTTYPE=image/jpeg:https://www.lowellpl.lib.in.us/wp-content/uploads/2025/04/paint-party.jpg
END:VEVENT
END:VCALENDAR