BEGIN:VCALENDAR
VERSION:2.0
PRODID:-//Lowell Public Library - Lowell, IN - ECPv6.7.0//NONSGML v1.0//EN
CALSCALE:GREGORIAN
METHOD:PUBLISH
X-ORIGINAL-URL:https://www.lowellpl.lib.in.us
X-WR-CALDESC:Events for Lowell Public Library - Lowell, IN
REFRESH-INTERVAL;VALUE=DURATION:PT1H
X-Robots-Tag:noindex
X-PUBLISHED-TTL:PT1H
BEGIN:VTIMEZONE
TZID:America/Chicago
BEGIN:DAYLIGHT
TZOFFSETFROM:-0600
TZOFFSETTO:-0500
TZNAME:CDT
DTSTART:20260308T080000
END:DAYLIGHT
BEGIN:STANDARD
TZOFFSETFROM:-0500
TZOFFSETTO:-0600
TZNAME:CST
DTSTART:20261101T070000
END:STANDARD
END:VTIMEZONE
BEGIN:VEVENT
DTSTART;TZID=America/Chicago:20260513T090000
DTEND;TZID=America/Chicago:20260513T200000
DTSTAMP:20260419T130928
CREATED:20260409T155002Z
LAST-MODIFIED:20260409T155547Z
UID:10005589-1778662800-1778702400@www.lowellpl.lib.in.us
SUMMARY:Student Art Exhibit (Lowell)
DESCRIPTION:45th ANNUAL STUDENT ART EXHIBIT \nThe Friends of the Lowell Library invite you to experience the creativity and imagination of \nelementary students from the Tri-Creek area . The library will host an art exhibition from May 11 to noon on May 15\, showcasing a variety of artwork created by these young artists in media such as acrylics\, 3D art\, watercolors\, chalk\, and computer graphics. \nStudents will receive certificates of achievement for their efforts\, which will be distributed the following week when their artwork is returned to their schools.
URL:https://www.lowellpl.lib.in.us/event/student-art-exhibit-lowell/2026-05-13/
LOCATION:Lowell Public Library\, 1505 E Commercial Ave\, Lowell\, IN\, 46356-2107\, United States
CATEGORIES:Events
ATTACH;FMTTYPE=image/jpeg:https://www.lowellpl.lib.in.us/wp-content/uploads/2022/04/art-exhibit2.jpg
END:VEVENT
BEGIN:VEVENT
DTSTART;TZID=America/Chicago:20260513T100000
DTEND;TZID=America/Chicago:20260513T120000
DTSTAMP:20260419T130928
CREATED:20260408T172645Z
LAST-MODIFIED:20260408T172645Z
UID:10005568-1778666400-1778673600@www.lowellpl.lib.in.us
SUMMARY:Tech Help Appointments (Lowell)
DESCRIPTION:Do you have a question about your phone\, tablet\, laptop\, or computer? Set up a 30-minute appointment with Amanda—she will try her best to help you find the answer! Half-hour sessions are available between 10am and Noon (keep scrolling to view all time slots). Registration required. \n  \n 
URL:https://www.lowellpl.lib.in.us/event/tech-help-appointments-lowell-6/
LOCATION:Lowell Public Library\, 1505 E Commercial Ave\, Lowell\, IN\, 46356-2107\, United States
CATEGORIES:Events
ATTACH;FMTTYPE=image/jpeg:https://www.lowellpl.lib.in.us/wp-content/uploads/2024/09/technology-Amanda.jpg
END:VEVENT
BEGIN:VEVENT
DTSTART;TZID=America/Chicago:20260513T180000
DTEND;TZID=America/Chicago:20260513T190000
DTSTAMP:20260419T130928
CREATED:20260409T154523Z
LAST-MODIFIED:20260409T154523Z
UID:10005586-1778695200-1778698800@www.lowellpl.lib.in.us
SUMMARY:Student Art Reception (Lowell)
DESCRIPTION:45th ANNUAL STUDENT ART EXHIBIT \nThe Friends of the Lowell Library invite you to experience the creativity and imagination of elementary students from the Tri-Creek area \nThe library will host an art exhibition from May 11 to May 15\, showcasing a variety of artwork created by these young artists in \nmedia such as acrylics\, 3D art\, watercolors\, chalk\, and computer graphics. \nA special reception will be held on Wednesday\, May 13\, at 6:00 PM to honor the young artists and their families. During the reception\, members of the Friends group will offer refreshments\, and children in grades K-4 who attend the event can participate in a drawing for a chance to win art supplies.
URL:https://www.lowellpl.lib.in.us/event/student-art-reception-lowell/
LOCATION:Lowell Public Library\, 1505 E Commercial Ave\, Lowell\, IN\, 46356-2107\, United States
CATEGORIES:Events
ATTACH;FMTTYPE=image/jpeg:https://www.lowellpl.lib.in.us/wp-content/uploads/2022/04/art-exhibit2.jpg
END:VEVENT
END:VCALENDAR