BEGIN:VCALENDAR
VERSION:2.0
PRODID:-//Lowell Public Library - Lowell, IN - ECPv6.7.0//NONSGML v1.0//EN
CALSCALE:GREGORIAN
METHOD:PUBLISH
X-WR-CALNAME:Lowell Public Library - Lowell, IN
X-ORIGINAL-URL:https://www.lowellpl.lib.in.us
X-WR-CALDESC:Events for Lowell Public Library - Lowell, IN
REFRESH-INTERVAL;VALUE=DURATION:PT1H
X-Robots-Tag:noindex
X-PUBLISHED-TTL:PT1H
BEGIN:VTIMEZONE
TZID:America/Chicago
BEGIN:DAYLIGHT
TZOFFSETFROM:-0600
TZOFFSETTO:-0500
TZNAME:CDT
DTSTART:20260308T080000
END:DAYLIGHT
BEGIN:STANDARD
TZOFFSETFROM:-0500
TZOFFSETTO:-0600
TZNAME:CST
DTSTART:20261101T070000
END:STANDARD
END:VTIMEZONE
BEGIN:VEVENT
DTSTART;TZID=America/Chicago:20260603T163000
DTEND;TZID=America/Chicago:20260603T173000
DTSTAMP:20260419T130404
CREATED:20260416T182307Z
LAST-MODIFIED:20260416T182307Z
UID:10005619-1780504200-1780507800@www.lowellpl.lib.in.us
SUMMARY:YA Chess / Checkers (Lowell)
DESCRIPTION:Young Adults (5th-12th grade students)\nAre you interested in playing Chess OR Checkers with others your age?  \nCome to our YA Checkers / Chess program on Wednesday\, June 3\, from 4:30-5:30 at the Lowell Public Library. \nRegistration encouraged. \nThis will (hopefully) be a regular program on 1st & 3rd Wednesdays if there is enough participation. \n 
URL:https://www.lowellpl.lib.in.us/event/ya-chess-checkers-lowell-3/
LOCATION:Lowell Public Library\, 1505 E Commercial Ave\, Lowell\, IN\, 46356-2107\, United States
CATEGORIES:Events,YA/Teen
ATTACH;FMTTYPE=image/png:https://www.lowellpl.lib.in.us/wp-content/uploads/2025/12/chess-checkers-image.png
END:VEVENT
BEGIN:VEVENT
DTSTART;TZID=America/Chicago:20260603T173000
DTEND;TZID=America/Chicago:20260603T190000
DTSTAMP:20260419T130404
CREATED:20260409T191633Z
LAST-MODIFIED:20260409T191633Z
UID:10005606-1780507800-1780513200@www.lowellpl.lib.in.us
SUMMARY:Friends of the Library Meet (Lowell)
DESCRIPTION:Attend our monthly meetings where we plan upcoming Friends events\, fundraisers\, and projects that support and improve the library. New friends welcome!
URL:https://www.lowellpl.lib.in.us/event/friends-of-the-library-meet-lowell-6/
LOCATION:Lowell Public Library\, 1505 E Commercial Ave\, Lowell\, IN\, 46356-2107\, United States
CATEGORIES:Events
ATTACH;FMTTYPE=image/jpeg:https://www.lowellpl.lib.in.us/wp-content/uploads/2023/08/friends-of-the-library.jpg
END:VEVENT
END:VCALENDAR