BEGIN:VCALENDAR
VERSION:2.0
PRODID:-//Lowell Public Library - Lowell, IN - ECPv6.7.0//NONSGML v1.0//EN
CALSCALE:GREGORIAN
METHOD:PUBLISH
X-WR-CALNAME:Lowell Public Library - Lowell, IN
X-ORIGINAL-URL:https://www.lowellpl.lib.in.us
X-WR-CALDESC:Events for Lowell Public Library - Lowell, IN
REFRESH-INTERVAL;VALUE=DURATION:PT1H
X-Robots-Tag:noindex
X-PUBLISHED-TTL:PT1H
BEGIN:VTIMEZONE
TZID:America/Chicago
BEGIN:DAYLIGHT
TZOFFSETFROM:-0600
TZOFFSETTO:-0500
TZNAME:CDT
DTSTART:20260308T080000
END:DAYLIGHT
BEGIN:STANDARD
TZOFFSETFROM:-0500
TZOFFSETTO:-0600
TZNAME:CST
DTSTART:20261101T070000
END:STANDARD
END:VTIMEZONE
BEGIN:VEVENT
DTSTART;TZID=America/Chicago:20260609T083000
DTEND;TZID=America/Chicago:20260609T200000
DTSTAMP:20260419T150344
CREATED:20260409T192310Z
LAST-MODIFIED:20260409T192310Z
UID:10005608-1780993800-1781035200@www.lowellpl.lib.in.us
SUMMARY:Book Fair (Lowell)
DESCRIPTION:Monday\, June 8 – Friday\, June 12 \nThe Friends of the Lowell Public Library will hold their annual summer Scholastic Book Fair June 8-12. Proceeds from the book fair are used to purchase books and prizes for library programs. \nShop online June 8-21 at \nhttps://www.scholastic.com/bf/lowellpubliclibrary. \nFamilies can choose from thousands of books\, and orders will ship directly to the home\, with free standard shipping on book-only purchases over $25.
URL:https://www.lowellpl.lib.in.us/event/book-fair-lowell/2026-06-09/
LOCATION:Lowell Public Library\, 1505 E Commercial Ave\, Lowell\, IN\, 46356-2107\, United States
CATEGORIES:Events
ATTACH;FMTTYPE=image/jpeg:https://www.lowellpl.lib.in.us/wp-content/uploads/2022/04/Book20Fair203.jpg
END:VEVENT
BEGIN:VEVENT
DTSTART;TZID=America/Chicago:20260609T103000
DTEND;TZID=America/Chicago:20260609T110000
DTSTAMP:20260419T150344
CREATED:20260324T143636Z
LAST-MODIFIED:20260327T154112Z
UID:10005526-1781001000-1781002800@www.lowellpl.lib.in.us
SUMMARY:T.P. roll dragon (Lowell)
DESCRIPTION:Join Miss Jackie to enjoy a fun story and make this cute fire breathing dragon! \nThis is a free program for children ages birth- 4th grade to enjoy with an adult. \n10:30 OR 1:30 \nRegistration is required. Space is limited. \nPlease sign up online or call \n#696-7704 \nREGISTRATION OPENS Monday\, June 1st
URL:https://www.lowellpl.lib.in.us/event/t-p-roll-dragon/
LOCATION:Lowell Public Library\, 1505 E Commercial Ave\, Lowell\, IN\, 46356-2107\, United States
CATEGORIES:Events,Kids
ATTACH;FMTTYPE=image/jpeg:https://www.lowellpl.lib.in.us/wp-content/uploads/2026/03/T.P-dragon.jpg
END:VEVENT
BEGIN:VEVENT
DTSTART;TZID=America/Chicago:20260609T133000
DTEND;TZID=America/Chicago:20260609T140000
DTSTAMP:20260419T150344
CREATED:20260324T144046Z
LAST-MODIFIED:20260327T154104Z
UID:10005527-1781011800-1781013600@www.lowellpl.lib.in.us
SUMMARY:T.P. roll dragon (Lowell)
DESCRIPTION:Join Miss Jackie to enjoy a fun story and make this cute fire breathing dragon! \nThis is a free program for children ages birth- 4th grade to enjoy with an adult. \n10:30 OR 1:30 \nRegistration is required. Space is limited. \nPlease sign up online or call \n#696-7704 \nREGISTRATION OPENS Monday\, June 1st
URL:https://www.lowellpl.lib.in.us/event/t-p-roll-dragon-2/
LOCATION:Lowell Public Library\, 1505 E Commercial Ave\, Lowell\, IN\, 46356-2107\, United States
CATEGORIES:Events,Kids
ATTACH;FMTTYPE=image/jpeg:https://www.lowellpl.lib.in.us/wp-content/uploads/2026/03/T.P-dragon.jpg
END:VEVENT
BEGIN:VEVENT
DTSTART;TZID=America/Chicago:20260609T160000
DTEND;TZID=America/Chicago:20260609T170000
DTSTAMP:20260419T150344
CREATED:20260325T150401Z
LAST-MODIFIED:20260327T193248Z
UID:10005533-1781020800-1781024400@www.lowellpl.lib.in.us
SUMMARY:Tales for Tails (Lowell)
DESCRIPTION:Tuesday’s 4-5 P.M \nJune 9th\, 16th\, 23rd\, 30th \nRead or just visit with a certified therapy dog \nJoin us on Tuesdays as we offer the opportunity for kids to read or just visit with therapy dogs. \nThis is a fun program\, where children get a chance to cozy up with a loveable pup and practice their reading skills. Kids can read to one of the therapy dogs for a few minutes or just visit with one. Some of these talented pups have pretty neat talents to share as well! Such a fun way to build confidence and increase the kids love of reading! \n**FOR AGES 6-12** \n*REGISTRATION IS REQUIRED* \nRegistration opens Monday\, June 1st  \n  \n 
URL:https://www.lowellpl.lib.in.us/event/tales-for-tails-102/
LOCATION:Lowell Public Library\, 1505 E Commercial Ave\, Lowell\, IN\, 46356-2107\, United States
CATEGORIES:Events,Kids
ATTACH;FMTTYPE=image/jpeg:https://www.lowellpl.lib.in.us/wp-content/uploads/2026/03/dog-reading.jpg
END:VEVENT
END:VCALENDAR