BEGIN:VCALENDAR
VERSION:2.0
PRODID:-//Lowell Public Library - Lowell, IN - ECPv6.7.0//NONSGML v1.0//EN
CALSCALE:GREGORIAN
METHOD:PUBLISH
X-ORIGINAL-URL:https://www.lowellpl.lib.in.us
X-WR-CALDESC:Events for Lowell Public Library - Lowell, IN
REFRESH-INTERVAL;VALUE=DURATION:PT1H
X-Robots-Tag:noindex
X-PUBLISHED-TTL:PT1H
BEGIN:VTIMEZONE
TZID:America/Chicago
BEGIN:DAYLIGHT
TZOFFSETFROM:-0600
TZOFFSETTO:-0500
TZNAME:CDT
DTSTART:20260308T080000
END:DAYLIGHT
BEGIN:STANDARD
TZOFFSETFROM:-0500
TZOFFSETTO:-0600
TZNAME:CST
DTSTART:20261101T070000
END:STANDARD
END:VTIMEZONE
BEGIN:VEVENT
DTSTART;TZID=America/Chicago:20260611T090000
DTEND;TZID=America/Chicago:20260611T120000
DTSTAMP:20260419T145911
CREATED:20260408T192900Z
LAST-MODIFIED:20260408T192900Z
UID:10005575-1781168400-1781179200@www.lowellpl.lib.in.us
SUMMARY:Knit & Crochet (Lowell)
DESCRIPTION:Meet up to knit and crochet and share patterns and tips.
URL:https://www.lowellpl.lib.in.us/event/knit-crochet-lowell/2026-06-11/
LOCATION:Lowell Public Library\, 1505 E Commercial Ave\, Lowell\, IN\, 46356-2107\, United States
CATEGORIES:Events
ATTACH;FMTTYPE=image/jpeg:https://www.lowellpl.lib.in.us/wp-content/uploads/2022/01/crochet.jpg
END:VEVENT
BEGIN:VEVENT
DTSTART;TZID=America/Chicago:20260611T090000
DTEND;TZID=America/Chicago:20260611T200000
DTSTAMP:20260419T145911
CREATED:20260409T192310Z
LAST-MODIFIED:20260409T192310Z
UID:10005610-1781168400-1781208000@www.lowellpl.lib.in.us
SUMMARY:Book Fair (Lowell)
DESCRIPTION:Monday\, June 8 – Friday\, June 12 \nThe Friends of the Lowell Public Library will hold their annual summer Scholastic Book Fair June 8-12. Proceeds from the book fair are used to purchase books and prizes for library programs. \nShop online June 8-21 at \nhttps://www.scholastic.com/bf/lowellpubliclibrary. \nFamilies can choose from thousands of books\, and orders will ship directly to the home\, with free standard shipping on book-only purchases over $25.
URL:https://www.lowellpl.lib.in.us/event/book-fair-lowell/2026-06-11/
LOCATION:Lowell Public Library\, 1505 E Commercial Ave\, Lowell\, IN\, 46356-2107\, United States
CATEGORIES:Events
ATTACH;FMTTYPE=image/jpeg:https://www.lowellpl.lib.in.us/wp-content/uploads/2022/04/Book20Fair203.jpg
END:VEVENT
BEGIN:VEVENT
DTSTART;TZID=America/Chicago:20260611T103000
DTEND;TZID=America/Chicago:20260611T110000
DTSTAMP:20260419T145911
CREATED:20260325T144237Z
LAST-MODIFIED:20260327T154023Z
UID:10005531-1781173800-1781175600@www.lowellpl.lib.in.us
SUMMARY:Dragon Egg (Lowell)
DESCRIPTION:10:30 A.M OR 1:30 P.M \nJoin Miss Jackie for a story and make your own special dragon egg! \nThis is a free program for children ages birth-4th grade to enjoy with an adult. \nRegistration is required. Space is limited! \nRegister online or call #696-7704 \nREGISTRATION OPENS Monday\, June 1st \n 
URL:https://www.lowellpl.lib.in.us/event/dragon-egg/
LOCATION:Lowell Public Library\, 1505 E Commercial Ave\, Lowell\, IN\, 46356-2107\, United States
CATEGORIES:Events,Kids
ATTACH;FMTTYPE=image/webp:https://www.lowellpl.lib.in.us/wp-content/uploads/2026/03/dragon-egg-craft.webp
END:VEVENT
BEGIN:VEVENT
DTSTART;TZID=America/Chicago:20260611T133000
DTEND;TZID=America/Chicago:20260611T140000
DTSTAMP:20260419T145911
CREATED:20260325T144422Z
LAST-MODIFIED:20260327T153956Z
UID:10005532-1781184600-1781186400@www.lowellpl.lib.in.us
SUMMARY:Dragon egg (Lowell)
DESCRIPTION:10:30 A.M OR 1:30 P.M \nJoin Miss Jackie for a story and make your own special dragon egg! \nThis is a free program for children ages birth-4th grade to enjoy with an adult. \nRegistration is required. Space is limited! \nRegister online or call #696-7704 \nREGISTRATION OPENS Monday\, June 1st \n 
URL:https://www.lowellpl.lib.in.us/event/dragon-egg-2/
LOCATION:Lowell Public Library\, 1505 E Commercial Ave\, Lowell\, IN\, 46356-2107\, United States
CATEGORIES:Events,Kids
ATTACH;FMTTYPE=image/webp:https://www.lowellpl.lib.in.us/wp-content/uploads/2026/03/dragon-egg-craft.webp
END:VEVENT
END:VCALENDAR