BEGIN:VCALENDAR
VERSION:2.0
PRODID:-//Lowell Public Library - Lowell, IN - ECPv6.7.0//NONSGML v1.0//EN
CALSCALE:GREGORIAN
METHOD:PUBLISH
X-WR-CALNAME:Lowell Public Library - Lowell, IN
X-ORIGINAL-URL:https://www.lowellpl.lib.in.us
X-WR-CALDESC:Events for Lowell Public Library - Lowell, IN
REFRESH-INTERVAL;VALUE=DURATION:PT1H
X-Robots-Tag:noindex
X-PUBLISHED-TTL:PT1H
BEGIN:VTIMEZONE
TZID:America/Chicago
BEGIN:DAYLIGHT
TZOFFSETFROM:-0600
TZOFFSETTO:-0500
TZNAME:CDT
DTSTART:20260308T080000
END:DAYLIGHT
BEGIN:STANDARD
TZOFFSETFROM:-0500
TZOFFSETTO:-0600
TZNAME:CST
DTSTART:20261101T070000
END:STANDARD
END:VTIMEZONE
BEGIN:VEVENT
DTSTART;TZID=America/Chicago:20260616T100000
DTEND;TZID=America/Chicago:20260616T113000
DTSTAMP:20260419T144647
CREATED:20260106T162446Z
LAST-MODIFIED:20260106T162446Z
UID:10005023-1781604000-1781609400@www.lowellpl.lib.in.us
SUMMARY:Adult Coloring (Lowell)
DESCRIPTION:Join in on the fun!  Coloring helps us de-stress and stimulates brain areas related to motor skills. All supplies will be provided or you may bring your own. \n 
URL:https://www.lowellpl.lib.in.us/event/adult-coloring-lowell/2026-06-16/
LOCATION:Lowell Public Library\, 1505 E Commercial Ave\, Lowell\, IN\, 46356-2107\, United States
CATEGORIES:Events
ATTACH;FMTTYPE=image/jpeg:https://www.lowellpl.lib.in.us/wp-content/uploads/2022/01/coloring.jpg
END:VEVENT
BEGIN:VEVENT
DTSTART;TZID=America/Chicago:20260616T103000
DTEND;TZID=America/Chicago:20260616T110000
DTSTAMP:20260419T144647
CREATED:20260327T152918Z
LAST-MODIFIED:20260327T153924Z
UID:10005534-1781605800-1781607600@www.lowellpl.lib.in.us
SUMMARY:Craft stick fairy door (Lowell)
DESCRIPTION:10:30 OR 1:30 \nJoin Miss Jackie for a story and make a fairy door! \nThis is a free program for children ages birth-4th grade to enjoy with an adult. \nPre-registration is required. Limited space. \nPlease register online or call #696-7704 \nREGISTRATION OPENS MONDAY\, JUNE 8TH \n 
URL:https://www.lowellpl.lib.in.us/event/craft-stick-fairy-door/
LOCATION:Lowell Public Library\, 1505 E Commercial Ave\, Lowell\, IN\, 46356-2107\, United States
CATEGORIES:Events,Kids
ATTACH;FMTTYPE=image/jpeg:https://www.lowellpl.lib.in.us/wp-content/uploads/2026/03/fairy-door.jpg
END:VEVENT
BEGIN:VEVENT
DTSTART;TZID=America/Chicago:20260616T133000
DTEND;TZID=America/Chicago:20260616T140000
DTSTAMP:20260419T144647
CREATED:20260327T153138Z
LAST-MODIFIED:20260327T153852Z
UID:10005535-1781616600-1781618400@www.lowellpl.lib.in.us
SUMMARY:Craft stick fairy door (Lowell)
DESCRIPTION:10:30 OR 1:30 \nJoin Miss Jackie for a story and make a fairy door! \nThis is a free program for children ages birth-4th grade to enjoy with an adult. \nPre-registration is required. Limited space. \nPlease register online or call #696-7704 \nREGISTRATION OPENS MONDAY\, JUNE 8TH
URL:https://www.lowellpl.lib.in.us/event/craft-stick-fairy-door-2/
LOCATION:Lowell Public Library\, 1505 E Commercial Ave\, Lowell\, IN\, 46356-2107\, United States
CATEGORIES:Events,Kids
ATTACH;FMTTYPE=image/jpeg:https://www.lowellpl.lib.in.us/wp-content/uploads/2026/03/fairy-door.jpg
END:VEVENT
BEGIN:VEVENT
DTSTART;TZID=America/Chicago:20260616T160000
DTEND;TZID=America/Chicago:20260616T170000
DTSTAMP:20260419T144647
CREATED:20260327T153746Z
LAST-MODIFIED:20260327T193151Z
UID:10005536-1781625600-1781629200@www.lowellpl.lib.in.us
SUMMARY:Tales for Tails (Lowell)
DESCRIPTION:4-5 P.M \nRead or just visit with a certified therapy dog. \nJoin us on Tuesdays as we offer the opportunity for kids to read or just visit with therapy dogs. \nThis is a fun program\, where children get a chance to cozy up with a loveable pup and practice their reading skills. Kids can read to one of the therapy dogs for a few minutes or just visit with one. Some of these pups have pretty neat talents to share as well! Such a fun way to build confidence and increase the kids love of reading! \n**For ages 6 yrs-12 yrs** \n*REGISTRATION IS REQUIRED* \nRegistration opens Monday\, June 8th
URL:https://www.lowellpl.lib.in.us/event/tales-for-tails-lowell-17/
LOCATION:Lowell Public Library\, 1505 E Commercial Ave\, Lowell\, IN\, 46356-2107\, United States
CATEGORIES:Events,Kids
ATTACH;FMTTYPE=image/jpeg:https://www.lowellpl.lib.in.us/wp-content/uploads/2026/03/dog-reading.jpg
END:VEVENT
BEGIN:VEVENT
DTSTART;TZID=America/Chicago:20260616T180000
DTEND;TZID=America/Chicago:20260616T190000
DTSTAMP:20260419T144647
CREATED:20260409T190634Z
LAST-MODIFIED:20260409T190634Z
UID:10005604-1781632800-1781636400@www.lowellpl.lib.in.us
SUMMARY:Library Board Meets (Schneider)
DESCRIPTION:The regular meeting of the Lowell Public Library Board of Trustees will be held at the SCHNEIDER Branch.
URL:https://www.lowellpl.lib.in.us/event/library-board-meets-schneider/
LOCATION:Schneider Branch Library\, 24002 Parrish Ave\, Schneider\, IN\, 46376\, United States
CATEGORIES:Events
ATTACH;FMTTYPE=image/jpeg:https://www.lowellpl.lib.in.us/wp-content/uploads/2022/01/board-meeting-3.jpg
END:VEVENT
END:VCALENDAR