BEGIN:VCALENDAR
VERSION:2.0
PRODID:-//Lowell Public Library - Lowell, IN - ECPv6.7.0//NONSGML v1.0//EN
CALSCALE:GREGORIAN
METHOD:PUBLISH
X-ORIGINAL-URL:https://www.lowellpl.lib.in.us
X-WR-CALDESC:Events for Lowell Public Library - Lowell, IN
REFRESH-INTERVAL;VALUE=DURATION:PT1H
X-Robots-Tag:noindex
X-PUBLISHED-TTL:PT1H
BEGIN:VTIMEZONE
TZID:America/Chicago
BEGIN:DAYLIGHT
TZOFFSETFROM:-0600
TZOFFSETTO:-0500
TZNAME:CDT
DTSTART:20260308T080000
END:DAYLIGHT
BEGIN:STANDARD
TZOFFSETFROM:-0500
TZOFFSETTO:-0600
TZNAME:CST
DTSTART:20261101T070000
END:STANDARD
END:VTIMEZONE
BEGIN:VEVENT
DTSTART;TZID=America/Chicago:20260625T090000
DTEND;TZID=America/Chicago:20260625T120000
DTSTAMP:20260419T144841
CREATED:20260408T192900Z
LAST-MODIFIED:20260408T192900Z
UID:10005577-1782378000-1782388800@www.lowellpl.lib.in.us
SUMMARY:Knit & Crochet (Lowell)
DESCRIPTION:Meet up to knit and crochet and share patterns and tips.
URL:https://www.lowellpl.lib.in.us/event/knit-crochet-lowell/2026-06-25/
LOCATION:Lowell Public Library\, 1505 E Commercial Ave\, Lowell\, IN\, 46356-2107\, United States
CATEGORIES:Events
ATTACH;FMTTYPE=image/jpeg:https://www.lowellpl.lib.in.us/wp-content/uploads/2022/01/crochet.jpg
END:VEVENT
BEGIN:VEVENT
DTSTART;TZID=America/Chicago:20260625T103000
DTEND;TZID=America/Chicago:20260625T110000
DTSTAMP:20260419T144841
CREATED:20260327T161945Z
LAST-MODIFIED:20260327T161945Z
UID:10005542-1782383400-1782385200@www.lowellpl.lib.in.us
SUMMARY:Crafty crowns (Lowell)
DESCRIPTION:10:30 OR 1:30 \nJoin Miss Jackie for a story and make your very own crown! \nThis is a free program for children ages birth-4th grade to enjoy with an adult. \nRegistration is required. Space is limited. \nREGISRATION OPENS MODAY\, JUNE 15TH
URL:https://www.lowellpl.lib.in.us/event/crafty-crowns-lowell/
LOCATION:Lowell Public Library\, 1505 E Commercial Ave\, Lowell\, IN\, 46356-2107\, United States
CATEGORIES:Events,Kids
ATTACH;FMTTYPE=image/jpeg:https://www.lowellpl.lib.in.us/wp-content/uploads/2026/03/paper-crown.jpg
END:VEVENT
BEGIN:VEVENT
DTSTART;TZID=America/Chicago:20260625T133000
DTEND;TZID=America/Chicago:20260625T140000
DTSTAMP:20260419T144841
CREATED:20260327T162132Z
LAST-MODIFIED:20260327T162132Z
UID:10005543-1782394200-1782396000@www.lowellpl.lib.in.us
SUMMARY:Crafty Crowns (Lowell)
DESCRIPTION:10:30 OR 1:30 \nJoin Miss Jackie for a story and make your very own crown! \nThis is a free program for children ages birth-4th grade to enjoy with an adult. \nRegistration is required. Space is limited. \nREGISRATION OPENS MODAY\, JUNE 15TH
URL:https://www.lowellpl.lib.in.us/event/crafty-crowns-lowell-2/
LOCATION:Lowell Public Library\, 1505 E Commercial Ave\, Lowell\, IN\, 46356-2107\, United States
CATEGORIES:Events,Kids
ATTACH;FMTTYPE=image/jpeg:https://www.lowellpl.lib.in.us/wp-content/uploads/2026/03/paper-crown.jpg
END:VEVENT
END:VCALENDAR