BEGIN:VCALENDAR
VERSION:2.0
PRODID:-//Lowell Public Library - Lowell, IN - ECPv6.7.0//NONSGML v1.0//EN
CALSCALE:GREGORIAN
METHOD:PUBLISH
X-WR-CALNAME:Lowell Public Library - Lowell, IN
X-ORIGINAL-URL:https://www.lowellpl.lib.in.us
X-WR-CALDESC:Events for Lowell Public Library - Lowell, IN
REFRESH-INTERVAL;VALUE=DURATION:PT1H
X-Robots-Tag:noindex
X-PUBLISHED-TTL:PT1H
BEGIN:VTIMEZONE
TZID:America/Chicago
BEGIN:DAYLIGHT
TZOFFSETFROM:-0600
TZOFFSETTO:-0500
TZNAME:CDT
DTSTART:20260308T080000
END:DAYLIGHT
BEGIN:STANDARD
TZOFFSETFROM:-0500
TZOFFSETTO:-0600
TZNAME:CST
DTSTART:20261101T070000
END:STANDARD
END:VTIMEZONE
BEGIN:VEVENT
DTSTART;TZID=America/Chicago:20260630T103000
DTEND;TZID=America/Chicago:20260630T110000
DTSTAMP:20260419T144650
CREATED:20260327T163000Z
LAST-MODIFIED:20260327T163033Z
UID:10005544-1782815400-1782817200@www.lowellpl.lib.in.us
SUMMARY:Nature walk and sidewalk chalk! (Lowell)
DESCRIPTION:10:30 OR 1:30 \nJoin Miss Jackie to enjoy our nature trail and help make our sidewalks more colorful after the nature hike! \nThis is a free program for children ages birth- 4th grade to enjoy with an adult. \nPre-registration is required. Space is limited. \nPlease sign up online or call #696-7704 \nREGISTRATION OPENS MONDAY\, JUNE 22ND \n 
URL:https://www.lowellpl.lib.in.us/event/nature-walk-and-sidewalk-chalk/
LOCATION:Lowell Public Library\, 1505 E Commercial Ave\, Lowell\, IN\, 46356-2107\, United States
CATEGORIES:Events,Kids
ATTACH;FMTTYPE=image/webp:https://www.lowellpl.lib.in.us/wp-content/uploads/2026/03/sidewalk-chalk.webp
END:VEVENT
BEGIN:VEVENT
DTSTART;TZID=America/Chicago:20260630T133000
DTEND;TZID=America/Chicago:20260630T140000
DTSTAMP:20260419T144650
CREATED:20260327T163417Z
LAST-MODIFIED:20260327T163417Z
UID:10005546-1782826200-1782828000@www.lowellpl.lib.in.us
SUMMARY:Nature walk and sidewalk chalk (Lowell)
DESCRIPTION:10:30 OR 1:30 \nJoin Miss Jackie to enjoy our nature trail and help make our sidewalks more colorful after the nature hike! \nThis is a free program for children ages birth- 4th grade to enjoy with an adult. \nPre-registration is required. Space is limited. \nPlease sign up online or call #696-7704 \nREGISTRATION OPENS MONDAY\, JUNE 22ND
URL:https://www.lowellpl.lib.in.us/event/nature-walk-and-sidewalk-chalk-lowell/
LOCATION:Lowell Public Library\, 1505 E Commercial Ave\, Lowell\, IN\, 46356-2107\, United States
CATEGORIES:Events,Kids
ATTACH;FMTTYPE=image/webp:https://www.lowellpl.lib.in.us/wp-content/uploads/2026/03/sidewalk-chalk.webp
END:VEVENT
BEGIN:VEVENT
DTSTART;TZID=America/Chicago:20260630T160000
DTEND;TZID=America/Chicago:20260630T170000
DTSTAMP:20260419T144650
CREATED:20260327T163850Z
LAST-MODIFIED:20260327T193042Z
UID:10005548-1782835200-1782838800@www.lowellpl.lib.in.us
SUMMARY:Tales for Tails (Lowell)
DESCRIPTION:4-5 P.M \nRead or just visit with a certified therapy dog. \nJoin us on Tuesdays as we offer the opportunity for kids to read or just visit with therapy dogs. \nThis is a fun program\, where children get a chance to cozy up with a loveable pup and practice their reading skills. Kids can read to one of the therapy dogs for a few minutes or just visit with one. Some of these pups have pretty neat talents to share as well! Such a fun way to build confidence\, and increase the kids love of reading! \n**For ages 6 yrs-12 yrs** \n*REGISTRATION IS REQUIRED* \nRegistration opens Monday\, June 22nd
URL:https://www.lowellpl.lib.in.us/event/tales-for-tails-lowell-19/
LOCATION:Lowell Public Library\, 1505 E Commercial Ave\, Lowell\, IN\, 46356-2107\, United States
CATEGORIES:Events,Kids
ATTACH;FMTTYPE=image/jpeg:https://www.lowellpl.lib.in.us/wp-content/uploads/2026/03/dog-reading.jpg
END:VEVENT
END:VCALENDAR