BEGIN:VCALENDAR
VERSION:2.0
PRODID:-//Lowell Public Library - Lowell, IN - ECPv6.7.0//NONSGML v1.0//EN
CALSCALE:GREGORIAN
METHOD:PUBLISH
X-ORIGINAL-URL:https://www.lowellpl.lib.in.us
X-WR-CALDESC:Events for Lowell Public Library - Lowell, IN
REFRESH-INTERVAL;VALUE=DURATION:PT1H
X-Robots-Tag:noindex
X-PUBLISHED-TTL:PT1H
BEGIN:VTIMEZONE
TZID:America/Chicago
BEGIN:DAYLIGHT
TZOFFSETFROM:-0600
TZOFFSETTO:-0500
TZNAME:CDT
DTSTART:20260308T080000
END:DAYLIGHT
BEGIN:STANDARD
TZOFFSETFROM:-0500
TZOFFSETTO:-0600
TZNAME:CST
DTSTART:20261101T070000
END:STANDARD
END:VTIMEZONE
BEGIN:VEVENT
DTSTART;TZID=America/Chicago:20260702T090000
DTEND;TZID=America/Chicago:20260702T120000
DTSTAMP:20260419T150520
CREATED:20260408T192900Z
LAST-MODIFIED:20260408T192900Z
UID:10005578-1782982800-1782993600@www.lowellpl.lib.in.us
SUMMARY:Knit & Crochet (Lowell)
DESCRIPTION:Meet up to knit and crochet and share patterns and tips.
URL:https://www.lowellpl.lib.in.us/event/knit-crochet-lowell/2026-07-02/
LOCATION:Lowell Public Library\, 1505 E Commercial Ave\, Lowell\, IN\, 46356-2107\, United States
CATEGORIES:Events
ATTACH;FMTTYPE=image/jpeg:https://www.lowellpl.lib.in.us/wp-content/uploads/2022/01/crochet.jpg
END:VEVENT
BEGIN:VEVENT
DTSTART;TZID=America/Chicago:20260702T103000
DTEND;TZID=America/Chicago:20260702T110000
DTSTAMP:20260419T150520
CREATED:20260327T170245Z
LAST-MODIFIED:20260327T170245Z
UID:10005549-1782988200-1782990000@www.lowellpl.lib.in.us
SUMMARY:BINGO! (Lowell)
DESCRIPTION:10:30 OR 1:30 \nJoin Miss Jackie to play some BINGO and win some prizes! \nThis is a free program for children ages birth-4th grade to enjoy with an adult. \nRegistration is required. Space is limited. \nPlease sign up online or call #696-7704 \nREGISTRATION OPENS MONDAY\, JUNE 22ND
URL:https://www.lowellpl.lib.in.us/event/bingo-lowell/
LOCATION:Lowell Public Library\, 1505 E Commercial Ave\, Lowell\, IN\, 46356-2107\, United States
CATEGORIES:Events,Kids
ATTACH;FMTTYPE=image/jpeg:https://www.lowellpl.lib.in.us/wp-content/uploads/2026/03/bingo.jpg
END:VEVENT
BEGIN:VEVENT
DTSTART;TZID=America/Chicago:20260702T133000
DTEND;TZID=America/Chicago:20260702T140000
DTSTAMP:20260419T150520
CREATED:20260327T170517Z
LAST-MODIFIED:20260327T170517Z
UID:10005550-1782999000-1783000800@www.lowellpl.lib.in.us
SUMMARY:BINGO! (Lowell)
DESCRIPTION:10:30 OR 1:30 \nJoin Miss Jackie to play some BINGO and win some prizes! \nThis is a free program for children ages birth-4th grade to enjoy with an adult. \nRegistration is required. Space is limited. \nPlease sign up online or call #696-7704 \nREGISTRATION OPENS MONDAY\, JUNE 22ND
URL:https://www.lowellpl.lib.in.us/event/bingo-lowell-2/
LOCATION:Lowell Public Library\, 1505 E Commercial Ave\, Lowell\, IN\, 46356-2107\, United States
CATEGORIES:Events,Kids
ATTACH;FMTTYPE=image/jpeg:https://www.lowellpl.lib.in.us/wp-content/uploads/2026/03/bingo.jpg
END:VEVENT
END:VCALENDAR