BEGIN:VCALENDAR
VERSION:2.0
PRODID:-//Lowell Public Library - Lowell, IN - ECPv6.7.0//NONSGML v1.0//EN
CALSCALE:GREGORIAN
METHOD:PUBLISH
X-WR-CALNAME:Lowell Public Library - Lowell, IN
X-ORIGINAL-URL:https://www.lowellpl.lib.in.us
X-WR-CALDESC:Events for Lowell Public Library - Lowell, IN
REFRESH-INTERVAL;VALUE=DURATION:PT1H
X-Robots-Tag:noindex
X-PUBLISHED-TTL:PT1H
BEGIN:VTIMEZONE
TZID:America/Chicago
BEGIN:DAYLIGHT
TZOFFSETFROM:-0600
TZOFFSETTO:-0500
TZNAME:CDT
DTSTART:20260308T080000
END:DAYLIGHT
BEGIN:STANDARD
TZOFFSETFROM:-0500
TZOFFSETTO:-0600
TZNAME:CST
DTSTART:20261101T070000
END:STANDARD
END:VTIMEZONE
BEGIN:VEVENT
DTSTART;TZID=America/Chicago:20260714T103000
DTEND;TZID=America/Chicago:20260714T110000
DTSTAMP:20260419T191443
CREATED:20260327T175055Z
LAST-MODIFIED:20260327T175055Z
UID:10005556-1784025000-1784026800@www.lowellpl.lib.in.us
SUMMARY:Stuffy sleepover and picnic! (Lowell)
DESCRIPTION:10:30 OR 1:30 \nBring a stuffed animal and a picnic lunch to the library! We will enjoy a picnic and a story with our stuffies before we make them their very own nametag. They will stay overnight at the library and have a fun sleepover with their stuffy friends! You can pick up your stuffed animal at the library the next day. We will post any pictures we get on the library Facebook page. Wonder what kind of mischief they will get into?? \nThis is a free program for children ages birth- 4th grade to enjoy with an adult. \nRegistration is required. Space is limited. \nPlease sign up online or call #696-7704 \nREGISTRATION OPENS MONDAY\, JULY 6TH
URL:https://www.lowellpl.lib.in.us/event/stuffy-sleepover-and-picnic-lowell/
LOCATION:Lowell Public Library\, 1505 E Commercial Ave\, Lowell\, IN\, 46356-2107\, United States
CATEGORIES:Events,Kids
ATTACH;FMTTYPE=image/png:https://www.lowellpl.lib.in.us/wp-content/uploads/2026/03/stuffy-sleepover-.png
END:VEVENT
BEGIN:VEVENT
DTSTART;TZID=America/Chicago:20260714T133000
DTEND;TZID=America/Chicago:20260714T140000
DTSTAMP:20260419T191443
CREATED:20260327T175331Z
LAST-MODIFIED:20260327T175331Z
UID:10005557-1784035800-1784037600@www.lowellpl.lib.in.us
SUMMARY:Stuffy sleepover and picnic! (Lowell)
DESCRIPTION:10:30 OR 1:30 \nBring a stuffed animal and a picnic lunch to the library! We will enjoy a picnic and a story with our stuffies before we make them their very own nametag. They will stay overnight at the library and have a fun sleepover with their stuffy friends! You can pick up your stuffed animal at the library the next day. We will post any pictures we get on the library Facebook page. Wonder what kind of mischief they will get into?? \nThis is a free program for children ages birth- 4th grade to enjoy with an adult. \nRegistration is required. Space is limited. \nPlease sign up online or call #696-7704 \nREGISTRATION OPENS MONDAY\, JULY 6TH
URL:https://www.lowellpl.lib.in.us/event/stuffy-sleepover-and-picnic-lowell-2/
LOCATION:Lowell Public Library\, 1505 E Commercial Ave\, Lowell\, IN\, 46356-2107\, United States
CATEGORIES:Events,Kids
ATTACH;FMTTYPE=image/png:https://www.lowellpl.lib.in.us/wp-content/uploads/2026/03/stuffy-sleepover-.png
END:VEVENT
BEGIN:VEVENT
DTSTART;TZID=America/Chicago:20260714T160000
DTEND;TZID=America/Chicago:20260714T170000
DTSTAMP:20260419T191443
CREATED:20260327T175600Z
LAST-MODIFIED:20260327T192901Z
UID:10005558-1784044800-1784048400@www.lowellpl.lib.in.us
SUMMARY:Tales for Tails (Lowell)
DESCRIPTION:4-5 P.M \nRead or just visit with a certified therapy dog. \nJoin us on Tuesdays as we offer the opportunity for kids to read or just visit with therapy dogs. \nThis is a fun program\, where children get a chance to cozy up with a loveable pup and practice their reading skills. Kids can read to one of the therapy dogs for a few minutes or just visit with one. Some of these pups have pretty neat talents to share as well! Such a fun way to build confidence\, and increase the kids love of reading! \n**For ages 6 yrs-12 yrs** \n*REGISTRATION IS REQUIRED* \nRegistration opens Monday\, July 6th
URL:https://www.lowellpl.lib.in.us/event/tales-for-tails-lowell-21/
LOCATION:Lowell Public Library\, 1505 E Commercial Ave\, Lowell\, IN\, 46356-2107\, United States
CATEGORIES:Events,Kids
ATTACH;FMTTYPE=image/jpeg:https://www.lowellpl.lib.in.us/wp-content/uploads/2026/03/dog-reading.jpg
END:VEVENT
END:VCALENDAR