BEGIN:VCALENDAR
VERSION:2.0
PRODID:-//Lowell Public Library - Lowell, IN - ECPv6.7.0//NONSGML v1.0//EN
CALSCALE:GREGORIAN
METHOD:PUBLISH
X-ORIGINAL-URL:https://www.lowellpl.lib.in.us
X-WR-CALDESC:Events for Lowell Public Library - Lowell, IN
REFRESH-INTERVAL;VALUE=DURATION:PT1H
X-Robots-Tag:noindex
X-PUBLISHED-TTL:PT1H
BEGIN:VTIMEZONE
TZID:America/Chicago
BEGIN:DAYLIGHT
TZOFFSETFROM:-0600
TZOFFSETTO:-0500
TZNAME:CDT
DTSTART:20260308T080000
END:DAYLIGHT
BEGIN:STANDARD
TZOFFSETFROM:-0500
TZOFFSETTO:-0600
TZNAME:CST
DTSTART:20261101T070000
END:STANDARD
END:VTIMEZONE
BEGIN:VEVENT
DTSTART;TZID=America/Chicago:20260819T120000
DTEND;TZID=America/Chicago:20260819T150000
DTSTAMP:20260419T174346
CREATED:20260106T163522Z
LAST-MODIFIED:20260106T163522Z
UID:10005036-1787140800-1787151600@www.lowellpl.lib.in.us
SUMMARY:Adult Game Day (Lowell)
DESCRIPTION:Play card and board games. All adults are welcome to attend.  \n 
URL:https://www.lowellpl.lib.in.us/event/adult-game-day-lowell-2/2026-08-19/
LOCATION:IN
CATEGORIES:Events
ATTACH;FMTTYPE=image/jpeg:https://www.lowellpl.lib.in.us/wp-content/uploads/2025/12/Game-Day.jpg
END:VEVENT
END:VCALENDAR