BEGIN:VCALENDAR
VERSION:2.0
PRODID:-//Lowell Public Library - Lowell, IN - ECPv6.7.0//NONSGML v1.0//EN
CALSCALE:GREGORIAN
METHOD:PUBLISH
X-WR-CALNAME:Lowell Public Library - Lowell, IN
X-ORIGINAL-URL:https://www.lowellpl.lib.in.us
X-WR-CALDESC:Events for Lowell Public Library - Lowell, IN
REFRESH-INTERVAL;VALUE=DURATION:PT1H
X-Robots-Tag:noindex
X-PUBLISHED-TTL:PT1H
BEGIN:VTIMEZONE
TZID:America/Chicago
BEGIN:DAYLIGHT
TZOFFSETFROM:-0600
TZOFFSETTO:-0500
TZNAME:CDT
DTSTART:20260308T080000
END:DAYLIGHT
BEGIN:STANDARD
TZOFFSETFROM:-0500
TZOFFSETTO:-0600
TZNAME:CST
DTSTART:20261101T070000
END:STANDARD
END:VTIMEZONE
BEGIN:VEVENT
DTSTART;TZID=America/Chicago:20260915T100000
DTEND;TZID=America/Chicago:20260915T113000
DTSTAMP:20260419T204042
CREATED:20260106T162446Z
LAST-MODIFIED:20260106T162446Z
UID:10005026-1789466400-1789471800@www.lowellpl.lib.in.us
SUMMARY:Adult Coloring (Lowell)
DESCRIPTION:Join in on the fun!  Coloring helps us de-stress and stimulates brain areas related to motor skills. All supplies will be provided or you may bring your own. \n 
URL:https://www.lowellpl.lib.in.us/event/adult-coloring-lowell/2026-09-15/
LOCATION:Lowell Public Library\, 1505 E Commercial Ave\, Lowell\, IN\, 46356-2107\, United States
CATEGORIES:Events
ATTACH;FMTTYPE=image/jpeg:https://www.lowellpl.lib.in.us/wp-content/uploads/2022/01/coloring.jpg
END:VEVENT
END:VCALENDAR