BEGIN:VCALENDAR
VERSION:2.0
PRODID:-//Lowell Public Library - Lowell, IN - ECPv6.7.0//NONSGML v1.0//EN
CALSCALE:GREGORIAN
METHOD:PUBLISH
X-WR-CALNAME:Lowell Public Library - Lowell, IN
X-ORIGINAL-URL:https://www.lowellpl.lib.in.us
X-WR-CALDESC:Events for Lowell Public Library - Lowell, IN
REFRESH-INTERVAL;VALUE=DURATION:PT1H
X-Robots-Tag:noindex
X-PUBLISHED-TTL:PT1H
BEGIN:VTIMEZONE
TZID:America/Chicago
BEGIN:DAYLIGHT
TZOFFSETFROM:-0600
TZOFFSETTO:-0500
TZNAME:CDT
DTSTART:20250309T080000
END:DAYLIGHT
BEGIN:STANDARD
TZOFFSETFROM:-0500
TZOFFSETTO:-0600
TZNAME:CST
DTSTART:20251102T070000
END:STANDARD
END:VTIMEZONE
BEGIN:VEVENT
DTSTART;TZID=America/Chicago:20251216T103000
DTEND;TZID=America/Chicago:20251216T110000
DTSTAMP:20260422T225829
CREATED:20251106T143437Z
LAST-MODIFIED:20251106T143525Z
UID:10004907-1765881000-1765882800@www.lowellpl.lib.in.us
SUMMARY:Story time (Lowell)
DESCRIPTION:Join Miss Jackie for a few stories\, group activities or a simple craft! (Sometimes we get messy!) \nThis is a free program for children ages 5 years of age and younger to enjoy with a parent or guardian. \nStory time will last about 30-40 minutes. \nLimited space. Registration is required \nPlease call or register online \nDates: \n*Only 1 week of story time this month* \nTuesday\, December 16th \nWednesday\, December 17th \nOR \nThursday\, December 18th \n10:30 A.M \nPlease only choose a Tuesday\, Wednesday OR Thursday session \nRegistration opens Monday\, November 24th \n 
URL:https://www.lowellpl.lib.in.us/event/story-time-lowell-16/
LOCATION:Lowell Public Library\, 1505 E Commercial Ave\, Lowell\, IN\, 46356-2107\, United States
CATEGORIES:Events,Kids
ATTACH;FMTTYPE=image/jpeg:https://www.lowellpl.lib.in.us/wp-content/uploads/2024/09/story-time.jpeg
END:VEVENT
BEGIN:VEVENT
DTSTART;TZID=America/Chicago:20251216T100000
DTEND;TZID=America/Chicago:20251216T113000
DTSTAMP:20260422T225829
CREATED:20241127T152223Z
LAST-MODIFIED:20250527T174106Z
UID:10002989-1765879200-1765884600@www.lowellpl.lib.in.us
SUMMARY:Adult Coloring (Lowell)
DESCRIPTION:Join in on the fun!  Coloring helps us de-stress and stimulates brain areas related to motor skills. All supplies will be provided or you may bring your own. \n 
URL:https://www.lowellpl.lib.in.us/event/adult-coloring-35/2025-12-16/
LOCATION:Lowell Public Library\, 1505 E Commercial Ave\, Lowell\, IN\, 46356-2107\, United States
CATEGORIES:Events
ATTACH;FMTTYPE=image/jpeg:https://www.lowellpl.lib.in.us/wp-content/uploads/2022/01/coloring.jpg
END:VEVENT
BEGIN:VEVENT
DTSTART;TZID=America/Chicago:20251215T160000
DTEND;TZID=America/Chicago:20251215T170000
DTSTAMP:20260422T225829
CREATED:20251111T173611Z
LAST-MODIFIED:20251111T173611Z
UID:10004916-1765814400-1765818000@www.lowellpl.lib.in.us
SUMMARY:Over 18 Game Day (Shelby)
DESCRIPTION:Get together to play cards or board games. \n 
URL:https://www.lowellpl.lib.in.us/event/over-18-game-day-shelby-6/2025-12-15/
LOCATION:Shelby Branch\, 23323 Shelby Rd\, Shelby\, IN\, 46377\, United States
CATEGORIES:Events
ATTACH;FMTTYPE=image/jpeg:https://www.lowellpl.lib.in.us/wp-content/uploads/2024/04/over-18-game-2.jpg
END:VEVENT
BEGIN:VEVENT
DTSTART;VALUE=DATE:20251215
DTEND;VALUE=DATE:20251216
DTSTAMP:20260422T225829
CREATED:20251104T212213Z
LAST-MODIFIED:20251104T212403Z
UID:10004895-1765756800-1765843199@www.lowellpl.lib.in.us
SUMMARY:Book Fair
DESCRIPTION:Shop at the Scholastic Book Fair. Profits from the book sale help to support library programming for all ages! \nShop online at https://www.scholastic.com/bf/lowellpubliclibrary1. \n 
URL:https://www.lowellpl.lib.in.us/event/book-fair/2025-12-15/
LOCATION:Lowell Public Library\, 1505 E Commercial Ave\, Lowell\, IN\, 46356-2107\, United States
CATEGORIES:Events
ATTACH;FMTTYPE=image/jpeg:https://www.lowellpl.lib.in.us/wp-content/uploads/2022/04/Book20Fair203.jpg
END:VEVENT
BEGIN:VEVENT
DTSTART;TZID=America/Chicago:20251213T100000
DTEND;TZID=America/Chicago:20251213T110000
DTSTAMP:20260422T225829
CREATED:20251111T173849Z
LAST-MODIFIED:20251111T173849Z
UID:10004918-1765620000-1765623600@www.lowellpl.lib.in.us
SUMMARY:Coffee & Conversation (Shelby)
DESCRIPTION:Stop in for a cup of coffee. Stay for a chat. \n 
URL:https://www.lowellpl.lib.in.us/event/coffee-conversation-shelby-6/
LOCATION:Shelby Branch\, 23323 Shelby Rd\, Shelby\, IN\, 46377\, United States
CATEGORIES:Events
ATTACH;FMTTYPE=image/jpeg:https://www.lowellpl.lib.in.us/wp-content/uploads/2023/07/coffee-and-conversation.jpeg
END:VEVENT
BEGIN:VEVENT
DTSTART;TZID=America/Chicago:20251213T100000
DTEND;TZID=America/Chicago:20251213T110000
DTSTAMP:20260422T225829
CREATED:20251105T220952Z
LAST-MODIFIED:20251105T220952Z
UID:10004906-1765620000-1765623600@www.lowellpl.lib.in.us
SUMMARY:Santa Story time! (Lowell)
DESCRIPTION:Santa at the Lowell Library! \nCome join us to hear Santa read the classic story  \n‘Twas the night before Christmas.  \nEnjoy some fun Holiday activities and take a picture with Santa! \nWhen: \nSaturday\, December 13th \n10:00 A.M– 11:00 A.M \nAdditional Holiday activities in the \nMeeting room \nNo registration required \n Bring your phone or camera to take pictures! \n  \n  \n 
URL:https://www.lowellpl.lib.in.us/event/santa-story-time-lowell/
LOCATION:Lowell Public Library\, 1505 E Commercial Ave\, Lowell\, IN\, 46356-2107\, United States
CATEGORIES:Events,Kids
ATTACH;FMTTYPE=image/jpeg:https://www.lowellpl.lib.in.us/wp-content/uploads/2024/11/Santa-storytime.jpg
END:VEVENT
BEGIN:VEVENT
DTSTART;VALUE=DATE:20251212
DTEND;VALUE=DATE:20251213
DTSTAMP:20260422T225829
CREATED:20251104T212213Z
LAST-MODIFIED:20251104T212403Z
UID:10004894-1765497600-1765583999@www.lowellpl.lib.in.us
SUMMARY:Book Fair
DESCRIPTION:Shop at the Scholastic Book Fair. Profits from the book sale help to support library programming for all ages! \nShop online at https://www.scholastic.com/bf/lowellpubliclibrary1. \n 
URL:https://www.lowellpl.lib.in.us/event/book-fair/2025-12-12/
LOCATION:Lowell Public Library\, 1505 E Commercial Ave\, Lowell\, IN\, 46356-2107\, United States
CATEGORIES:Events
ATTACH;FMTTYPE=image/jpeg:https://www.lowellpl.lib.in.us/wp-content/uploads/2022/04/Book20Fair203.jpg
END:VEVENT
BEGIN:VEVENT
DTSTART;TZID=America/Chicago:20251211T173000
DTEND;TZID=America/Chicago:20251211T190000
DTSTAMP:20260422T225829
CREATED:20241220T173212Z
LAST-MODIFIED:20251211T180447Z
UID:10003049-1765474200-1765479600@www.lowellpl.lib.in.us
SUMMARY:Simple Stamping (Lowell) Cancelled
DESCRIPTION:Make two cards with envelopes.  A $7 fee\, payable at class\, will cover all materials. Limit 12. Pre-register. REGISTRATION OPENS November 6
URL:https://www.lowellpl.lib.in.us/event/simple-stamping-42/
LOCATION:Lowell Public Library\, 1505 E Commercial Ave\, Lowell\, IN\, 46356-2107\, United States
CATEGORIES:Events
ATTACH;FMTTYPE=image/jpeg:https://www.lowellpl.lib.in.us/wp-content/uploads/2022/12/stamping2.jpeg
END:VEVENT
BEGIN:VEVENT
DTSTART;TZID=America/Chicago:20251211T163000
DTEND;TZID=America/Chicago:20251211T170000
DTSTAMP:20260422T225829
CREATED:20251111T174952Z
LAST-MODIFIED:20251113T224233Z
UID:10004924-1765470600-1765472400@www.lowellpl.lib.in.us
SUMMARY:YA with Miss Emily (Shelby)
DESCRIPTION:Create a Bust Out canvas to give as a gift or keep as a holiday decoration. Miss Emily will show you how \n 
URL:https://www.lowellpl.lib.in.us/event/ya-with-miss-emily-shelby/
LOCATION:Shelby Branch\, 23323 Shelby Rd\, Shelby\, IN\, 46377\, United States
CATEGORIES:Events
ATTACH;FMTTYPE=image/jpeg:https://www.lowellpl.lib.in.us/wp-content/uploads/2025/09/bust-out-deer.jpg
END:VEVENT
BEGIN:VEVENT
DTSTART;TZID=America/Chicago:20251211T153000
DTEND;TZID=America/Chicago:20251211T160000
DTSTAMP:20260422T225829
CREATED:20251105T212915Z
LAST-MODIFIED:20251105T212915Z
UID:10004905-1765467000-1765468800@www.lowellpl.lib.in.us
SUMMARY:Ice cream cone Christmas tree (Lowell)
DESCRIPTION:Thursday\, December 11 \n10:30 A.M \nOR \n3:30 P.M \nJoin Miss Jackie and create a cute Christmas tree with an ice cream cone! \nThis is a free program for children pre-school– 4th grade to enjoy with a parent or adult. \nPre– registration is REQUIRED.  \nPlease call or sign up online \nRegistration opens Monday\, November 17th \n  \n 
URL:https://www.lowellpl.lib.in.us/event/ice-cream-cone-christmas-tree-lowell-2/
LOCATION:Lowell Public Library\, 1505 E Commercial Ave\, Lowell\, IN\, 46356-2107\, United States
CATEGORIES:Events,Kids
ATTACH;FMTTYPE=image/png:https://www.lowellpl.lib.in.us/wp-content/uploads/2024/11/christmas-tree-ice-cream-cone.png
END:VEVENT
BEGIN:VEVENT
DTSTART;TZID=America/Chicago:20251211T103000
DTEND;TZID=America/Chicago:20251211T110000
DTSTAMP:20260422T225829
CREATED:20251105T212651Z
LAST-MODIFIED:20251105T212651Z
UID:10004904-1765449000-1765450800@www.lowellpl.lib.in.us
SUMMARY:Ice cream cone Christmas tree (Lowell)
DESCRIPTION:Thursday\, December 11 \n10:30 A.M \nOR \n3:30 P.M \nJoin Miss Jackie and create a cute Christmas tree with an ice cream cone! \nThis is a free program for children pre-school– 4th grade to enjoy with a parent or adult. \nPre– registration is REQUIRED.  \nPlease call or sign up online \nRegistration opens Monday\, November 17th \n  \n 
URL:https://www.lowellpl.lib.in.us/event/ice-cream-cone-christmas-tree-lowell/
LOCATION:Lowell Public Library\, 1505 E Commercial Ave\, Lowell\, IN\, 46356-2107\, United States
CATEGORIES:Events,Kids
ATTACH;FMTTYPE=image/png:https://www.lowellpl.lib.in.us/wp-content/uploads/2024/11/christmas-tree-ice-cream-cone.png
END:VEVENT
BEGIN:VEVENT
DTSTART;TZID=America/Chicago:20251211T090000
DTEND;TZID=America/Chicago:20251211T120000
DTSTAMP:20260422T225829
CREATED:20250131T165606Z
LAST-MODIFIED:20251014T142700Z
UID:10003235-1765443600-1765454400@www.lowellpl.lib.in.us
SUMMARY:Knit & Crochet (Lowell)
DESCRIPTION:Meet up to knit and crochet\, and share patterns and tips.   \n 
URL:https://www.lowellpl.lib.in.us/event/knit-crochet-32/2025-12-11/
LOCATION:Lowell Public Library\, 1505 E Commercial Ave\, Lowell\, IN\, 46356-2107\, United States
CATEGORIES:Events
ATTACH;FMTTYPE=image/jpeg:https://www.lowellpl.lib.in.us/wp-content/uploads/2022/01/crochet.jpg
END:VEVENT
BEGIN:VEVENT
DTSTART;VALUE=DATE:20251211
DTEND;VALUE=DATE:20251212
DTSTAMP:20260422T225829
CREATED:20251104T212213Z
LAST-MODIFIED:20251104T212403Z
UID:10004893-1765411200-1765497599@www.lowellpl.lib.in.us
SUMMARY:Book Fair
DESCRIPTION:Shop at the Scholastic Book Fair. Profits from the book sale help to support library programming for all ages! \nShop online at https://www.scholastic.com/bf/lowellpubliclibrary1. \n 
URL:https://www.lowellpl.lib.in.us/event/book-fair/2025-12-11/
LOCATION:Lowell Public Library\, 1505 E Commercial Ave\, Lowell\, IN\, 46356-2107\, United States
CATEGORIES:Events
ATTACH;FMTTYPE=image/jpeg:https://www.lowellpl.lib.in.us/wp-content/uploads/2022/04/Book20Fair203.jpg
END:VEVENT
BEGIN:VEVENT
DTSTART;TZID=America/Chicago:20251210T163000
DTEND;TZID=America/Chicago:20251210T173000
DTSTAMP:20260422T225829
CREATED:20251112T181058Z
LAST-MODIFIED:20251112T181058Z
UID:10004934-1765384200-1765387800@www.lowellpl.lib.in.us
SUMMARY:YA/Teen Craft (Schneider)
DESCRIPTION:Make Christmas ornaments.
URL:https://www.lowellpl.lib.in.us/event/ya-teen-craft-schneider-2/
LOCATION:Schneider Branch Library\, 24002 Parrish Ave\, Schneider\, IN\, 46376\, United States
CATEGORIES:Events
ATTACH;FMTTYPE=image/jpeg:https://www.lowellpl.lib.in.us/wp-content/uploads/2023/11/christmas-ornaments.jpg
END:VEVENT
BEGIN:VEVENT
DTSTART;TZID=America/Chicago:20251210T160000
DTEND;TZID=America/Chicago:20251210T170000
DTSTAMP:20260422T225829
CREATED:20251111T174733Z
LAST-MODIFIED:20251111T174733Z
UID:10004923-1765382400-1765386000@www.lowellpl.lib.in.us
SUMMARY:Tales for Tails (Shelby)
DESCRIPTION:Read or just visit with a certified therapy dog. \n 
URL:https://www.lowellpl.lib.in.us/event/tales-for-tails-shelby/
LOCATION:Shelby Branch\, 23323 Shelby Rd\, Shelby\, IN\, 46377\, United States
CATEGORIES:Events
ATTACH;FMTTYPE=image/jpeg:https://www.lowellpl.lib.in.us/wp-content/uploads/2023/05/therapy-dog.jpg
END:VEVENT
BEGIN:VEVENT
DTSTART;VALUE=DATE:20251210
DTEND;VALUE=DATE:20251211
DTSTAMP:20260422T225829
CREATED:20251104T212213Z
LAST-MODIFIED:20251104T212403Z
UID:10004892-1765324800-1765411199@www.lowellpl.lib.in.us
SUMMARY:Book Fair
DESCRIPTION:Shop at the Scholastic Book Fair. Profits from the book sale help to support library programming for all ages! \nShop online at https://www.scholastic.com/bf/lowellpubliclibrary1. \n 
URL:https://www.lowellpl.lib.in.us/event/book-fair/2025-12-10/
LOCATION:Lowell Public Library\, 1505 E Commercial Ave\, Lowell\, IN\, 46356-2107\, United States
CATEGORIES:Events
ATTACH;FMTTYPE=image/jpeg:https://www.lowellpl.lib.in.us/wp-content/uploads/2022/04/Book20Fair203.jpg
END:VEVENT
BEGIN:VEVENT
DTSTART;TZID=America/Chicago:20251209T163000
DTEND;TZID=America/Chicago:20251209T173000
DTSTAMP:20260422T225830
CREATED:20251111T180425Z
LAST-MODIFIED:20251111T180425Z
UID:10004926-1765297800-1765301400@www.lowellpl.lib.in.us
SUMMARY:Kids Game Day (Shelby)
DESCRIPTION:Play board games and have some brownies!
URL:https://www.lowellpl.lib.in.us/event/kids-game-day-shelby-2/
LOCATION:Shelby Branch\, 23323 Shelby Rd\, Shelby\, IN\, 46377\, United States
CATEGORIES:Events
ATTACH;FMTTYPE=image/bmp:https://www.lowellpl.lib.in.us/wp-content/uploads/2022/04/game-day.bmp
END:VEVENT
BEGIN:VEVENT
DTSTART;TZID=America/Chicago:20251209T160000
DTEND;TZID=America/Chicago:20251209T170000
DTSTAMP:20260422T225830
CREATED:20251112T182436Z
LAST-MODIFIED:20251112T182436Z
UID:10004937-1765296000-1765299600@www.lowellpl.lib.in.us
SUMMARY:Kids Craft (Schneider)
DESCRIPTION:Make a candy cane reindeer
URL:https://www.lowellpl.lib.in.us/event/kids-craft-schneider-10/
LOCATION:Schneider Branch Library\, 24002 Parrish Ave\, Schneider\, IN\, 46376\, United States
CATEGORIES:Events
ATTACH;FMTTYPE=image/jpeg:https://www.lowellpl.lib.in.us/wp-content/uploads/2025/11/candy-cane-reindeer.jpg
END:VEVENT
BEGIN:VEVENT
DTSTART;TZID=America/Chicago:20251209T160000
DTEND;TZID=America/Chicago:20251209T170000
DTSTAMP:20260422T225830
CREATED:20251105T212139Z
LAST-MODIFIED:20251105T212139Z
UID:10004903-1765296000-1765299600@www.lowellpl.lib.in.us
SUMMARY:Tales for Tails (Lowell)
DESCRIPTION:December \nTuesday 2nd\, 9th\, 16th and 23rd \n4 P.M—5 P.M \nRead or just visit with a certified therapy dog \nJoin us on Tuesdays as we will be offering the opportunity for kids to read or just visit with therapy dogs. \nThis is a fun program\, where children get a chance to cozy up with a loveable pup and practice their reading skills. Kids can read to one of the therapy dogs for a few minutes or just visit with one. Some of these talented pups have pretty neat talents to share as well! Such a fun way to build confidence and increase the kids love of reading! \n**For ages 6 yrs-12 yrs** \n*REGISTRATION IS REQUIRED* \nRegistration opens Monday\, November 10th \n  \n 
URL:https://www.lowellpl.lib.in.us/event/tales-for-tails-lowell-12/
LOCATION:Lowell Public Library\, 1505 E Commercial Ave\, Lowell\, IN\, 46356-2107\, United States
CATEGORIES:Events,Kids
ATTACH;FMTTYPE=image/jpeg:https://www.lowellpl.lib.in.us/wp-content/uploads/2023/05/therapy-dog.jpg
END:VEVENT
BEGIN:VEVENT
DTSTART;TZID=America/Chicago:20251209T133000
DTEND;TZID=America/Chicago:20251209T150000
DTSTAMP:20260422T225830
CREATED:20251013T171309Z
LAST-MODIFIED:20251016T155444Z
UID:10004826-1765287000-1765292400@www.lowellpl.lib.in.us
SUMMARY:Evergreen Crates (Lowell)
DESCRIPTION:The crates (approximately 20” x 15” by 15” tall) are filled to overflowing with your choice of evergreens\, berries\, cones\, and pods. The cost\, including everything you want to use\, is $40.00.  Holly Keithley will provide help and encouragement as you personalize your decoration to suit your tastes.   \n Limit 25 per session. Pre-register online. Bring gloves.  Fee payable at class.
URL:https://www.lowellpl.lib.in.us/event/evergreen-crates-5/
LOCATION:Lowell Public Library\, 1505 E Commercial Ave\, Lowell\, IN\, 46356-2107\, United States
ATTACH;FMTTYPE=image/jpeg:https://www.lowellpl.lib.in.us/wp-content/uploads/2022/08/evergreen-crate-scaled.jpg
END:VEVENT
BEGIN:VEVENT
DTSTART;VALUE=DATE:20251209
DTEND;VALUE=DATE:20251210
DTSTAMP:20260422T225830
CREATED:20251104T212213Z
LAST-MODIFIED:20251104T212403Z
UID:10004891-1765238400-1765324799@www.lowellpl.lib.in.us
SUMMARY:Book Fair
DESCRIPTION:Shop at the Scholastic Book Fair. Profits from the book sale help to support library programming for all ages! \nShop online at https://www.scholastic.com/bf/lowellpubliclibrary1. \n 
URL:https://www.lowellpl.lib.in.us/event/book-fair/2025-12-09/
LOCATION:Lowell Public Library\, 1505 E Commercial Ave\, Lowell\, IN\, 46356-2107\, United States
CATEGORIES:Events
ATTACH;FMTTYPE=image/jpeg:https://www.lowellpl.lib.in.us/wp-content/uploads/2022/04/Book20Fair203.jpg
END:VEVENT
BEGIN:VEVENT
DTSTART;TZID=America/Chicago:20251208T180000
DTEND;TZID=America/Chicago:20251208T190000
DTSTAMP:20260422T225830
CREATED:20251112T180455Z
LAST-MODIFIED:20251112T180455Z
UID:10004932-1765216800-1765220400@www.lowellpl.lib.in.us
SUMMARY:Adult Craft (Schneider)
DESCRIPTION:Work on a craft of your choosing
URL:https://www.lowellpl.lib.in.us/event/adult-craft-schneider-4/
LOCATION:Schneider Branch Library\, 24002 Parrish Ave\, Schneider\, IN\, 46376\, United States
CATEGORIES:Events
ATTACH;FMTTYPE=image/png:https://www.lowellpl.lib.in.us/wp-content/uploads/2024/03/Adult-Craft.png
END:VEVENT
BEGIN:VEVENT
DTSTART;TZID=America/Chicago:20251208T180000
DTEND;TZID=America/Chicago:20251208T190000
DTSTAMP:20260422T225830
CREATED:20251013T171059Z
LAST-MODIFIED:20251014T125447Z
UID:10004825-1765216800-1765220400@www.lowellpl.lib.in.us
SUMMARY:Evergreen Crates (Lowell)
DESCRIPTION:Decorate your home with fragrant\, natural evergreens for the holidays.  You can create your evergreen-filled crate!  \nThe crates (approximately 20” x 15” by 15” tall) are filled to overflowing with your choice of evergreens\, berries\, cones\, and pods. The cost\, including everything you want to use\, is $40.00.  Holly Keithley will provide help and encouragement as you personalize your decoration to suit your tastes.   \n Limit 25 per session. Pre-register online. Bring gloves.  Fee payable at class.
URL:https://www.lowellpl.lib.in.us/event/evergreen-crates-lowell-2/
LOCATION:Lowell Public Library\, 1505 E Commercial Ave\, Lowell\, IN\, 46356-2107\, United States
CATEGORIES:Events
ATTACH;FMTTYPE=image/jpeg:https://www.lowellpl.lib.in.us/wp-content/uploads/2022/08/evergreen-crate-scaled.jpg
END:VEVENT
BEGIN:VEVENT
DTSTART;TZID=America/Chicago:20251208T173000
DTEND;TZID=America/Chicago:20251208T180000
DTSTAMP:20260422T225830
CREATED:20251105T211635Z
LAST-MODIFIED:20251105T211635Z
UID:10004902-1765215000-1765216800@www.lowellpl.lib.in.us
SUMMARY:PJ Story time (Lowell)
DESCRIPTION:Monday\, December 8th \n530–6 P.M \nWear your pajamas\, bring a stuffy and join Miss Jackie for a few stories. We will also enjoy some flannel board activities and maybe a little relaxing yoga or we’ll play some music and get those wiggles out! \nP.J. Story time is for children ages birth–Kindergarten and will last about 30 minutes \nLimited space. \nRegistration is required \nPlease call or register online.  \nRegistration opens Monday\, November 17th \n 
URL:https://www.lowellpl.lib.in.us/event/pj-story-time-lowell-2/
LOCATION:Lowell Public Library\, 1505 E Commercial Ave\, Lowell\, IN\, 46356-2107\, United States
CATEGORIES:Events,Kids
ATTACH;FMTTYPE=image/png:https://www.lowellpl.lib.in.us/wp-content/uploads/2025/01/pajama-story-time-feb.png
END:VEVENT
BEGIN:VEVENT
DTSTART;TZID=America/Chicago:20251208T160000
DTEND;TZID=America/Chicago:20251208T170000
DTSTAMP:20260422T225830
CREATED:20251111T173611Z
LAST-MODIFIED:20251111T173611Z
UID:10004915-1765209600-1765213200@www.lowellpl.lib.in.us
SUMMARY:Over 18 Game Day (Shelby)
DESCRIPTION:Get together to play cards or board games. \n 
URL:https://www.lowellpl.lib.in.us/event/over-18-game-day-shelby-6/2025-12-08/
LOCATION:Shelby Branch\, 23323 Shelby Rd\, Shelby\, IN\, 46377\, United States
CATEGORIES:Events
ATTACH;FMTTYPE=image/jpeg:https://www.lowellpl.lib.in.us/wp-content/uploads/2024/04/over-18-game-2.jpg
END:VEVENT
BEGIN:VEVENT
DTSTART;TZID=America/Chicago:20251208T130000
DTEND;TZID=America/Chicago:20251208T150000
DTSTAMP:20260422T225830
CREATED:20251104T214555Z
LAST-MODIFIED:20251104T214555Z
UID:10004898-1765198800-1765206000@www.lowellpl.lib.in.us
SUMMARY:Book Club (Lowell)
DESCRIPTION:Read\, then meet to discuss Stories Behind the Great Traditions of Christmas\, written by Ace Collins. \n 
URL:https://www.lowellpl.lib.in.us/event/book-club-lowell-5/
LOCATION:Lowell Public Library\, 1505 E Commercial Ave\, Lowell\, IN\, 46356-2107\, United States
CATEGORIES:Events
ATTACH;FMTTYPE=image/jpeg:https://www.lowellpl.lib.in.us/wp-content/uploads/2025/11/stories-behind-the-great-traditions.jpg
END:VEVENT
BEGIN:VEVENT
DTSTART;VALUE=DATE:20251208
DTEND;VALUE=DATE:20251209
DTSTAMP:20260422T225830
CREATED:20251104T212213Z
LAST-MODIFIED:20251104T212403Z
UID:10004890-1765152000-1765238399@www.lowellpl.lib.in.us
SUMMARY:Book Fair
DESCRIPTION:Shop at the Scholastic Book Fair. Profits from the book sale help to support library programming for all ages! \nShop online at https://www.scholastic.com/bf/lowellpubliclibrary1. \n 
URL:https://www.lowellpl.lib.in.us/event/book-fair/2025-12-08/
LOCATION:Lowell Public Library\, 1505 E Commercial Ave\, Lowell\, IN\, 46356-2107\, United States
CATEGORIES:Events
ATTACH;FMTTYPE=image/jpeg:https://www.lowellpl.lib.in.us/wp-content/uploads/2022/04/Book20Fair203.jpg
END:VEVENT
BEGIN:VEVENT
DTSTART;TZID=America/Chicago:20251206T110000
DTEND;TZID=America/Chicago:20251206T120000
DTSTAMP:20260422T225830
CREATED:20251111T181401Z
LAST-MODIFIED:20251111T181411Z
UID:10004929-1765018800-1765022400@www.lowellpl.lib.in.us
SUMMARY:Gingerbread Houses (Schneider)
DESCRIPTION:Make a gingerbread house – you MUST call the library and pre-register
URL:https://www.lowellpl.lib.in.us/event/gingerbread-houses-schneider/
LOCATION:Schneider Branch Library\, 24002 Parrish Ave\, Schneider\, IN\, 46376\, United States
CATEGORIES:Events
ATTACH;FMTTYPE=image/jpeg:https://www.lowellpl.lib.in.us/wp-content/uploads/2022/11/gingerbread-house_47.jpg
END:VEVENT
BEGIN:VEVENT
DTSTART;TZID=America/Chicago:20251206T100000
DTEND;TZID=America/Chicago:20251206T140000
DTSTAMP:20260422T225830
CREATED:20251104T214320Z
LAST-MODIFIED:20251104T214350Z
UID:10004897-1765015200-1765029600@www.lowellpl.lib.in.us
SUMMARY:Blood Drive (Lowell)
DESCRIPTION:Give Blood\, Give Life. Visit redcrossblood.org or call 1-800-RED CROSS to schedule your appointment. Walk-ins are always welcome.  \n 
URL:https://www.lowellpl.lib.in.us/event/blood-drive-lowell/
LOCATION:Lowell Public Library\, 1505 E Commercial Ave\, Lowell\, IN\, 46356-2107\, United States
CATEGORIES:Events
ATTACH;FMTTYPE=image/jpeg:https://www.lowellpl.lib.in.us/wp-content/uploads/2022/01/red-cross-2.jpg
END:VEVENT
BEGIN:VEVENT
DTSTART;TZID=America/Chicago:20251206T100000
DTEND;TZID=America/Chicago:20251206T110000
DTSTAMP:20260422T225830
CREATED:20251111T181033Z
LAST-MODIFIED:20251111T181146Z
UID:10004928-1765015200-1765018800@www.lowellpl.lib.in.us
SUMMARY:Santa (Schneider)
DESCRIPTION:Visit with Santa and Mrs Claus.  Pre-register by calling the library
URL:https://www.lowellpl.lib.in.us/event/santa-schneider/
LOCATION:Schneider Branch Library\, 24002 Parrish Ave\, Schneider\, IN\, 46376\, United States
CATEGORIES:Events
ATTACH;FMTTYPE=image/png:https://www.lowellpl.lib.in.us/wp-content/uploads/2025/11/santa-and-mrs-claus.png
END:VEVENT
END:VCALENDAR