BEGIN:VCALENDAR
VERSION:2.0
PRODID:-//Lowell Public Library - Lowell, IN - ECPv6.7.0//NONSGML v1.0//EN
CALSCALE:GREGORIAN
METHOD:PUBLISH
X-WR-CALNAME:Lowell Public Library - Lowell, IN
X-ORIGINAL-URL:https://www.lowellpl.lib.in.us
X-WR-CALDESC:Events for Lowell Public Library - Lowell, IN
REFRESH-INTERVAL;VALUE=DURATION:PT1H
X-Robots-Tag:noindex
X-PUBLISHED-TTL:PT1H
BEGIN:VTIMEZONE
TZID:America/Chicago
BEGIN:DAYLIGHT
TZOFFSETFROM:-0600
TZOFFSETTO:-0500
TZNAME:CDT
DTSTART:20250309T080000
END:DAYLIGHT
BEGIN:STANDARD
TZOFFSETFROM:-0500
TZOFFSETTO:-0600
TZNAME:CST
DTSTART:20251102T070000
END:STANDARD
END:VTIMEZONE
BEGIN:VEVENT
DTSTART;TZID=America/Chicago:20251128T080000
DTEND;TZID=America/Chicago:20251128T170000
DTSTAMP:20260424T021836
CREATED:20251014T145218Z
LAST-MODIFIED:20251014T145218Z
UID:10004840-1764316800-1764349200@www.lowellpl.lib.in.us
SUMMARY:CLOSED
DESCRIPTION:The Lowell\, Shelby and Schneider libraries will be closed all day for the Thanksgiving Holiday
URL:https://www.lowellpl.lib.in.us/event/closed-15/2025-11-28/
LOCATION:IN
ATTACH;FMTTYPE=image/jpeg:https://www.lowellpl.lib.in.us/wp-content/uploads/2025/10/Thanksgiving-Hours.jpg
END:VEVENT
BEGIN:VEVENT
DTSTART;TZID=America/Chicago:20251127T090000
DTEND;TZID=America/Chicago:20251127T200000
DTSTAMP:20260424T021836
CREATED:20251014T145218Z
LAST-MODIFIED:20251014T145218Z
UID:10004839-1764234000-1764273600@www.lowellpl.lib.in.us
SUMMARY:CLOSED
DESCRIPTION:The Lowell\, Shelby and Schneider libraries will be closed all day for the Thanksgiving Holiday
URL:https://www.lowellpl.lib.in.us/event/closed-15/2025-11-27/
LOCATION:IN
ATTACH;FMTTYPE=image/jpeg:https://www.lowellpl.lib.in.us/wp-content/uploads/2025/10/Thanksgiving-Hours.jpg
END:VEVENT
BEGIN:VEVENT
DTSTART;TZID=America/Chicago:20251126T163000
DTEND;TZID=America/Chicago:20251126T170000
DTSTAMP:20260424T021836
CREATED:20251017T141930Z
LAST-MODIFIED:20251017T141930Z
UID:10004873-1764174600-1764176400@www.lowellpl.lib.in.us
SUMMARY:YA/Teen Craft (Schneider)
DESCRIPTION:Make pinecone Christmas trees
URL:https://www.lowellpl.lib.in.us/event/ya-teen-craft-schneider/
LOCATION:Schneider Branch Library\, 24002 Parrish Ave\, Schneider\, IN\, 46376\, United States
CATEGORIES:Events
ATTACH;FMTTYPE=image/jpeg:https://www.lowellpl.lib.in.us/wp-content/uploads/2025/10/Schneider-pinecone-christmas-tree.jpg
END:VEVENT
BEGIN:VEVENT
DTSTART;TZID=America/Chicago:20251126T090000
DTEND;TZID=America/Chicago:20251126T170000
DTSTAMP:20260424T021836
CREATED:20251014T145431Z
LAST-MODIFIED:20251014T145548Z
UID:10004841-1764147600-1764176400@www.lowellpl.lib.in.us
SUMMARY:Closing at 5 PM
DESCRIPTION:The Lowell\, Shelby and Schneider libraries will close early today at 5 PM
URL:https://www.lowellpl.lib.in.us/event/closing-at-5-2/
LOCATION:IN
CATEGORIES:Events
ATTACH;FMTTYPE=image/jpeg:https://www.lowellpl.lib.in.us/wp-content/uploads/2025/10/Thanksgiving-Hours.jpg
END:VEVENT
BEGIN:VEVENT
DTSTART;TZID=America/Chicago:20251125T163000
DTEND;TZID=America/Chicago:20251125T173000
DTSTAMP:20260424T021836
CREATED:20251016T163343Z
LAST-MODIFIED:20251016T163343Z
UID:10004864-1764088200-1764091800@www.lowellpl.lib.in.us
SUMMARY:Kids Bingo (Shelby)
DESCRIPTION:Play to win fun prizes!
URL:https://www.lowellpl.lib.in.us/event/kids-bingo-shelby-5/
LOCATION:Shelby Branch\, 23323 Shelby Rd\, Shelby\, IN\, 46377\, United States
CATEGORIES:Events
ATTACH;FMTTYPE=image/jpeg:https://www.lowellpl.lib.in.us/wp-content/uploads/2022/01/bingo.jpg
END:VEVENT
BEGIN:VEVENT
DTSTART;TZID=America/Chicago:20251125T160000
DTEND;TZID=America/Chicago:20251125T170000
DTSTAMP:20260424T021836
CREATED:20251017T143019Z
LAST-MODIFIED:20251017T143019Z
UID:10004877-1764086400-1764090000@www.lowellpl.lib.in.us
SUMMARY:Kids Bingo (Schneider)
DESCRIPTION:Play bingo to win fun prizes
URL:https://www.lowellpl.lib.in.us/event/kids-bingo-schneider/
LOCATION:Schneider Branch Library\, 24002 Parrish Ave\, Schneider\, IN\, 46376\, United States
CATEGORIES:Events
ATTACH;FMTTYPE=image/jpeg:https://www.lowellpl.lib.in.us/wp-content/uploads/2022/01/bingo.jpg
END:VEVENT
BEGIN:VEVENT
DTSTART;TZID=America/Chicago:20251125T160000
DTEND;TZID=America/Chicago:20251125T170000
DTSTAMP:20260424T021836
CREATED:20251013T233316Z
LAST-MODIFIED:20251013T233316Z
UID:10004838-1764086400-1764090000@www.lowellpl.lib.in.us
SUMMARY:Tales for Tails (Lowell)
DESCRIPTION:Tuesdays 4 P.M—5 P.M\nRead or just visit with a certified therapy dog\nJoin us on Tuesdays as we will be offering the opportunity for kids to read or just visit with therapy dogs.\nThis is a fun program\, where children get a chance to cozy up with a loveable pup and practice their reading skills. Kids can read to one of the therapy dogs for a few minutes or just visit with one. Some of these talented pups have pretty neat talents to share as well! Such a fun way to build confidence and increase the kids love of reading! \n*REGISTRATION IS REQUIRED*\nRegistration opens Monday\, October 20th
URL:https://www.lowellpl.lib.in.us/event/tales-for-tails-lowell-10/
LOCATION:Lowell Public Library\, 1505 E Commercial Ave\, Lowell\, IN\, 46356-2107\, United States
CATEGORIES:Events,Kids
ATTACH;FMTTYPE=image/jpeg:https://www.lowellpl.lib.in.us/wp-content/uploads/2023/05/therapy-dog.jpg
END:VEVENT
BEGIN:VEVENT
DTSTART;TZID=America/Chicago:20251124T160000
DTEND;TZID=America/Chicago:20251124T170000
DTSTAMP:20260424T021836
CREATED:20251015T201025Z
LAST-MODIFIED:20251015T201025Z
UID:10004856-1764000000-1764003600@www.lowellpl.lib.in.us
SUMMARY:Senior Bingo (Shelby)
DESCRIPTION:Play for a chance to win a gift card.
URL:https://www.lowellpl.lib.in.us/event/senior-bingo-shelby-4/
LOCATION:Shelby Branch\, 23323 Shelby Rd\, Shelby\, IN\, 46377\, United States
CATEGORIES:Events
ATTACH;FMTTYPE=image/gif:https://www.lowellpl.lib.in.us/wp-content/uploads/2022/01/bingo_animated.gif
END:VEVENT
BEGIN:VEVENT
DTSTART;TZID=America/Chicago:20251122T133000
DTEND;TZID=America/Chicago:20251122T150000
DTSTAMP:20260424T021836
CREATED:20251013T170739Z
LAST-MODIFIED:20251014T125506Z
UID:10004824-1763818200-1763823600@www.lowellpl.lib.in.us
SUMMARY:Evergreen Crates (Lowell)
DESCRIPTION:Decorate your home with fragrant\, natural evergreens for the holidays.  You can create your evergreen-filled crate!  \nThe crates (approximately 20” x 15” by 15” tall) are filled to overflowing with your choice of evergreens\, berries\, cones\, and pods. The cost\, including everything you want to use\, is $40.00. Holly Keithley will provide help and encouragement as you personalize your decoration to suit your tastes.   \n Limit 25 per session. Pre-register online. Bring gloves.  Fee payable at class.
URL:https://www.lowellpl.lib.in.us/event/evergreen-crates-lowell/
LOCATION:Lowell Public Library\, 1505 E Commercial Ave\, Lowell\, IN\, 46356-2107\, United States
CATEGORIES:Events
ATTACH;FMTTYPE=image/jpeg:https://www.lowellpl.lib.in.us/wp-content/uploads/2022/08/evergreen-crate-scaled.jpg
END:VEVENT
BEGIN:VEVENT
DTSTART;TZID=America/Chicago:20251122T100000
DTEND;TZID=America/Chicago:20251122T110000
DTSTAMP:20260424T021836
CREATED:20251015T194510Z
LAST-MODIFIED:20251015T194510Z
UID:10004853-1763805600-1763809200@www.lowellpl.lib.in.us
SUMMARY:Coffee & Conversation (Shelby)
DESCRIPTION:Stop in for a cup of coffee. Stay for a chat. \n 
URL:https://www.lowellpl.lib.in.us/event/coffee-conversation-shelby-5/2025-11-22/
LOCATION:Shelby Branch\, 23323 Shelby Rd\, Shelby\, IN\, 46377\, United States
CATEGORIES:Events
ATTACH;FMTTYPE=image/jpeg:https://www.lowellpl.lib.in.us/wp-content/uploads/2023/07/coffee-and-conversation.jpeg
END:VEVENT
BEGIN:VEVENT
DTSTART;TZID=America/Chicago:20251120T173000
DTEND;TZID=America/Chicago:20251120T183000
DTSTAMP:20260424T021836
CREATED:20250918T221925Z
LAST-MODIFIED:20250918T221925Z
UID:10004818-1763659800-1763663400@www.lowellpl.lib.in.us
SUMMARY:YA Thanksgiving Minute to Win It 2025
DESCRIPTION:Join us at the Lowell Public Library on Thursday\, November 20 from 5:30-6:30pm\nfor the 2nd Annual Thanksgiving Minute to Win It competition. \n  \nCome ready to test your skills and beat the clock while enjoying Thanksgiving traditions like “shooting turkeys”\,\n“prepping sweet potatoes”\, “stuffing the bird”\, “mixing pies”\, and playing some “football challenges”.\nNOTE: This will NOT prepare you to cook your family’s Turkey Day feast. \n  \nThis is a free event opened to anyone grades 5-12. \nRegistration is required for planning purposes. Sign up below or call 696-7704. \nRegistration opens on October 30.
URL:https://www.lowellpl.lib.in.us/event/ya-thanksgiving-minute-to-win-it-2025/
LOCATION:Lowell Public Library\, 1505 E Commercial Ave\, Lowell\, IN\, 46356-2107\, United States
CATEGORIES:Events,YA/Teen
ATTACH;FMTTYPE=image/jpeg:https://www.lowellpl.lib.in.us/wp-content/uploads/2024/10/minute-to-win-it.jpg
END:VEVENT
BEGIN:VEVENT
DTSTART;TZID=America/Chicago:20251120T160000
DTEND;TZID=America/Chicago:20251120T170000
DTSTAMP:20260424T021836
CREATED:20251015T195057Z
LAST-MODIFIED:20251015T195057Z
UID:10004855-1763654400-1763658000@www.lowellpl.lib.in.us
SUMMARY:Adult Book Discussion (Shelby)
DESCRIPTION:Read\, then meet to discuss Murder by the Book\, written by Lauren Elliott. \n 
URL:https://www.lowellpl.lib.in.us/event/adult-book-discussion-shelby-4/
LOCATION:Shelby Branch\, 23323 Shelby Rd\, Shelby\, IN\, 46377\, United States
CATEGORIES:Events
ATTACH;FMTTYPE=image/jpeg:https://www.lowellpl.lib.in.us/wp-content/uploads/2025/09/murder-by-the-book.jpg
END:VEVENT
BEGIN:VEVENT
DTSTART;TZID=America/Chicago:20251120T103000
DTEND;TZID=America/Chicago:20251120T110000
DTSTAMP:20260424T021836
CREATED:20251013T233108Z
LAST-MODIFIED:20251013T233108Z
UID:10004837-1763634600-1763636400@www.lowellpl.lib.in.us
SUMMARY:Story time (Lowell)
DESCRIPTION:Join Miss Jackie for a few stories\, group activities or a simple craft! (Sometimes we get messy!)\nThis is a free program for children ages 5 years of age and younger to enjoy with a parent or guardian.\nStory time will last about 30-40 minutes.\nLimited space. Registration is required\nPlease call or register online\n#219-696-7704\nDates:\n*Only 1 week of story time this month*\nTuesday\, November 18th\nWednesday\, November 19th\nOR\nThursday\, November 20th\n10:30 A.M\nPlease only choose a Tuesday\, Wednesday OR Thursday session\nRegistration opens Monday\, October 27th
URL:https://www.lowellpl.lib.in.us/event/story-time-lowell-15/
LOCATION:Lowell Public Library\, 1505 E Commercial Ave\, Lowell\, IN\, 46356-2107\, United States
CATEGORIES:Events,Kids
ATTACH;FMTTYPE=image/jpeg:https://www.lowellpl.lib.in.us/wp-content/uploads/2024/09/story-time.jpeg
END:VEVENT
BEGIN:VEVENT
DTSTART;TZID=America/Chicago:20251120T090000
DTEND;TZID=America/Chicago:20251120T120000
DTSTAMP:20260424T021836
CREATED:20250131T165606Z
LAST-MODIFIED:20251014T142700Z
UID:10003232-1763629200-1763640000@www.lowellpl.lib.in.us
SUMMARY:Knit & Crochet (Lowell)
DESCRIPTION:Meet up to knit and crochet\, and share patterns and tips.   \n 
URL:https://www.lowellpl.lib.in.us/event/knit-crochet-32/2025-11-20/
LOCATION:Lowell Public Library\, 1505 E Commercial Ave\, Lowell\, IN\, 46356-2107\, United States
CATEGORIES:Events
ATTACH;FMTTYPE=image/jpeg:https://www.lowellpl.lib.in.us/wp-content/uploads/2022/01/crochet.jpg
END:VEVENT
BEGIN:VEVENT
DTSTART;TZID=America/Chicago:20251119T163000
DTEND;TZID=America/Chicago:20251119T173000
DTSTAMP:20260424T021836
CREATED:20251017T141322Z
LAST-MODIFIED:20251017T141322Z
UID:10004872-1763569800-1763573400@www.lowellpl.lib.in.us
SUMMARY:YA/Teen Games (Schneider)
DESCRIPTION:Bring a game to share or play one of ours.
URL:https://www.lowellpl.lib.in.us/event/ya-teen-games-schneider/
LOCATION:Schneider Branch Library\, 24002 Parrish Ave\, Schneider\, IN\, 46376\, United States
CATEGORIES:Events
ATTACH;FMTTYPE=image/jpeg:https://www.lowellpl.lib.in.us/wp-content/uploads/2022/02/games.jpg
END:VEVENT
BEGIN:VEVENT
DTSTART;TZID=America/Chicago:20251119T163000
DTEND;TZID=America/Chicago:20251119T173000
DTSTAMP:20260424T021836
CREATED:20251015T204217Z
LAST-MODIFIED:20251015T204217Z
UID:10004861-1763569800-1763573400@www.lowellpl.lib.in.us
SUMMARY:YA/Teen Craft (Shelby)
DESCRIPTION:Paint and decorate a wooden Christmas stocking.
URL:https://www.lowellpl.lib.in.us/event/ya-teen-craft-shelby-3/
LOCATION:Shelby Branch\, 23323 Shelby Rd\, Shelby\, IN\, 46377\, United States
CATEGORIES:Events
ATTACH;FMTTYPE=image/jpeg:https://www.lowellpl.lib.in.us/wp-content/uploads/2025/10/Wood-Stocking.jpg
END:VEVENT
BEGIN:VEVENT
DTSTART;TZID=America/Chicago:20251119T120000
DTEND;TZID=America/Chicago:20251119T150000
DTSTAMP:20260424T021836
CREATED:20251015T192927Z
LAST-MODIFIED:20251015T192927Z
UID:10004848-1763553600-1763564400@www.lowellpl.lib.in.us
SUMMARY:Canasta (Lowell)
DESCRIPTION:Join us for a fun card game!      \n 
URL:https://www.lowellpl.lib.in.us/event/canasta-lowell-5/
LOCATION:Lowell Public Library\, 1505 E Commercial Ave\, Lowell\, IN\, 46356-2107\, United States
CATEGORIES:Events
ATTACH;FMTTYPE=image/jpeg:https://www.lowellpl.lib.in.us/wp-content/uploads/2023/03/Canasta.jpg
END:VEVENT
BEGIN:VEVENT
DTSTART;TZID=America/Chicago:20251119T103000
DTEND;TZID=America/Chicago:20251119T110000
DTSTAMP:20260424T021836
CREATED:20251013T232916Z
LAST-MODIFIED:20251013T232916Z
UID:10004836-1763548200-1763550000@www.lowellpl.lib.in.us
SUMMARY:Story time (Lowell)
DESCRIPTION:Join Miss Jackie for a few stories\, group activities or a simple craft! (Sometimes we get messy!)\nThis is a free program for children ages 5 years of age and younger to enjoy with a parent or guardian.\nStory time will last about 30-40 minutes.\nLimited space. Registration is required\nPlease call or register online\n#219-696-7704\nDates:\n*Only 1 week of story time this month*\nTuesday\, November 18th\nWednesday\, November 19th\nOR\nThursday\, November 20th\n10:30 A.M\nPlease only choose a Tuesday\, Wednesday OR Thursday session\nRegistration opens Monday\, October 27th
URL:https://www.lowellpl.lib.in.us/event/story-time-lowell-14/
LOCATION:Lowell Public Library\, 1505 E Commercial Ave\, Lowell\, IN\, 46356-2107\, United States
CATEGORIES:Events,Kids
ATTACH;FMTTYPE=image/jpeg:https://www.lowellpl.lib.in.us/wp-content/uploads/2024/09/story-time.jpeg
END:VEVENT
BEGIN:VEVENT
DTSTART;TZID=America/Chicago:20251118T180000
DTEND;TZID=America/Chicago:20251118T190000
DTSTAMP:20260424T021836
CREATED:20251015T191328Z
LAST-MODIFIED:20251015T193011Z
UID:10004847-1763488800-1763492400@www.lowellpl.lib.in.us
SUMMARY:Library Board Meets (Lowell)
DESCRIPTION:The regular meeting of the Lowell Public Library Board of Trustees will be held. \n 
URL:https://www.lowellpl.lib.in.us/event/library-board-meets-41/
LOCATION:Lowell Public Library\, 1505 E Commercial Ave\, Lowell\, IN\, 46356-2107\, United States
CATEGORIES:Events
ATTACH;FMTTYPE=image/jpeg:https://www.lowellpl.lib.in.us/wp-content/uploads/2022/01/board-meeting-3.jpg
END:VEVENT
BEGIN:VEVENT
DTSTART;TZID=America/Chicago:20251118T163000
DTEND;TZID=America/Chicago:20251118T173000
DTSTAMP:20260424T021836
CREATED:20251016T163552Z
LAST-MODIFIED:20251016T163552Z
UID:10004865-1763483400-1763487000@www.lowellpl.lib.in.us
SUMMARY:Kids Craft (Shelby)
DESCRIPTION:Make a beaded bracelet
URL:https://www.lowellpl.lib.in.us/event/kids-craft-shelby-5/
LOCATION:Shelby Branch\, 23323 Shelby Rd\, Shelby\, IN\, 46377\, United States
CATEGORIES:Events
ATTACH;FMTTYPE=image/jpeg:https://www.lowellpl.lib.in.us/wp-content/uploads/2023/07/Bead-braceket.jpg
END:VEVENT
BEGIN:VEVENT
DTSTART;TZID=America/Chicago:20251118T160000
DTEND;TZID=America/Chicago:20251118T170000
DTSTAMP:20260424T021836
CREATED:20251017T142822Z
LAST-MODIFIED:20251017T142822Z
UID:10004876-1763481600-1763485200@www.lowellpl.lib.in.us
SUMMARY:Kids Craft (Schneider)
DESCRIPTION:Make a pinecone turkey
URL:https://www.lowellpl.lib.in.us/event/kids-craft-schneider-8/
LOCATION:Schneider Branch Library\, 24002 Parrish Ave\, Schneider\, IN\, 46376\, United States
CATEGORIES:Events
ATTACH;FMTTYPE=image/png:https://www.lowellpl.lib.in.us/wp-content/uploads/2025/10/Schneider-pinecone-turkey.png
END:VEVENT
BEGIN:VEVENT
DTSTART;TZID=America/Chicago:20251118T160000
DTEND;TZID=America/Chicago:20251118T170000
DTSTAMP:20260424T021836
CREATED:20251013T232632Z
LAST-MODIFIED:20251013T232632Z
UID:10004835-1763481600-1763485200@www.lowellpl.lib.in.us
SUMMARY:Tales for Tails (Lowell)
DESCRIPTION:Tuesdays 4 P.M—5 P.M \nRead or just visit with a certified therapy dog \nJoin us on Tuesdays as we will be offering the opportunity for kids to read or just visit with therapy dogs. \nThis is a fun program\, where children get a chance to cozy up with a loveable pup and practice their reading skills. Kids can read to one of the therapy dogs for a few minutes or just visit with one. Some of these talented pups have pretty neat talents to share as well! Such a fun way to build confidence and increase the kids love of reading! \n*REGISTRATION IS REQUIRED* \nRegistration opens Monday\, October 20th \n 
URL:https://www.lowellpl.lib.in.us/event/tales-for-tails-lowell-9/
LOCATION:Lowell Public Library\, 1505 E Commercial Ave\, Lowell\, IN\, 46356-2107\, United States
CATEGORIES:Events,Kids
ATTACH;FMTTYPE=image/jpeg:https://www.lowellpl.lib.in.us/wp-content/uploads/2023/05/therapy-dog.jpg
END:VEVENT
BEGIN:VEVENT
DTSTART;TZID=America/Chicago:20251118T103000
DTEND;TZID=America/Chicago:20251118T110000
DTSTAMP:20260424T021836
CREATED:20251013T232348Z
LAST-MODIFIED:20251013T232348Z
UID:10004834-1763461800-1763463600@www.lowellpl.lib.in.us
SUMMARY:Story time (Lowell)
DESCRIPTION:Join Miss Jackie for a few stories\, group activities or a simple craft! (Sometimes we get messy!)\nThis is a free program for children ages 5 years of age and younger to enjoy with a parent or guardian.\nStory time will last about 30-40 minutes.\nLimited space. Registration is required\nPlease call or register online\n#219-696-7704\nDates:\n*Only 1 week of story time this month*\nTuesday\, November 18th\nWednesday\, November 19th\nOR\nThursday\, November 20th\n10:30 A.M\nPlease only choose a Tuesday\, Wednesday OR Thursday session\nRegistration opens Monday\, October 27th
URL:https://www.lowellpl.lib.in.us/event/story-time-lowell-13/
LOCATION:Lowell Public Library\, 1505 E Commercial Ave\, Lowell\, IN\, 46356-2107\, United States
CATEGORIES:Events,Kids
ATTACH;FMTTYPE=image/jpeg:https://www.lowellpl.lib.in.us/wp-content/uploads/2024/09/story-time.jpeg
END:VEVENT
BEGIN:VEVENT
DTSTART;TZID=America/Chicago:20251118T100000
DTEND;TZID=America/Chicago:20251118T113000
DTSTAMP:20260424T021836
CREATED:20241127T152223Z
LAST-MODIFIED:20250527T174106Z
UID:10002988-1763460000-1763465400@www.lowellpl.lib.in.us
SUMMARY:Adult Coloring (Lowell)
DESCRIPTION:Join in on the fun!  Coloring helps us de-stress and stimulates brain areas related to motor skills. All supplies will be provided or you may bring your own. \n 
URL:https://www.lowellpl.lib.in.us/event/adult-coloring-35/2025-11-18/
LOCATION:Lowell Public Library\, 1505 E Commercial Ave\, Lowell\, IN\, 46356-2107\, United States
CATEGORIES:Events
ATTACH;FMTTYPE=image/jpeg:https://www.lowellpl.lib.in.us/wp-content/uploads/2022/01/coloring.jpg
END:VEVENT
BEGIN:VEVENT
DTSTART;TZID=America/Chicago:20251117T180000
DTEND;TZID=America/Chicago:20251117T190000
DTSTAMP:20260424T021836
CREATED:20251016T195220Z
LAST-MODIFIED:20251016T195301Z
UID:10004869-1763402400-1763406000@www.lowellpl.lib.in.us
SUMMARY:Adult Craft Night (Schneider)
DESCRIPTION:Bring your own project to show others or pick something from our craft table. \n 
URL:https://www.lowellpl.lib.in.us/event/adult-craft-night-schneider-2/
LOCATION:Schneider Branch Library\, 24002 Parrish Ave\, Schneider\, IN\, 46376\, United States
CATEGORIES:Events
ATTACH;FMTTYPE=image/png:https://www.lowellpl.lib.in.us/wp-content/uploads/2024/03/Adult-Craft.png
END:VEVENT
BEGIN:VEVENT
DTSTART;TZID=America/Chicago:20251117T173000
DTEND;TZID=America/Chicago:20251117T180000
DTSTAMP:20260424T021836
CREATED:20251013T231949Z
LAST-MODIFIED:20251013T231949Z
UID:10004833-1763400600-1763402400@www.lowellpl.lib.in.us
SUMMARY:PJ story time (Lowell)
DESCRIPTION:Wear your pajamas\, bring a stuffy and join Miss Jackie for a few stories. We will also enjoy some flannel board activities and maybe a little relaxing yoga or we’ll play some music and get those wiggles out! \nP.J. Story time is for children ages birth–Kindergarten and will last about 30 minutes \nLimited space. \nRegistration is required \nPlease call or register online.  \n#219-696-7704 \nRegistration opens Monday\, October 20th \n 
URL:https://www.lowellpl.lib.in.us/event/pj-story-time-lowell/
LOCATION:Lowell Public Library\, 1505 E Commercial Ave\, Lowell\, IN\, 46356-2107\, United States
CATEGORIES:Events,Kids
ATTACH;FMTTYPE=image/png:https://www.lowellpl.lib.in.us/wp-content/uploads/2025/01/pajama-story-time-feb.png
END:VEVENT
BEGIN:VEVENT
DTSTART;TZID=America/Chicago:20251117T160000
DTEND;TZID=America/Chicago:20251117T170000
DTSTAMP:20260424T021836
CREATED:20251015T194240Z
LAST-MODIFIED:20251015T194240Z
UID:10004851-1763395200-1763398800@www.lowellpl.lib.in.us
SUMMARY:Over 18 Game Day (Shelby)
DESCRIPTION:Get together to play cards or board games.
URL:https://www.lowellpl.lib.in.us/event/over-18-game-day-shelby-5/2025-11-17/
LOCATION:Shelby Branch\, 23323 Shelby Rd\, Shelby\, IN\, 46377\, United States
CATEGORIES:Events
ATTACH;FMTTYPE=image/jpeg:https://www.lowellpl.lib.in.us/wp-content/uploads/2024/04/over-18-game-2.jpg
END:VEVENT
BEGIN:VEVENT
DTSTART;TZID=America/Chicago:20251115T110000
DTEND;TZID=America/Chicago:20251115T120000
DTSTAMP:20260424T021836
CREATED:20251016T193859Z
LAST-MODIFIED:20251016T194333Z
UID:10004868-1763204400-1763208000@www.lowellpl.lib.in.us
SUMMARY:Coffee Time (Schneider)
DESCRIPTION:Stop in for a cup of coffee and a chat.
URL:https://www.lowellpl.lib.in.us/event/coffee-time-schneider/
LOCATION:Schneider Branch Library\, 24002 Parrish Ave\, Schneider\, IN\, 46376\, United States
CATEGORIES:Events
ATTACH;FMTTYPE=image/jpeg:https://www.lowellpl.lib.in.us/wp-content/uploads/2022/05/coffee.jpg
END:VEVENT
BEGIN:VEVENT
DTSTART;TZID=America/Chicago:20251115T100000
DTEND;TZID=America/Chicago:20251115T120000
DTSTAMP:20260424T021836
CREATED:20251015T194847Z
LAST-MODIFIED:20251015T194847Z
UID:10004854-1763200800-1763208000@www.lowellpl.lib.in.us
SUMMARY:Movies for Grown-Ups (Shelby)
DESCRIPTION:Enjoy a morning movie at the library.  \n 
URL:https://www.lowellpl.lib.in.us/event/movies-for-grown-ups-shelby-5/
LOCATION:Shelby Branch\, 23323 Shelby Rd\, Shelby\, IN\, 46377\, United States
CATEGORIES:Events
ATTACH;FMTTYPE=image/png:https://www.lowellpl.lib.in.us/wp-content/uploads/2025/01/family-movie-night-feb.png
END:VEVENT
BEGIN:VEVENT
DTSTART;TZID=America/Chicago:20251115T100000
DTEND;TZID=America/Chicago:20251115T120000
DTSTAMP:20260424T021836
CREATED:20241127T151929Z
LAST-MODIFIED:20250527T174346Z
UID:10002976-1763200800-1763208000@www.lowellpl.lib.in.us
SUMMARY:Poetry (Lowell)
DESCRIPTION:Aspiring poets can join the NW Indiana Poetry Society. Bring  your works or that of your favorite poet. \n 
URL:https://www.lowellpl.lib.in.us/event/poetry-21/2025-11-15/
LOCATION:Lowell Public Library\, 1505 E Commercial Ave\, Lowell\, IN\, 46356-2107\, United States
CATEGORIES:Events
ATTACH;FMTTYPE=image/jpeg:https://www.lowellpl.lib.in.us/wp-content/uploads/2022/01/poetry-pencil.jpg
END:VEVENT
END:VCALENDAR