BEGIN:VCALENDAR
VERSION:2.0
PRODID:-//Lowell Public Library - Lowell, IN - ECPv6.7.0//NONSGML v1.0//EN
CALSCALE:GREGORIAN
METHOD:PUBLISH
X-WR-CALNAME:Lowell Public Library - Lowell, IN
X-ORIGINAL-URL:https://www.lowellpl.lib.in.us
X-WR-CALDESC:Events for Lowell Public Library - Lowell, IN
REFRESH-INTERVAL;VALUE=DURATION:PT1H
X-Robots-Tag:noindex
X-PUBLISHED-TTL:PT1H
BEGIN:VTIMEZONE
TZID:America/Chicago
BEGIN:DAYLIGHT
TZOFFSETFROM:-0600
TZOFFSETTO:-0500
TZNAME:CDT
DTSTART:20250309T080000
END:DAYLIGHT
BEGIN:STANDARD
TZOFFSETFROM:-0500
TZOFFSETTO:-0600
TZNAME:CST
DTSTART:20251102T070000
END:STANDARD
END:VTIMEZONE
BEGIN:VEVENT
DTSTART;TZID=America/Chicago:20251118T160000
DTEND;TZID=America/Chicago:20251118T170000
DTSTAMP:20260424T160933
CREATED:20251017T142822Z
LAST-MODIFIED:20251017T142822Z
UID:10004876-1763481600-1763485200@www.lowellpl.lib.in.us
SUMMARY:Kids Craft (Schneider)
DESCRIPTION:Make a pinecone turkey
URL:https://www.lowellpl.lib.in.us/event/kids-craft-schneider-8/
LOCATION:Schneider Branch Library\, 24002 Parrish Ave\, Schneider\, IN\, 46376\, United States
CATEGORIES:Events
ATTACH;FMTTYPE=image/png:https://www.lowellpl.lib.in.us/wp-content/uploads/2025/10/Schneider-pinecone-turkey.png
END:VEVENT
BEGIN:VEVENT
DTSTART;TZID=America/Chicago:20251118T160000
DTEND;TZID=America/Chicago:20251118T170000
DTSTAMP:20260424T160933
CREATED:20251013T232632Z
LAST-MODIFIED:20251013T232632Z
UID:10004835-1763481600-1763485200@www.lowellpl.lib.in.us
SUMMARY:Tales for Tails (Lowell)
DESCRIPTION:Tuesdays 4 P.M—5 P.M \nRead or just visit with a certified therapy dog \nJoin us on Tuesdays as we will be offering the opportunity for kids to read or just visit with therapy dogs. \nThis is a fun program\, where children get a chance to cozy up with a loveable pup and practice their reading skills. Kids can read to one of the therapy dogs for a few minutes or just visit with one. Some of these talented pups have pretty neat talents to share as well! Such a fun way to build confidence and increase the kids love of reading! \n*REGISTRATION IS REQUIRED* \nRegistration opens Monday\, October 20th \n 
URL:https://www.lowellpl.lib.in.us/event/tales-for-tails-lowell-9/
LOCATION:Lowell Public Library\, 1505 E Commercial Ave\, Lowell\, IN\, 46356-2107\, United States
CATEGORIES:Events,Kids
ATTACH;FMTTYPE=image/jpeg:https://www.lowellpl.lib.in.us/wp-content/uploads/2023/05/therapy-dog.jpg
END:VEVENT
BEGIN:VEVENT
DTSTART;TZID=America/Chicago:20251118T103000
DTEND;TZID=America/Chicago:20251118T110000
DTSTAMP:20260424T160933
CREATED:20251013T232348Z
LAST-MODIFIED:20251013T232348Z
UID:10004834-1763461800-1763463600@www.lowellpl.lib.in.us
SUMMARY:Story time (Lowell)
DESCRIPTION:Join Miss Jackie for a few stories\, group activities or a simple craft! (Sometimes we get messy!)\nThis is a free program for children ages 5 years of age and younger to enjoy with a parent or guardian.\nStory time will last about 30-40 minutes.\nLimited space. Registration is required\nPlease call or register online\n#219-696-7704\nDates:\n*Only 1 week of story time this month*\nTuesday\, November 18th\nWednesday\, November 19th\nOR\nThursday\, November 20th\n10:30 A.M\nPlease only choose a Tuesday\, Wednesday OR Thursday session\nRegistration opens Monday\, October 27th
URL:https://www.lowellpl.lib.in.us/event/story-time-lowell-13/
LOCATION:Lowell Public Library\, 1505 E Commercial Ave\, Lowell\, IN\, 46356-2107\, United States
CATEGORIES:Events,Kids
ATTACH;FMTTYPE=image/jpeg:https://www.lowellpl.lib.in.us/wp-content/uploads/2024/09/story-time.jpeg
END:VEVENT
BEGIN:VEVENT
DTSTART;TZID=America/Chicago:20251118T100000
DTEND;TZID=America/Chicago:20251118T113000
DTSTAMP:20260424T160933
CREATED:20241127T152223Z
LAST-MODIFIED:20250527T174106Z
UID:10002988-1763460000-1763465400@www.lowellpl.lib.in.us
SUMMARY:Adult Coloring (Lowell)
DESCRIPTION:Join in on the fun!  Coloring helps us de-stress and stimulates brain areas related to motor skills. All supplies will be provided or you may bring your own. \n 
URL:https://www.lowellpl.lib.in.us/event/adult-coloring-35/2025-11-18/
LOCATION:Lowell Public Library\, 1505 E Commercial Ave\, Lowell\, IN\, 46356-2107\, United States
CATEGORIES:Events
ATTACH;FMTTYPE=image/jpeg:https://www.lowellpl.lib.in.us/wp-content/uploads/2022/01/coloring.jpg
END:VEVENT
BEGIN:VEVENT
DTSTART;TZID=America/Chicago:20251117T180000
DTEND;TZID=America/Chicago:20251117T190000
DTSTAMP:20260424T160933
CREATED:20251016T195220Z
LAST-MODIFIED:20251016T195301Z
UID:10004869-1763402400-1763406000@www.lowellpl.lib.in.us
SUMMARY:Adult Craft Night (Schneider)
DESCRIPTION:Bring your own project to show others or pick something from our craft table. \n 
URL:https://www.lowellpl.lib.in.us/event/adult-craft-night-schneider-2/
LOCATION:Schneider Branch Library\, 24002 Parrish Ave\, Schneider\, IN\, 46376\, United States
CATEGORIES:Events
ATTACH;FMTTYPE=image/png:https://www.lowellpl.lib.in.us/wp-content/uploads/2024/03/Adult-Craft.png
END:VEVENT
BEGIN:VEVENT
DTSTART;TZID=America/Chicago:20251117T173000
DTEND;TZID=America/Chicago:20251117T180000
DTSTAMP:20260424T160933
CREATED:20251013T231949Z
LAST-MODIFIED:20251013T231949Z
UID:10004833-1763400600-1763402400@www.lowellpl.lib.in.us
SUMMARY:PJ story time (Lowell)
DESCRIPTION:Wear your pajamas\, bring a stuffy and join Miss Jackie for a few stories. We will also enjoy some flannel board activities and maybe a little relaxing yoga or we’ll play some music and get those wiggles out! \nP.J. Story time is for children ages birth–Kindergarten and will last about 30 minutes \nLimited space. \nRegistration is required \nPlease call or register online.  \n#219-696-7704 \nRegistration opens Monday\, October 20th \n 
URL:https://www.lowellpl.lib.in.us/event/pj-story-time-lowell/
LOCATION:Lowell Public Library\, 1505 E Commercial Ave\, Lowell\, IN\, 46356-2107\, United States
CATEGORIES:Events,Kids
ATTACH;FMTTYPE=image/png:https://www.lowellpl.lib.in.us/wp-content/uploads/2025/01/pajama-story-time-feb.png
END:VEVENT
BEGIN:VEVENT
DTSTART;TZID=America/Chicago:20251117T160000
DTEND;TZID=America/Chicago:20251117T170000
DTSTAMP:20260424T160933
CREATED:20251015T194240Z
LAST-MODIFIED:20251015T194240Z
UID:10004851-1763395200-1763398800@www.lowellpl.lib.in.us
SUMMARY:Over 18 Game Day (Shelby)
DESCRIPTION:Get together to play cards or board games.
URL:https://www.lowellpl.lib.in.us/event/over-18-game-day-shelby-5/2025-11-17/
LOCATION:Shelby Branch\, 23323 Shelby Rd\, Shelby\, IN\, 46377\, United States
CATEGORIES:Events
ATTACH;FMTTYPE=image/jpeg:https://www.lowellpl.lib.in.us/wp-content/uploads/2024/04/over-18-game-2.jpg
END:VEVENT
BEGIN:VEVENT
DTSTART;TZID=America/Chicago:20251115T110000
DTEND;TZID=America/Chicago:20251115T120000
DTSTAMP:20260424T160933
CREATED:20251016T193859Z
LAST-MODIFIED:20251016T194333Z
UID:10004868-1763204400-1763208000@www.lowellpl.lib.in.us
SUMMARY:Coffee Time (Schneider)
DESCRIPTION:Stop in for a cup of coffee and a chat.
URL:https://www.lowellpl.lib.in.us/event/coffee-time-schneider/
LOCATION:Schneider Branch Library\, 24002 Parrish Ave\, Schneider\, IN\, 46376\, United States
CATEGORIES:Events
ATTACH;FMTTYPE=image/jpeg:https://www.lowellpl.lib.in.us/wp-content/uploads/2022/05/coffee.jpg
END:VEVENT
BEGIN:VEVENT
DTSTART;TZID=America/Chicago:20251115T100000
DTEND;TZID=America/Chicago:20251115T120000
DTSTAMP:20260424T160933
CREATED:20251015T194847Z
LAST-MODIFIED:20251015T194847Z
UID:10004854-1763200800-1763208000@www.lowellpl.lib.in.us
SUMMARY:Movies for Grown-Ups (Shelby)
DESCRIPTION:Enjoy a morning movie at the library.  \n 
URL:https://www.lowellpl.lib.in.us/event/movies-for-grown-ups-shelby-5/
LOCATION:Shelby Branch\, 23323 Shelby Rd\, Shelby\, IN\, 46377\, United States
CATEGORIES:Events
ATTACH;FMTTYPE=image/png:https://www.lowellpl.lib.in.us/wp-content/uploads/2025/01/family-movie-night-feb.png
END:VEVENT
BEGIN:VEVENT
DTSTART;TZID=America/Chicago:20251115T100000
DTEND;TZID=America/Chicago:20251115T120000
DTSTAMP:20260424T160933
CREATED:20241127T151929Z
LAST-MODIFIED:20250527T174346Z
UID:10002976-1763200800-1763208000@www.lowellpl.lib.in.us
SUMMARY:Poetry (Lowell)
DESCRIPTION:Aspiring poets can join the NW Indiana Poetry Society. Bring  your works or that of your favorite poet. \n 
URL:https://www.lowellpl.lib.in.us/event/poetry-21/2025-11-15/
LOCATION:Lowell Public Library\, 1505 E Commercial Ave\, Lowell\, IN\, 46356-2107\, United States
CATEGORIES:Events
ATTACH;FMTTYPE=image/jpeg:https://www.lowellpl.lib.in.us/wp-content/uploads/2022/01/poetry-pencil.jpg
END:VEVENT
BEGIN:VEVENT
DTSTART;TZID=America/Chicago:20251113T173000
DTEND;TZID=America/Chicago:20251113T190000
DTSTAMP:20260424T160933
CREATED:20241220T172838Z
LAST-MODIFIED:20251105T181750Z
UID:10003048-1763055000-1763060400@www.lowellpl.lib.in.us
SUMMARY:Simple Stamping (Lowell)
DESCRIPTION:Make two cards with envelopes.  A $7 fee\, payable at class\, will cover all materials. Limit 12. Pre-register. REGISTRATION OPENS October 2
URL:https://www.lowellpl.lib.in.us/event/simple-stamping-41/
LOCATION:Lowell Public Library\, 1505 E Commercial Ave\, Lowell\, IN\, 46356-2107\, United States
CATEGORIES:Events
ATTACH;FMTTYPE=image/jpeg:https://www.lowellpl.lib.in.us/wp-content/uploads/2022/12/stamping2.jpeg
END:VEVENT
BEGIN:VEVENT
DTSTART;TZID=America/Chicago:20251113T163000
DTEND;TZID=America/Chicago:20251113T173000
DTSTAMP:20260424T160933
CREATED:20251015T203426Z
LAST-MODIFIED:20251015T203703Z
UID:10004860-1763051400-1763055000@www.lowellpl.lib.in.us
SUMMARY:YA/Teen Caramel Apples (Shelby)
DESCRIPTION:Make caramel apples with Miss Emily!
URL:https://www.lowellpl.lib.in.us/event/ya-teen-caramel-apples/
LOCATION:Shelby Branch\, 23323 Shelby Rd\, Shelby\, IN\, 46377\, United States
CATEGORIES:Events
ATTACH;FMTTYPE=image/jpeg:https://www.lowellpl.lib.in.us/wp-content/uploads/2023/09/caramel-apple2.jpg
END:VEVENT
BEGIN:VEVENT
DTSTART;TZID=America/Chicago:20251113T153000
DTEND;TZID=America/Chicago:20251113T160000
DTSTAMP:20260424T160933
CREATED:20251013T231630Z
LAST-MODIFIED:20251013T231630Z
UID:10004832-1763047800-1763049600@www.lowellpl.lib.in.us
SUMMARY:Book walk (Lowell)
DESCRIPTION:Join Miss Jackie to dance along or walk to some fun tunes and win books! \nThis is a free program for children ages birth– 4th grade to enjoy with a parent or adult. \nPre-registration is required. \nPlease call or sign-up online! \nREGISTRATION OPENS Monday\, October 20th \n 
URL:https://www.lowellpl.lib.in.us/event/book-walk-lowell-2/
LOCATION:Lowell Public Library\, 1505 E Commercial Ave\, Lowell\, IN\, 46356-2107\, United States
CATEGORIES:Events,Kids
ATTACH;FMTTYPE=image/jpeg:https://www.lowellpl.lib.in.us/wp-content/uploads/2022/03/books-walking-colored.jpg
END:VEVENT
BEGIN:VEVENT
DTSTART;TZID=America/Chicago:20251113T103000
DTEND;TZID=America/Chicago:20251113T110000
DTSTAMP:20260424T160933
CREATED:20251013T231142Z
LAST-MODIFIED:20251013T231142Z
UID:10004831-1763029800-1763031600@www.lowellpl.lib.in.us
SUMMARY:Book walk (Lowell)
DESCRIPTION:Join Miss Jackie to dance along or walk to some fun tunes and win books! \nThis is a free program for children ages birth– 4th grade to enjoy with a parent or adult. \nPre-registration is required. \nPlease call or sign-up online! \nREGISTRATION OPENS Monday\, October 20th \n 
URL:https://www.lowellpl.lib.in.us/event/book-walk-lowell/
LOCATION:Lowell Public Library\, 1505 E Commercial Ave\, Lowell\, IN\, 46356-2107\, United States
CATEGORIES:Events,Kids
ATTACH;FMTTYPE=image/jpeg:https://www.lowellpl.lib.in.us/wp-content/uploads/2022/03/books-walking-colored.jpg
END:VEVENT
BEGIN:VEVENT
DTSTART;TZID=America/Chicago:20251113T090000
DTEND;TZID=America/Chicago:20251113T120000
DTSTAMP:20260424T160933
CREATED:20250131T165606Z
LAST-MODIFIED:20251014T142700Z
UID:10003231-1763024400-1763035200@www.lowellpl.lib.in.us
SUMMARY:Knit & Crochet (Lowell)
DESCRIPTION:Meet up to knit and crochet\, and share patterns and tips.   \n 
URL:https://www.lowellpl.lib.in.us/event/knit-crochet-32/2025-11-13/
LOCATION:Lowell Public Library\, 1505 E Commercial Ave\, Lowell\, IN\, 46356-2107\, United States
CATEGORIES:Events
ATTACH;FMTTYPE=image/jpeg:https://www.lowellpl.lib.in.us/wp-content/uploads/2022/01/crochet.jpg
END:VEVENT
BEGIN:VEVENT
DTSTART;TZID=America/Chicago:20251112T180000
DTEND;TZID=America/Chicago:20251112T190000
DTSTAMP:20260424T160933
CREATED:20250912T200225Z
LAST-MODIFIED:20250912T200308Z
UID:10004778-1762970400-1762974000@www.lowellpl.lib.in.us
SUMMARY:Medicare 101(Lowell)
DESCRIPTION:Significant changes are coming to Medicare in 2026! Do you know what they are? Join us for a FREE educational presentation to learn more and get answers to all your Medicare questions. \n Topics covered will include: \n\nWhen and how should you enroll in Medicare?\nWhat are “Special Enrollment Periods\,” and why do some \n\n        individuals qualify for them year-round? \n\nWhat does Medicare cover\, what doesn’t it cover\, and what could your potential out-of-pocket expenses be?\nConsiderations when choosing Medicare Supplements\, Medicare Advantage plans\, and Part D Prescription Coverage\,      as well as cost-saving strategies for the coming years.\n\n Remember\, the Medicare Annual Enrollment Period is from  October 15th to December 7th each year.) Register at our website. \n 
URL:https://www.lowellpl.lib.in.us/event/medicare-101-9/
LOCATION:Lowell Public Library\, 1505 E Commercial Ave\, Lowell\, IN\, 46356-2107\, United States
ATTACH;FMTTYPE=image/jpeg:https://www.lowellpl.lib.in.us/wp-content/uploads/2024/08/medicare101.jpg
END:VEVENT
BEGIN:VEVENT
DTSTART;TZID=America/Chicago:20251112T163000
DTEND;TZID=America/Chicago:20251112T173000
DTSTAMP:20260424T160933
CREATED:20251017T140058Z
LAST-MODIFIED:20251017T140058Z
UID:10004871-1762965000-1762968600@www.lowellpl.lib.in.us
SUMMARY:YA/Teen Bingo (Schneider)
DESCRIPTION:Play bingo to win prizes
URL:https://www.lowellpl.lib.in.us/event/ya-teen-bingo-schneider/
LOCATION:Schneider Branch Library\, 24002 Parrish Ave\, Schneider\, IN\, 46376\, United States
CATEGORIES:Events
ATTACH;FMTTYPE=image/jpeg:https://www.lowellpl.lib.in.us/wp-content/uploads/2022/01/bingo.jpg
END:VEVENT
BEGIN:VEVENT
DTSTART;TZID=America/Chicago:20251112T160000
DTEND;TZID=America/Chicago:20251112T170000
DTSTAMP:20260424T160933
CREATED:20251015T203112Z
LAST-MODIFIED:20251015T203213Z
UID:10004859-1762963200-1762966800@www.lowellpl.lib.in.us
SUMMARY:Tales for Tails (Shelby)
DESCRIPTION:Read\, or just visit with a certified therapy dog.
URL:https://www.lowellpl.lib.in.us/event/tales-for-tails-88/
LOCATION:Shelby Branch\, 23323 Shelby Rd\, Shelby\, IN\, 46377\, United States
CATEGORIES:Events
ATTACH;FMTTYPE=image/jpeg:https://www.lowellpl.lib.in.us/wp-content/uploads/2023/05/therapy-dog.jpg
END:VEVENT
BEGIN:VEVENT
DTSTART;TZID=America/Chicago:20251112T100000
DTEND;TZID=America/Chicago:20251112T120000
DTSTAMP:20260424T160933
CREATED:20250110T182611Z
LAST-MODIFIED:20251202T223440Z
UID:10003083-1762941600-1762948800@www.lowellpl.lib.in.us
SUMMARY:Tech Help Appointments (Lowell)
DESCRIPTION:Do you have a question about your phone\, tablet\, laptop\, or computer? Set up a 30-minute appointment with Amanda—she will try her best to help you find the answer! Half-hour sessions are available between 10am and Noon (keep scrolling to view all time slots). Registration required. \n  \n 
URL:https://www.lowellpl.lib.in.us/event/drop-in-tech-help-14/
LOCATION:Lowell Public Library\, 1505 E Commercial Ave\, Lowell\, IN\, 46356-2107\, United States
CATEGORIES:Events
ATTACH;FMTTYPE=image/jpeg:https://www.lowellpl.lib.in.us/wp-content/uploads/2024/09/technology-Amanda.jpg
END:VEVENT
BEGIN:VEVENT
DTSTART;TZID=America/Chicago:20251111T163000
DTEND;TZID=America/Chicago:20251111T173000
DTSTAMP:20260424T160933
CREATED:20250915T211030Z
LAST-MODIFIED:20251017T190212Z
UID:10004878-1762878600-1762882200@www.lowellpl.lib.in.us
SUMMARY:Kids Game Day (Shelby)
DESCRIPTION:Play board games with friends
URL:https://www.lowellpl.lib.in.us/event/kids-game-day-47/2025-11-11/
LOCATION:Shelby Branch\, 23323 Shelby Rd\, Shelby\, IN\, 46377\, United States
CATEGORIES:Events
ATTACH;FMTTYPE=image/jpeg:https://www.lowellpl.lib.in.us/wp-content/uploads/2022/01/boardgames.jpg
END:VEVENT
BEGIN:VEVENT
DTSTART;TZID=America/Chicago:20251111T160000
DTEND;TZID=America/Chicago:20251111T170000
DTSTAMP:20260424T160933
CREATED:20251017T142627Z
LAST-MODIFIED:20251017T142627Z
UID:10004875-1762876800-1762880400@www.lowellpl.lib.in.us
SUMMARY:Kids Craft (Schneider)
DESCRIPTION:Create Indian corn using pony beads and pipe cleaners. \n 
URL:https://www.lowellpl.lib.in.us/event/kids-craft-schneider-7/
LOCATION:IN
CATEGORIES:Events
ATTACH;FMTTYPE=image/jpeg:https://www.lowellpl.lib.in.us/wp-content/uploads/2025/10/schneider-beaded-corn.jpg
END:VEVENT
BEGIN:VEVENT
DTSTART;TZID=America/Chicago:20251111T160000
DTEND;TZID=America/Chicago:20251111T170000
DTSTAMP:20260424T160933
CREATED:20251013T230627Z
LAST-MODIFIED:20251013T231314Z
UID:10004830-1762876800-1762880400@www.lowellpl.lib.in.us
SUMMARY:Tales for Tails (Lowell)
DESCRIPTION:Tuesdays 4 P.M—5 P.M \nRead or just visit with a certified therapy dog \nJoin us on Tuesdays as we will be offering the opportunity for kids to read or just visit with therapy dogs. \nThis is a fun program\, where children get a chance to cozy up with a loveable pup and practice their reading skills. Kids can read to one of the therapy dogs for a few minutes or just visit with one. Some of these talented pups have pretty neat talents to share as well! Such a fun way to build confidence and increase the kids love of reading! \n*REGISTRATION IS REQUIRED* \nRegistration opens Monday\, October 20th \n  \n 
URL:https://www.lowellpl.lib.in.us/event/tales-for-tails-87/
LOCATION:Lowell Public Library\, 1505 E Commercial Ave\, Lowell\, IN\, 46356-2107\, United States
CATEGORIES:Events,Kids
ATTACH;FMTTYPE=image/jpeg:https://www.lowellpl.lib.in.us/wp-content/uploads/2023/05/therapy-dog.jpg
END:VEVENT
BEGIN:VEVENT
DTSTART;TZID=America/Chicago:20251110T180000
DTEND;TZID=America/Chicago:20251110T190000
DTSTAMP:20260424T160933
CREATED:20251016T193257Z
LAST-MODIFIED:20251016T193257Z
UID:10004867-1762797600-1762801200@www.lowellpl.lib.in.us
SUMMARY:Adult Craft (Schneider)
DESCRIPTION:Paint a doormat with stencils
URL:https://www.lowellpl.lib.in.us/event/adult-craft-schneider-3/
LOCATION:Schneider Branch Library\, 24002 Parrish Ave\, Schneider\, IN\, 46376\, United States
CATEGORIES:Events
ATTACH;FMTTYPE=image/jpeg:https://www.lowellpl.lib.in.us/wp-content/uploads/2025/10/Schneider-Doormat.jpg
END:VEVENT
BEGIN:VEVENT
DTSTART;TZID=America/Chicago:20251110T180000
DTEND;TZID=America/Chicago:20251110T190000
DTSTAMP:20260424T160933
CREATED:20251014T203940Z
LAST-MODIFIED:20251030T191029Z
UID:10004844-1762797600-1762801200@www.lowellpl.lib.in.us
SUMMARY:Use Your Home Equity (Lowell)
DESCRIPTION:Use Your Home Equity \nHELOC\, cash-out refinance\, and reverse mortgages. What are they? Join Gabrielle Gregoline\, Mortgage Specialist at Guaranteed Rate\, for an informative program covering all your mortgage options.  Refreshments will be provided.  Register. \n 
URL:https://www.lowellpl.lib.in.us/event/use-your-home-equity-lowell/
LOCATION:Lowell Public Library\, 1505 E Commercial Ave\, Lowell\, IN\, 46356-2107\, United States
CATEGORIES:Events
ATTACH;FMTTYPE=image/png:https://www.lowellpl.lib.in.us/wp-content/uploads/2025/10/HOME-EQUITY.png
END:VEVENT
BEGIN:VEVENT
DTSTART;TZID=America/Chicago:20251110T160000
DTEND;TZID=America/Chicago:20251110T170000
DTSTAMP:20260424T160933
CREATED:20251015T194240Z
LAST-MODIFIED:20251015T194240Z
UID:10004850-1762790400-1762794000@www.lowellpl.lib.in.us
SUMMARY:Over 18 Game Day (Shelby)
DESCRIPTION:Get together to play cards or board games.
URL:https://www.lowellpl.lib.in.us/event/over-18-game-day-shelby-5/2025-11-10/
LOCATION:Shelby Branch\, 23323 Shelby Rd\, Shelby\, IN\, 46377\, United States
CATEGORIES:Events
ATTACH;FMTTYPE=image/jpeg:https://www.lowellpl.lib.in.us/wp-content/uploads/2024/04/over-18-game-2.jpg
END:VEVENT
BEGIN:VEVENT
DTSTART;TZID=America/Chicago:20251110T130000
DTEND;TZID=America/Chicago:20251110T150000
DTSTAMP:20260424T160933
CREATED:20251014T164630Z
LAST-MODIFIED:20251014T164630Z
UID:10004843-1762779600-1762786800@www.lowellpl.lib.in.us
SUMMARY:Book Club (Lowell)
DESCRIPTION:Read\, then meet to discuss The Road to Jonestown\, written by Jeff Guinn. \n 
URL:https://www.lowellpl.lib.in.us/event/book-club-lowell-4/
LOCATION:Lowell Public Library\, 1505 E Commercial Ave\, Lowell\, IN\, 46356-2107\, United States
CATEGORIES:Events
ATTACH;FMTTYPE=image/jpeg:https://www.lowellpl.lib.in.us/wp-content/uploads/2025/10/road-to-jonestown.jpg
END:VEVENT
BEGIN:VEVENT
DTSTART;TZID=America/Chicago:20251108T100000
DTEND;TZID=America/Chicago:20251108T110000
DTSTAMP:20260424T160933
CREATED:20251015T194510Z
LAST-MODIFIED:20251015T194510Z
UID:10004852-1762596000-1762599600@www.lowellpl.lib.in.us
SUMMARY:Coffee & Conversation (Shelby)
DESCRIPTION:Stop in for a cup of coffee. Stay for a chat. \n 
URL:https://www.lowellpl.lib.in.us/event/coffee-conversation-shelby-5/2025-11-08/
LOCATION:Shelby Branch\, 23323 Shelby Rd\, Shelby\, IN\, 46377\, United States
CATEGORIES:Events
ATTACH;FMTTYPE=image/jpeg:https://www.lowellpl.lib.in.us/wp-content/uploads/2023/07/coffee-and-conversation.jpeg
END:VEVENT
BEGIN:VEVENT
DTSTART;TZID=America/Chicago:20251106T180000
DTEND;TZID=America/Chicago:20251106T190000
DTSTAMP:20260424T160933
CREATED:20250922T213026Z
LAST-MODIFIED:20250922T213026Z
UID:10004819-1762452000-1762455600@www.lowellpl.lib.in.us
SUMMARY:YA Caramel Apples
DESCRIPTION:Forget about Pumpkin Spice\, the best autumn flavor is Caramel Apple! Come join other 5th-12th graders in this delicious craft on THURSDAY\, NOVEMBER 6 from 6-7 at the Lowell Public Library! \nYou can stick to the basics and just add caramel to your apple or add some toppings to make a gourmet caramel apple or a monster caramel apple!\nBe as creative as you like\, just remember that you’ll be eating it later. \n  \nThis is a free program for students in 5th grade through 12th grade. PLEASE DO NOT REGISTER YOUR YOUNGER CHILDREN. \nRegistration is required for supply purposes. Registration opens OCTOBER 16.
URL:https://www.lowellpl.lib.in.us/event/ya-caramel-apples-2/
LOCATION:Lowell Public Library\, 1505 E Commercial Ave\, Lowell\, IN\, 46356-2107\, United States
CATEGORIES:Events,YA/Teen
ATTACH;FMTTYPE=image/png:https://www.lowellpl.lib.in.us/wp-content/uploads/2025/09/caramel-apples-3-kinds-2.png
END:VEVENT
BEGIN:VEVENT
DTSTART;TZID=America/Chicago:20251106T163000
DTEND;TZID=America/Chicago:20251106T173000
DTSTAMP:20260424T160933
CREATED:20251015T205347Z
LAST-MODIFIED:20251015T205347Z
UID:10004863-1762446600-1762450200@www.lowellpl.lib.in.us
SUMMARY:Kids Story Time (Shelby)
DESCRIPTION:Join Miss Jackie for stories\, music\, and maybe some yoga. \n 
URL:https://www.lowellpl.lib.in.us/event/kids-story-time-shelby/
LOCATION:Shelby Branch\, 23323 Shelby Rd\, Shelby\, IN\, 46377\, United States
CATEGORIES:Events
ATTACH;FMTTYPE=image/png:https://www.lowellpl.lib.in.us/wp-content/uploads/2022/01/StoryTimeGraphic.png
END:VEVENT
BEGIN:VEVENT
DTSTART;TZID=America/Chicago:20251106T110000
DTEND;TZID=America/Chicago:20251106T130000
DTSTAMP:20260424T160933
CREATED:20250804T185059Z
LAST-MODIFIED:20251028T155936Z
UID:10004730-1762426800-1762434000@www.lowellpl.lib.in.us
SUMMARY:Senior Social (Lowell)
DESCRIPTION:Paint a small ceramic turkey \nLimit 20- you MUST pre-register.
URL:https://www.lowellpl.lib.in.us/event/senior-social-lowell-2/
LOCATION:Lowell Public Library\, 1505 E Commercial Ave\, Lowell\, IN\, 46356-2107\, United States
CATEGORIES:Events
ATTACH;FMTTYPE=image/jpeg:https://www.lowellpl.lib.in.us/wp-content/uploads/2025/08/ceramic-painting.jpg
END:VEVENT
END:VCALENDAR