BEGIN:VCALENDAR
VERSION:2.0
PRODID:-//Lowell Public Library - Lowell, IN - ECPv6.7.0//NONSGML v1.0//EN
CALSCALE:GREGORIAN
METHOD:PUBLISH
X-WR-CALNAME:Lowell Public Library - Lowell, IN
X-ORIGINAL-URL:https://www.lowellpl.lib.in.us
X-WR-CALDESC:Events for Lowell Public Library - Lowell, IN
REFRESH-INTERVAL;VALUE=DURATION:PT1H
X-Robots-Tag:noindex
X-PUBLISHED-TTL:PT1H
BEGIN:VTIMEZONE
TZID:America/Chicago
BEGIN:DAYLIGHT
TZOFFSETFROM:-0600
TZOFFSETTO:-0500
TZNAME:CDT
DTSTART:20250309T080000
END:DAYLIGHT
BEGIN:STANDARD
TZOFFSETFROM:-0500
TZOFFSETTO:-0600
TZNAME:CST
DTSTART:20251102T070000
END:STANDARD
END:VTIMEZONE
BEGIN:VEVENT
DTSTART;TZID=America/Chicago:20251022T173000
DTEND;TZID=America/Chicago:20251022T190000
DTSTAMP:20260425T065744
CREATED:20251003T143533Z
LAST-MODIFIED:20251003T143533Z
UID:10004823-1761154200-1761159600@www.lowellpl.lib.in.us
SUMMARY:Long Term Care/Life Insurance (Lowell)
DESCRIPTION:Austin Gardiner from Concourse Financial will discuss life insurance and long-term care options.  This event is co-hosted by the library and Aaron Pollick from Edward Jones. \nPre-register.
URL:https://www.lowellpl.lib.in.us/event/long-term-care-life-insurance-lowell/
LOCATION:Lowell Public Library\, 1505 E Commercial Ave\, Lowell\, IN\, 46356-2107\, United States
CATEGORIES:Events
ATTACH;FMTTYPE=image/jpeg:https://www.lowellpl.lib.in.us/wp-content/uploads/2025/10/life-insurance-and-long-term-care.jpg
END:VEVENT
BEGIN:VEVENT
DTSTART;TZID=America/Chicago:20251022T163000
DTEND;TZID=America/Chicago:20251022T170000
DTSTAMP:20260425T065744
CREATED:20250918T201213Z
LAST-MODIFIED:20250918T201213Z
UID:10004811-1761150600-1761152400@www.lowellpl.lib.in.us
SUMMARY:YA Game Night (Schneider)
DESCRIPTION:Bring a game or play one of ours
URL:https://www.lowellpl.lib.in.us/event/ya-game-night-schneider/2025-10-22/
LOCATION:Schneider Branch Library\, 24002 Parrish Ave\, Schneider\, IN\, 46376\, United States
CATEGORIES:Events
ATTACH;FMTTYPE=image/jpeg:https://www.lowellpl.lib.in.us/wp-content/uploads/2022/02/games.jpg
END:VEVENT
BEGIN:VEVENT
DTSTART;TZID=America/Chicago:20251022T160000
DTEND;TZID=America/Chicago:20251022T170000
DTSTAMP:20260425T065744
CREATED:20250915T212353Z
LAST-MODIFIED:20250915T212353Z
UID:10004801-1761148800-1761152400@www.lowellpl.lib.in.us
SUMMARY:Therapy Dogs (Shelby)
DESCRIPTION:ALL AGES! \nRead to or just visit with a certified therapy dog. \n  \n 
URL:https://www.lowellpl.lib.in.us/event/therapy-dogs-shelby/
LOCATION:Shelby Branch\, 23323 Shelby Rd\, Shelby\, IN\, 46377\, United States
CATEGORIES:Events
ATTACH;FMTTYPE=image/jpeg:https://www.lowellpl.lib.in.us/wp-content/uploads/2023/05/therapy-dog.jpg
END:VEVENT
BEGIN:VEVENT
DTSTART;TZID=America/Chicago:20251022T103000
DTEND;TZID=America/Chicago:20251022T110000
DTSTAMP:20260425T065744
CREATED:20250910T131602Z
LAST-MODIFIED:20250910T131602Z
UID:10004771-1761129000-1761130800@www.lowellpl.lib.in.us
SUMMARY:Story time (Lowell)
DESCRIPTION:Join Miss Jackie for a few stories\, group activities or a simple craft! (Sometimes we get messy!) \nThis is a free program for children ages 5 years of age and younger to enjoy with a parent or guardian. \nStory time will last about 30-40 minutes. \nLimited space. Registration is required \nPlease call or register online \n#219-696-7704 \nDates: \nTuesday October 14th &21st \nWednesday October 15th &22nd \nOR \nThursday October 16th &23rd \n10:30 A.M– 11 \nPlease only choose a Tuesday\, Wednesday OR Thursday session \nRegistration opens September 22nd \n 
URL:https://www.lowellpl.lib.in.us/event/story-time-lowell-11/
LOCATION:Lowell Public Library\, 1505 E Commercial Ave\, Lowell\, IN\, 46356-2107\, United States
CATEGORIES:Events,Kids
ATTACH;FMTTYPE=image/jpeg:https://www.lowellpl.lib.in.us/wp-content/uploads/2024/09/story-time.jpeg
END:VEVENT
BEGIN:VEVENT
DTSTART;TZID=America/Chicago:20251021T180000
DTEND;TZID=America/Chicago:20251021T190000
DTSTAMP:20260425T065744
CREATED:20250912T202621Z
LAST-MODIFIED:20250912T202621Z
UID:10004780-1761069600-1761073200@www.lowellpl.lib.in.us
SUMMARY:Library Board Meets (Lowell)
DESCRIPTION:The regular meeting of the Lowell Public Library Board of Trustees will be held. \n  \n 
URL:https://www.lowellpl.lib.in.us/event/library-board-meets-lowell-3/
LOCATION:Lowell Public Library\, 1505 E Commercial Ave\, Lowell\, IN\, 46356-2107\, United States
CATEGORIES:Events
ATTACH;FMTTYPE=image/jpeg:https://www.lowellpl.lib.in.us/wp-content/uploads/2022/01/board-meeting-3.jpg
END:VEVENT
BEGIN:VEVENT
DTSTART;TZID=America/Chicago:20251021T163000
DTEND;TZID=America/Chicago:20251021T173000
DTSTAMP:20260425T065744
CREATED:20250918T202630Z
LAST-MODIFIED:20250918T202855Z
UID:10004816-1761064200-1761067800@www.lowellpl.lib.in.us
SUMMARY:Kids Ceramics (Schneider)
DESCRIPTION:Paint a ceramic ghost
URL:https://www.lowellpl.lib.in.us/event/kids-ceramics/
LOCATION:Schneider Branch Library\, 24002 Parrish Ave\, Schneider\, IN\, 46376\, United States
CATEGORIES:Events
ATTACH;FMTTYPE=image/jpeg:https://www.lowellpl.lib.in.us/wp-content/uploads/2025/08/ceramic-painting.jpg
END:VEVENT
BEGIN:VEVENT
DTSTART;TZID=America/Chicago:20251021T163000
DTEND;TZID=America/Chicago:20251021T173000
DTSTAMP:20260425T065744
CREATED:20250917T202538Z
LAST-MODIFIED:20250917T202538Z
UID:10004804-1761064200-1761067800@www.lowellpl.lib.in.us
SUMMARY:Kids Craft (Shelby)
DESCRIPTION:Make a cute Halloween bat!
URL:https://www.lowellpl.lib.in.us/event/kids-craft-shelby-3/
LOCATION:Shelby Branch\, 23323 Shelby Rd\, Shelby\, IN\, 46377\, United States
CATEGORIES:Events
ATTACH;FMTTYPE=image/png:https://www.lowellpl.lib.in.us/wp-content/uploads/2025/09/bat.png
END:VEVENT
BEGIN:VEVENT
DTSTART;TZID=America/Chicago:20251021T160000
DTEND;TZID=America/Chicago:20251021T170000
DTSTAMP:20260425T065744
CREATED:20250909T195850Z
LAST-MODIFIED:20250909T195850Z
UID:10004770-1761062400-1761066000@www.lowellpl.lib.in.us
SUMMARY:Tales for Tails (Lowell)
DESCRIPTION:Tales for Tails! \nOctober \nTuesdays  from 4pm—5pm \nRead or just visit with a certified therapy dog \nJoin us on Tuesdays as we will be offering the opportunity for kids to read or just visit with therapy dogs. \nThis is a fun program\, where children get a chance to cozy up with a loveable pup and practice their reading skills. Kids can read to one of the therapy dogs for a few minutes or just visit with one. Some of these talented pups have pretty neat talents to share as well! Such a fun way to build confidence and increase the kids love of reading! \n*REGISTRATION IS REQUIRED* \nRegistration opens September 22nd \n  \n 
URL:https://www.lowellpl.lib.in.us/event/tales-for-tails-lowell-7/
LOCATION:Lowell Public Library\, 1505 E Commercial Ave\, Lowell\, IN\, 46356-2107\, United States
CATEGORIES:Events,Kids
ATTACH;FMTTYPE=image/jpeg:https://www.lowellpl.lib.in.us/wp-content/uploads/2023/05/therapy-dog.jpg
END:VEVENT
BEGIN:VEVENT
DTSTART;TZID=America/Chicago:20251021T103000
DTEND;TZID=America/Chicago:20251021T110000
DTSTAMP:20260425T065744
CREATED:20250909T195611Z
LAST-MODIFIED:20250909T195611Z
UID:10004769-1761042600-1761044400@www.lowellpl.lib.in.us
SUMMARY:Story time (Lowell)
DESCRIPTION:Join Miss Jackie for a few stories\, group activities or a simple craft! (Sometimes we get messy!) \nThis is a free program for children ages 5 years of age and younger to enjoy with a parent or guardian. \nStory time will last about 30-40 minutes. \nLimited space. Registration is required \nPlease call or register online \n#219-696-7704 \nDates: \nTuesday October 14th &21st \nWednesday October 15th &22nd \nOR \nThursday October 16th &23rd \n10:30 A.M– 11 \nPlease only choose a Tuesday\, Wednesday OR Thursday session \nRegistration opens September 22nd \n 
URL:https://www.lowellpl.lib.in.us/event/story-time-lowell-10/
LOCATION:Lowell Public Library\, 1505 E Commercial Ave\, Lowell\, IN\, 46356-2107\, United States
CATEGORIES:Events,Kids
ATTACH;FMTTYPE=image/jpeg:https://www.lowellpl.lib.in.us/wp-content/uploads/2024/09/story-time.jpeg
END:VEVENT
BEGIN:VEVENT
DTSTART;TZID=America/Chicago:20251021T100000
DTEND;TZID=America/Chicago:20251021T113000
DTSTAMP:20260425T065744
CREATED:20241127T152223Z
LAST-MODIFIED:20250527T174106Z
UID:10002987-1761040800-1761046200@www.lowellpl.lib.in.us
SUMMARY:Adult Coloring (Lowell)
DESCRIPTION:Join in on the fun!  Coloring helps us de-stress and stimulates brain areas related to motor skills. All supplies will be provided or you may bring your own. \n 
URL:https://www.lowellpl.lib.in.us/event/adult-coloring-35/2025-10-21/
LOCATION:Lowell Public Library\, 1505 E Commercial Ave\, Lowell\, IN\, 46356-2107\, United States
CATEGORIES:Events
ATTACH;FMTTYPE=image/jpeg:https://www.lowellpl.lib.in.us/wp-content/uploads/2022/01/coloring.jpg
END:VEVENT
BEGIN:VEVENT
DTSTART;TZID=America/Chicago:20251020T180000
DTEND;TZID=America/Chicago:20251020T190000
DTSTAMP:20260425T065744
CREATED:20250918T200225Z
LAST-MODIFIED:20250918T200225Z
UID:10004807-1760983200-1760986800@www.lowellpl.lib.in.us
SUMMARY:Adult Ceramics (Schneider)
DESCRIPTION:Monday\, October 6 & 20\, 6 PM. \nPaint a ceramic piece.  Call the library for information and to sign up. \n 
URL:https://www.lowellpl.lib.in.us/event/adult-ceramics-schneider-2/2025-10-20/
LOCATION:Schneider Branch Library\, 24002 Parrish Ave\, Schneider\, IN\, 46376\, United States
CATEGORIES:Events
ATTACH;FMTTYPE=image/jpeg:https://www.lowellpl.lib.in.us/wp-content/uploads/2024/01/ceramic.jpg
END:VEVENT
BEGIN:VEVENT
DTSTART;TZID=America/Chicago:20251020T160000
DTEND;TZID=America/Chicago:20251020T180000
DTSTAMP:20260425T065744
CREATED:20250909T195238Z
LAST-MODIFIED:20251007T154039Z
UID:10004768-1760976000-1760983200@www.lowellpl.lib.in.us
SUMMARY:Family Movie Night (Lowell)
DESCRIPTION:Family Movie Night! \nMonday\, October 20th \n4 PM– 6PM \nWear your pajamas and bring something cozy to sit on. \nA snack and bottled water will be provided. Feel free to bring your own as well. \n**Pre- registration is required** \nRegistration opens Monday\, September 22nd \n 
URL:https://www.lowellpl.lib.in.us/event/family-movie-night-lowell/
LOCATION:Lowell Public Library\, 1505 E Commercial Ave\, Lowell\, IN\, 46356-2107\, United States
CATEGORIES:Events,Kids
ATTACH;FMTTYPE=image/png:https://www.lowellpl.lib.in.us/wp-content/uploads/2025/09/family-movie-oct.png
END:VEVENT
BEGIN:VEVENT
DTSTART;TZID=America/Chicago:20251020T160000
DTEND;TZID=America/Chicago:20251020T170000
DTSTAMP:20260425T065744
CREATED:20250912T211751Z
LAST-MODIFIED:20250912T211832Z
UID:10004787-1760976000-1760979600@www.lowellpl.lib.in.us
SUMMARY:Over 18 Game Day (Shelby)
DESCRIPTION:Get together to play cards or board games. \n 
URL:https://www.lowellpl.lib.in.us/event/over-18-game-day-shelby-4/2025-10-20/
LOCATION:Shelby Branch\, 23323 Shelby Rd\, Shelby\, IN\, 46377\, United States
CATEGORIES:Events
ATTACH;FMTTYPE=image/jpeg:https://www.lowellpl.lib.in.us/wp-content/uploads/2024/04/over-18-game-2.jpg
END:VEVENT
BEGIN:VEVENT
DTSTART;TZID=America/Chicago:20251018T100000
DTEND;TZID=America/Chicago:20251018T120000
DTSTAMP:20260425T065744
CREATED:20250912T213118Z
LAST-MODIFIED:20250912T213118Z
UID:10004791-1760781600-1760788800@www.lowellpl.lib.in.us
SUMMARY:Movies for Grown -Ups (Shelby)
DESCRIPTION:Enjoy a morning movie at the library.  \n 
URL:https://www.lowellpl.lib.in.us/event/movies-for-grown-ups-shelby-4/
LOCATION:Shelby Branch\, 23323 Shelby Rd\, Shelby\, IN\, 46377\, United States
CATEGORIES:Events
ATTACH;FMTTYPE=image/png:https://www.lowellpl.lib.in.us/wp-content/uploads/2025/01/family-movie-night-feb.png
END:VEVENT
BEGIN:VEVENT
DTSTART;TZID=America/Chicago:20251018T100000
DTEND;TZID=America/Chicago:20251018T120000
DTSTAMP:20260425T065744
CREATED:20241127T151929Z
LAST-MODIFIED:20250527T174346Z
UID:10002975-1760781600-1760788800@www.lowellpl.lib.in.us
SUMMARY:Poetry (Lowell)
DESCRIPTION:Aspiring poets can join the NW Indiana Poetry Society. Bring  your works or that of your favorite poet. \n 
URL:https://www.lowellpl.lib.in.us/event/poetry-21/2025-10-18/
LOCATION:Lowell Public Library\, 1505 E Commercial Ave\, Lowell\, IN\, 46356-2107\, United States
CATEGORIES:Events
ATTACH;FMTTYPE=image/jpeg:https://www.lowellpl.lib.in.us/wp-content/uploads/2022/01/poetry-pencil.jpg
END:VEVENT
BEGIN:VEVENT
DTSTART;TZID=America/Chicago:20251016T160000
DTEND;TZID=America/Chicago:20251016T170000
DTSTAMP:20260425T065744
CREATED:20250912T212833Z
LAST-MODIFIED:20250912T212833Z
UID:10004790-1760630400-1760634000@www.lowellpl.lib.in.us
SUMMARY:Adult Book Discussion (Shelby)
DESCRIPTION:Read\, then meet to discuss Murder by the Book written by Lauren Elliott. \n 
URL:https://www.lowellpl.lib.in.us/event/adult-book-discussion-shelby-3/
LOCATION:Shelby Branch\, 23323 Shelby Rd\, Shelby\, IN\, 46377\, United States
CATEGORIES:Events
ATTACH;FMTTYPE=image/jpeg:https://www.lowellpl.lib.in.us/wp-content/uploads/2025/09/murder-by-the-book.jpg
END:VEVENT
BEGIN:VEVENT
DTSTART;TZID=America/Chicago:20251016T103000
DTEND;TZID=America/Chicago:20251016T110000
DTSTAMP:20260425T065744
CREATED:20250909T194843Z
LAST-MODIFIED:20250909T194843Z
UID:10004767-1760610600-1760612400@www.lowellpl.lib.in.us
SUMMARY:Story time (Lowell)
DESCRIPTION:Join Miss Jackie for a few stories\, group activities or a simple craft! (Sometimes we get messy!) \nThis is a free program for children ages 5 years of age and younger to enjoy with a parent or guardian. \nStory time will last about 30-40 minutes. \nLimited space. Registration is required \nPlease call or register online \n#219-696-7704 \nDates: \nTuesday October 14th &21st \nWednesday October 15th &22nd \nOR \nThursday October 16th &23rd \n10:30 A.M– 11 \nPlease only choose a Tuesday\, Wednesday OR Thursday session \nRegistration opens September 22nd \n 
URL:https://www.lowellpl.lib.in.us/event/story-time-lowell-9/
LOCATION:Lowell Public Library\, 1505 E Commercial Ave\, Lowell\, IN\, 46356-2107\, United States
CATEGORIES:Events,Kids
ATTACH;FMTTYPE=image/jpeg:https://www.lowellpl.lib.in.us/wp-content/uploads/2024/09/story-time.jpeg
END:VEVENT
BEGIN:VEVENT
DTSTART;TZID=America/Chicago:20251016T090000
DTEND;TZID=America/Chicago:20251016T120000
DTSTAMP:20260425T065744
CREATED:20250131T165606Z
LAST-MODIFIED:20251014T142700Z
UID:10003227-1760605200-1760616000@www.lowellpl.lib.in.us
SUMMARY:Knit & Crochet (Lowell)
DESCRIPTION:Meet up to knit and crochet\, and share patterns and tips.   \n 
URL:https://www.lowellpl.lib.in.us/event/knit-crochet-32/2025-10-16/
LOCATION:Lowell Public Library\, 1505 E Commercial Ave\, Lowell\, IN\, 46356-2107\, United States
CATEGORIES:Events
ATTACH;FMTTYPE=image/jpeg:https://www.lowellpl.lib.in.us/wp-content/uploads/2022/01/crochet.jpg
END:VEVENT
BEGIN:VEVENT
DTSTART;TZID=America/Chicago:20251015T180000
DTEND;TZID=America/Chicago:20251015T190000
DTSTAMP:20260425T065744
CREATED:20250912T200025Z
LAST-MODIFIED:20250912T200025Z
UID:10004777-1760551200-1760554800@www.lowellpl.lib.in.us
SUMMARY:Medicare 101 (Lowell)
DESCRIPTION:Significant changes are coming to Medicare in 2026! Do you know what they are? Join us for a FREE educational presentation to learn more and get answers to all your Medicare questions. \n Topics covered will include: \n\nWhen and how should you enroll in Medicare?\nWhat are “Special Enrollment Periods\,” and why do some \n\n        individuals qualify for them year-round? \n\nWhat does Medicare cover\, what doesn’t it cover\, and what could your potential out-of-pocket expenses be?\nConsiderations when choosing Medicare Supplements\, Medicare Advantage plans\, and Part D Prescription Coverage\,      as well as cost-saving strategies for the coming years.\n\n Remember\, the Medicare Annual Enrollment Period is from  October 15th to December 7th each year.) Register at our website. \n 
URL:https://www.lowellpl.lib.in.us/event/medicare-101-lowell/
LOCATION:Lowell Public Library\, 1505 E Commercial Ave\, Lowell\, IN\, 46356-2107\, United States
CATEGORIES:Events
ATTACH;FMTTYPE=image/jpeg:https://www.lowellpl.lib.in.us/wp-content/uploads/2024/08/medicare101.jpg
END:VEVENT
BEGIN:VEVENT
DTSTART;TZID=America/Chicago:20251015T180000
DTEND;TZID=America/Chicago:20251015T190000
DTSTAMP:20260425T065744
CREATED:20250912T192708Z
LAST-MODIFIED:20250923T155624Z
UID:10004776-1760551200-1760554800@www.lowellpl.lib.in.us
SUMMARY:Indiana Ghost Trackers (Lowell)
DESCRIPTION: Join Mike McDowell\, President and CEO of Indiana Ghost Trackers\, Inc.\, as he shares his insights into haunted places. Mike will discuss how the Ghost Trackers conduct their investigations and reveal the results of their paranormal adventures. The presentation will include a PowerPoint\, videos\, photographs showcasing area hauntings\, as well as recordings of EVP (Electronic Voice  Phenomena).  Additionally\, Mike will share the findings from his investigations of the Lowell Public Library. Is the library haunted? Come find out! \n You are invited to share any paranormal or unexplained experiences you may have during the presentation. While the program is designed for adults\, children and teens are also welcome to attend. Please pre-register for the event on our website or by calling the library. \n 
URL:https://www.lowellpl.lib.in.us/event/indiana-ghost-trackers-lowell/
LOCATION:IN
CATEGORIES:Events
ATTACH;FMTTYPE=image/jpeg:https://www.lowellpl.lib.in.us/wp-content/uploads/2022/09/indiana-ghost-trackers-logo.jpg
END:VEVENT
BEGIN:VEVENT
DTSTART;TZID=America/Chicago:20251015T173000
DTEND;TZID=America/Chicago:20251015T190000
DTSTAMP:20260425T065744
CREATED:20250909T164525Z
LAST-MODIFIED:20250918T201919Z
UID:10004761-1760549400-1760554800@www.lowellpl.lib.in.us
SUMMARY:YA Campfire (Lowell)
DESCRIPTION:On WEDNESDAY\, OCTOBER 15TH\, join other Young Adults in learning the ins and outs of fire safety\, building a campfire\, maintaining a campfire\, and properly extinguishing a campfire using water. \nOf course\, who could resist cooking hotdogs\, roasting marshmallows\, making s’mores\, and listening to spooky stories while sitting around a fire?! We’ll be hearing from a local author and storyteller from Crown Point while enjoying our tasty treats. \nThis program WILL BE OUTSIDE\, please dress for the weather. If rain is forecast\, we’ll make a decision ahead of time whether to continue on or reschedule. \nWe will be meeting at 5:30 to go over fire safety\, collect supplies and build our structure. Please pick your child up by 7pm. \n  \nThis is a free program for students 5th grade through 12th grade. For safety reasons\, please DO NOT sign up younger children. \nRegistration is required. \nRegistration opens on September 24. \n 
URL:https://www.lowellpl.lib.in.us/event/ya-campfire-october/
LOCATION:Lowell Public Library\, 1505 E Commercial Ave\, Lowell\, IN\, 46356-2107\, United States
CATEGORIES:Events,YA/Teen
ATTACH;FMTTYPE=image/webp:https://www.lowellpl.lib.in.us/wp-content/uploads/2025/03/roasting-marshmallows-outside-camp-tent-260nw-2493352639-e1742308964133.webp
END:VEVENT
BEGIN:VEVENT
DTSTART;TZID=America/Chicago:20251015T163000
DTEND;TZID=America/Chicago:20251015T173000
DTSTAMP:20260425T065744
CREATED:20250918T201452Z
LAST-MODIFIED:20250918T201452Z
UID:10004812-1760545800-1760549400@www.lowellpl.lib.in.us
SUMMARY:YA Craft (Schneider)
DESCRIPTION:Paint a Halloween jar
URL:https://www.lowellpl.lib.in.us/event/ya-craft-schneider-2/
LOCATION:Schneider Branch Library\, 24002 Parrish Ave\, Schneider\, IN\, 46376\, United States
CATEGORIES:Events
ATTACH;FMTTYPE=image/jpeg:https://www.lowellpl.lib.in.us/wp-content/uploads/2025/09/Halloween-Jars.jpg
END:VEVENT
BEGIN:VEVENT
DTSTART;TZID=America/Chicago:20251015T163000
DTEND;TZID=America/Chicago:20251015T173000
DTSTAMP:20260425T065744
CREATED:20250915T204822Z
LAST-MODIFIED:20250915T204822Z
UID:10004796-1760545800-1760549400@www.lowellpl.lib.in.us
SUMMARY:YA/Teen Craft (Shelby)
DESCRIPTION:Carve a foam pumpkin
URL:https://www.lowellpl.lib.in.us/event/ya-teen-craft-shelby-2/
LOCATION:Shelby Branch\, 23323 Shelby Rd\, Shelby\, IN\, 46377\, United States
CATEGORIES:Events
ATTACH;FMTTYPE=image/jpeg:https://www.lowellpl.lib.in.us/wp-content/uploads/2025/09/Pumpkin-YA.jpg
END:VEVENT
BEGIN:VEVENT
DTSTART;TZID=America/Chicago:20251015T120000
DTEND;TZID=America/Chicago:20251015T150000
DTSTAMP:20260425T065744
CREATED:20250912T202811Z
LAST-MODIFIED:20250912T202811Z
UID:10004781-1760529600-1760540400@www.lowellpl.lib.in.us
SUMMARY:Canasta (Lowell)
DESCRIPTION:Get together to play this fun card game
URL:https://www.lowellpl.lib.in.us/event/canasta-lowell-4/
LOCATION:Lowell Public Library\, 1505 E Commercial Ave\, Lowell\, IN\, 46356-2107\, United States
CATEGORIES:Events
ATTACH;FMTTYPE=image/jpeg:https://www.lowellpl.lib.in.us/wp-content/uploads/2023/03/Canasta.jpg
END:VEVENT
BEGIN:VEVENT
DTSTART;TZID=America/Chicago:20251015T103000
DTEND;TZID=America/Chicago:20251015T110000
DTSTAMP:20260425T065744
CREATED:20250909T194637Z
LAST-MODIFIED:20250909T194637Z
UID:10004766-1760524200-1760526000@www.lowellpl.lib.in.us
SUMMARY:Story time (Lowell)
DESCRIPTION:Join Miss Jackie for a few stories\, group activities or a simple craft! (Sometimes we get messy!) \nThis is a free program for children ages 5 years of age and younger to enjoy with a parent or guardian. \nStory time will last about 30-40 minutes. \nLimited space. Registration is required \nPlease call or register online \n#219-696-7704 \nDates: \nTuesday October 14th &21st \nWednesday October 15th &22nd \nOR \nThursday October 16th &23rd \n10:30 A.M– 11 \nPlease only choose a Tuesday\, Wednesday OR Thursday session \nRegistration opens September 22nd \n 
URL:https://www.lowellpl.lib.in.us/event/story-time-lowell-8/
LOCATION:Lowell Public Library\, 1505 E Commercial Ave\, Lowell\, IN\, 46356-2107\, United States
CATEGORIES:Events,Kids
ATTACH;FMTTYPE=image/jpeg:https://www.lowellpl.lib.in.us/wp-content/uploads/2024/09/story-time.jpeg
END:VEVENT
BEGIN:VEVENT
DTSTART;TZID=America/Chicago:20251015T100000
DTEND;TZID=America/Chicago:20251015T120000
DTSTAMP:20260425T065744
CREATED:20250110T182528Z
LAST-MODIFIED:20250919T160658Z
UID:10003082-1760522400-1760529600@www.lowellpl.lib.in.us
SUMMARY:Drop-In Tech Help (Lowell)
DESCRIPTION:Do you have a question about how to use your phone\, tablet\, laptop\, or computer? Stop in during our drop-in hours and ask for Amanda—she will try her best to help you find the answer! (First come\, first served; if multiple people are waiting\, time might be limited to 30 minutes per person) \n  \n 
URL:https://www.lowellpl.lib.in.us/event/drop-in-tech-help-13/
LOCATION:Lowell Public Library\, 1505 E Commercial Ave\, Lowell\, IN\, 46356-2107\, United States
ATTACH;FMTTYPE=image/jpeg:https://www.lowellpl.lib.in.us/wp-content/uploads/2024/09/technology-Amanda.jpg
END:VEVENT
BEGIN:VEVENT
DTSTART;TZID=America/Chicago:20251014T163000
DTEND;TZID=America/Chicago:20251014T173000
DTSTAMP:20260425T065744
CREATED:20250918T202301Z
LAST-MODIFIED:20250918T202301Z
UID:10004815-1760459400-1760463000@www.lowellpl.lib.in.us
SUMMARY:Kids Craft (Schneider)
DESCRIPTION:Make an owl with tissue paper
URL:https://www.lowellpl.lib.in.us/event/kids-craft-schneider-6/
LOCATION:Schneider Branch Library\, 24002 Parrish Ave\, Schneider\, IN\, 46376\, United States
CATEGORIES:Events
ATTACH;FMTTYPE=image/jpeg:https://www.lowellpl.lib.in.us/wp-content/uploads/2025/09/owl2.jpg
END:VEVENT
BEGIN:VEVENT
DTSTART;TZID=America/Chicago:20251014T163000
DTEND;TZID=America/Chicago:20251014T173000
DTSTAMP:20260425T065744
CREATED:20250915T211504Z
LAST-MODIFIED:20250915T211504Z
UID:10004799-1760459400-1760463000@www.lowellpl.lib.in.us
SUMMARY:Kids Independent Craft (Shelby)
DESCRIPTION:Make something awesome using our craft supplies
URL:https://www.lowellpl.lib.in.us/event/kids-independent-craft-shelby-2/
LOCATION:Shelby Branch\, 23323 Shelby Rd\, Shelby\, IN\, 46377\, United States
CATEGORIES:Events
ATTACH;FMTTYPE=image/jpeg:https://www.lowellpl.lib.in.us/wp-content/uploads/2022/11/craft-supplies.jpg
END:VEVENT
BEGIN:VEVENT
DTSTART;TZID=America/Chicago:20251014T160000
DTEND;TZID=America/Chicago:20251014T170000
DTSTAMP:20260425T065744
CREATED:20250909T165723Z
LAST-MODIFIED:20250909T165723Z
UID:10004765-1760457600-1760461200@www.lowellpl.lib.in.us
SUMMARY:Tales for Tails (Lowell)
DESCRIPTION:Tales for Tails! \nOctober \nTuesdays  from 4pm—5pm \nRead or just visit with a certified therapy dog \nJoin us on Tuesdays as we will be offering the opportunity for kids to read or just visit with therapy dogs. \nThis is a fun program\, where children get a chance to cozy up with a loveable pup and practice their reading skills. Kids can read to one of the therapy dogs for a few minutes or just visit with one. Some of these talented pups have pretty neat talents to share as well! Such a fun way to build confidence and increase the kids love of reading! \n*REGISTRATION IS REQUIRED* \nRegistration opens September 22nd \n  \n 
URL:https://www.lowellpl.lib.in.us/event/tales-for-tails-lowell-6/
LOCATION:Lowell Public Library\, 1505 E Commercial Ave\, Lowell\, IN\, 46356-2107\, United States
CATEGORIES:Events,Kids
ATTACH;FMTTYPE=image/jpeg:https://www.lowellpl.lib.in.us/wp-content/uploads/2023/05/therapy-dog.jpg
END:VEVENT
BEGIN:VEVENT
DTSTART;TZID=America/Chicago:20251014T130000
DTEND;TZID=America/Chicago:20251014T150000
DTSTAMP:20260425T065744
CREATED:20250820T221649Z
LAST-MODIFIED:20250820T221649Z
UID:10004756-1760446800-1760454000@www.lowellpl.lib.in.us
SUMMARY:Learn to Play Mahjong (Lowell)
DESCRIPTION:Learn to play mahjong
URL:https://www.lowellpl.lib.in.us/event/learn-to-play-mahjong-lowell-2/
LOCATION:Lowell Public Library\, 1505 E Commercial Ave\, Lowell\, IN\, 46356-2107\, United States
CATEGORIES:Events
ATTACH;FMTTYPE=image/jpeg:https://www.lowellpl.lib.in.us/wp-content/uploads/2025/08/mahjong.jpg
END:VEVENT
END:VCALENDAR