BEGIN:VCALENDAR
VERSION:2.0
PRODID:-//Lowell Public Library - Lowell, IN - ECPv6.7.0//NONSGML v1.0//EN
CALSCALE:GREGORIAN
METHOD:PUBLISH
X-WR-CALNAME:Lowell Public Library - Lowell, IN
X-ORIGINAL-URL:https://www.lowellpl.lib.in.us
X-WR-CALDESC:Events for Lowell Public Library - Lowell, IN
REFRESH-INTERVAL;VALUE=DURATION:PT1H
X-Robots-Tag:noindex
X-PUBLISHED-TTL:PT1H
BEGIN:VTIMEZONE
TZID:America/Chicago
BEGIN:DAYLIGHT
TZOFFSETFROM:-0600
TZOFFSETTO:-0500
TZNAME:CDT
DTSTART:20250309T080000
END:DAYLIGHT
BEGIN:STANDARD
TZOFFSETFROM:-0500
TZOFFSETTO:-0600
TZNAME:CST
DTSTART:20251102T070000
END:STANDARD
END:VTIMEZONE
BEGIN:VEVENT
DTSTART;TZID=America/Chicago:20251004T100000
DTEND;TZID=America/Chicago:20251004T140000
DTSTAMP:20260425T094206
CREATED:20250918T182001Z
LAST-MODIFIED:20250918T182001Z
UID:10004805-1759572000-1759586400@www.lowellpl.lib.in.us
SUMMARY:Red Cross Blood Drive
DESCRIPTION:Give Blood\, Give Life. Visit redcrossblood.org or call 1-800-RED CROSS to schedule your appointment. Walk-ins are always welcome.  \n 
URL:https://www.lowellpl.lib.in.us/event/red-cross-blood-drive-20/
LOCATION:Lowell Public Library\, 1505 E Commercial Ave\, Lowell\, IN\, 46356-2107\, United States
CATEGORIES:Events
ATTACH;FMTTYPE=image/jpeg:https://www.lowellpl.lib.in.us/wp-content/uploads/2022/01/red-cross-2.jpg
END:VEVENT
BEGIN:VEVENT
DTSTART;TZID=America/Chicago:20251002T173000
DTEND;TZID=America/Chicago:20251002T183000
DTSTAMP:20260425T094206
CREATED:20250909T163254Z
LAST-MODIFIED:20250929T212339Z
UID:10004758-1759426200-1759429800@www.lowellpl.lib.in.us
SUMMARY:Lowell YA Escape Experience October
DESCRIPTION:Have you ever wanted to try an escape room to see if you had what it takes to make it out?\nYoung Adults and teens\, come check out the Amazing Hoosier Women Escape Experience at the Lowell Public Library on Thursday\, October 2nd at 5:30pm. This escape experience was created by the Indiana State Library specifically for Young Adults and older. This is the last opportunity to do this before it leaves.\nAMAZING HOOSIER WOMEN ESCAPE EXPERIENCE\nEscape Experience Level = EASY                        Grade Level = Grade 5+\nRecommended Time = 40-50 minutes               Recommended Group Size = 4-8 participants \n“Step into an intriguing world where participants are tasked with unraveling the mystery behind the disappearance of a set of remarkable photographs featuring notable Hoosier women.  As you navigate this immersive experience\, your mission is to recover the stolen photographs\, piecing together the stories of these inspiring women. Will you be able to restore the scrapbook of photos to its former glory? The challenge awaits!”\n  \nThis is a free program for students 5th grade – 12th grade. Registration opens on 9/11/25 and is REQUIRED. \nPLEASE DO NOT SIGN UP IF YOU ALREADY PARTICIPATED IN AUGUST (Lowell) OR SEPTEMBER (Schneider). \n 
URL:https://www.lowellpl.lib.in.us/event/lowell-ya-escape-experience-october/
LOCATION:Lowell Public Library\, 1505 E Commercial Ave\, Lowell\, IN\, 46356-2107\, United States
CATEGORIES:Events,YA/Teen
ATTACH;FMTTYPE=image/jpeg:https://www.lowellpl.lib.in.us/wp-content/uploads/2025/07/escape.jpg
END:VEVENT
BEGIN:VEVENT
DTSTART;TZID=America/Chicago:20251002T163000
DTEND;TZID=America/Chicago:20251002T173000
DTSTAMP:20260425T094206
CREATED:20250917T202421Z
LAST-MODIFIED:20250917T202421Z
UID:10004803-1759422600-1759426200@www.lowellpl.lib.in.us
SUMMARY:Story Time (Shelby)
DESCRIPTION:Join Miss Jackie for stories and some fun activities!
URL:https://www.lowellpl.lib.in.us/event/story-time-shelby-2/
LOCATION:Shelby Branch\, 23323 Shelby Rd\, Shelby\, IN\, 46377\, United States
CATEGORIES:Events
ATTACH;FMTTYPE=image/jpeg:https://www.lowellpl.lib.in.us/wp-content/uploads/2024/09/story-time.jpeg
END:VEVENT
BEGIN:VEVENT
DTSTART;TZID=America/Chicago:20251002T110000
DTEND;TZID=America/Chicago:20251002T123000
DTSTAMP:20260425T094206
CREATED:20250804T152415Z
LAST-MODIFIED:20250903T232842Z
UID:10004718-1759402800-1759408200@www.lowellpl.lib.in.us
SUMMARY:Senior Social (Lowell)
DESCRIPTION:Paint & Paint Canvas Paint Party! \nJoin us for this hilarious paint party! Start a painting and pass it on.  What will your painting look like when you get it back? \nYou will be working with acrylic paint – dress accordingly. \nLimit 20 – you MUST pre-register.
URL:https://www.lowellpl.lib.in.us/event/senior-social-22/
LOCATION:Lowell Public Library\, 1505 E Commercial Ave\, Lowell\, IN\, 46356-2107\, United States
CATEGORIES:Events
ATTACH;FMTTYPE=image/jpeg:https://www.lowellpl.lib.in.us/wp-content/uploads/2025/04/paint-party.jpg
END:VEVENT
BEGIN:VEVENT
DTSTART;TZID=America/Chicago:20251002T090000
DTEND;TZID=America/Chicago:20251002T120000
DTSTAMP:20260425T094206
CREATED:20250131T165606Z
LAST-MODIFIED:20251014T142700Z
UID:10003225-1759395600-1759406400@www.lowellpl.lib.in.us
SUMMARY:Knit & Crochet (Lowell)
DESCRIPTION:Meet up to knit and crochet\, and share patterns and tips.   \n 
URL:https://www.lowellpl.lib.in.us/event/knit-crochet-32/2025-10-02/
LOCATION:Lowell Public Library\, 1505 E Commercial Ave\, Lowell\, IN\, 46356-2107\, United States
CATEGORIES:Events
ATTACH;FMTTYPE=image/jpeg:https://www.lowellpl.lib.in.us/wp-content/uploads/2022/01/crochet.jpg
END:VEVENT
BEGIN:VEVENT
DTSTART;TZID=America/Chicago:20251001T173000
DTEND;TZID=America/Chicago:20251001T190000
DTSTAMP:20260425T094206
CREATED:20250912T210241Z
LAST-MODIFIED:20250912T210241Z
UID:10004784-1759339800-1759345200@www.lowellpl.lib.in.us
SUMMARY:Friends of the Library Meet (Lowell)
DESCRIPTION:Attend our monthly meetings where we plan upcoming Friends events\, fundraisers\, and projects that support and improve the library. New friends welcome! \n 
URL:https://www.lowellpl.lib.in.us/event/friends-of-the-library-meet-lowell-2/
LOCATION:Lowell Public Library\, 1505 E Commercial Ave\, Lowell\, IN\, 46356-2107\, United States
CATEGORIES:Events
ATTACH;FMTTYPE=image/jpeg:https://www.lowellpl.lib.in.us/wp-content/uploads/2023/08/friends-of-the-library.jpg
END:VEVENT
BEGIN:VEVENT
DTSTART;TZID=America/Chicago:20251001T163000
DTEND;TZID=America/Chicago:20251001T173000
DTSTAMP:20260425T094206
CREATED:20250918T201011Z
LAST-MODIFIED:20250918T201011Z
UID:10004809-1759336200-1759339800@www.lowellpl.lib.in.us
SUMMARY:Young Adults Cook (Schneider)
DESCRIPTION:Learn how to make donuts!
URL:https://www.lowellpl.lib.in.us/event/young-adults-cook-schneider/
LOCATION:Schneider Branch Library\, 24002 Parrish Ave\, Schneider\, IN\, 46376\, United States
CATEGORIES:Events
ATTACH;FMTTYPE=image/jpeg:https://www.lowellpl.lib.in.us/wp-content/uploads/2025/09/donut-glazed.jpg
END:VEVENT
BEGIN:VEVENT
DTSTART;TZID=America/Chicago:20251001T163000
DTEND;TZID=America/Chicago:20251001T173000
DTSTAMP:20260425T094206
CREATED:20250915T203210Z
LAST-MODIFIED:20250915T203210Z
UID:10004793-1759336200-1759339800@www.lowellpl.lib.in.us
SUMMARY:YA/Teen Games (Shelby)
DESCRIPTION:Play tabletop games
URL:https://www.lowellpl.lib.in.us/event/ya-teen-games-shelby/
LOCATION:Shelby Branch\, 23323 Shelby Rd\, Shelby\, IN\, 46377\, United States
CATEGORIES:Events
ATTACH;FMTTYPE=image/jpeg:https://www.lowellpl.lib.in.us/wp-content/uploads/2022/02/games.jpg
END:VEVENT
BEGIN:VEVENT
DTSTART;TZID=America/Chicago:20250930T163000
DTEND;TZID=America/Chicago:20250930T173000
DTSTAMP:20260425T094206
CREATED:20250804T162620Z
LAST-MODIFIED:20250804T162620Z
UID:10004728-1759249800-1759253400@www.lowellpl.lib.in.us
SUMMARY:Kids Craft (Schneider)
DESCRIPTION:Make a monster hand using a clear glove and paper
URL:https://www.lowellpl.lib.in.us/event/kids-craft-schneider-3/
LOCATION:Schneider Branch Library\, 24002 Parrish Ave\, Schneider\, IN\, 46376\, United States
CATEGORIES:Events
ATTACH;FMTTYPE=image/jpeg:https://www.lowellpl.lib.in.us/wp-content/uploads/2025/08/monster-hand.jpg
END:VEVENT
BEGIN:VEVENT
DTSTART;TZID=America/Chicago:20250930T163000
DTEND;TZID=America/Chicago:20250930T170000
DTSTAMP:20260425T094206
CREATED:20250729T165046Z
LAST-MODIFIED:20250729T165046Z
UID:10004716-1759249800-1759251600@www.lowellpl.lib.in.us
SUMMARY:Kids Bingo (Shelby)
DESCRIPTION:Play bingo and win fun prizes. \n 
URL:https://www.lowellpl.lib.in.us/event/kids-bingo-shelby-2/
LOCATION:Shelby Branch\, 23323 Shelby Rd\, Shelby\, IN\, 46377\, United States
ATTACH;FMTTYPE=image/jpeg:https://www.lowellpl.lib.in.us/wp-content/uploads/2022/01/bingo.jpg
END:VEVENT
BEGIN:VEVENT
DTSTART;TZID=America/Chicago:20250930T160000
DTEND;TZID=America/Chicago:20250930T170000
DTSTAMP:20260425T094206
CREATED:20250806T162237Z
LAST-MODIFIED:20250813T130741Z
UID:10004749-1759248000-1759251600@www.lowellpl.lib.in.us
SUMMARY:Tales for Tails (Lowell)
DESCRIPTION:Tales for Tails! \nSeptember \nTuesdays  from 4pm—5pm \nRead or just visit with a certified therapy dog \nJoin us on Tuesdays as we will be offering the opportunity for kids to read or just visit with therapy dogs. \nThis is a fun program\, where children get a chance to cozy up with a loveable pup and practice their reading skills. Kids can read to one of the therapy dogs for a few minutes or just visit with one. Some of these talented pups have pretty neat talents to share as well! Such a fun way to build confidence and increase the kids love of reading! \n*REGISTRATION IS REQUIRED* \nRegistration opens August 18th \n  \n 
URL:https://www.lowellpl.lib.in.us/event/tales-for-tails-lowell-4/
LOCATION:Lowell Public Library\, 1505 E Commercial Ave\, Lowell\, IN\, 46356-2107\, United States
CATEGORIES:Events,Kids
ATTACH;FMTTYPE=image/jpeg:https://www.lowellpl.lib.in.us/wp-content/uploads/2023/05/therapy-dog.jpg
END:VEVENT
BEGIN:VEVENT
DTSTART;TZID=America/Chicago:20250929T160000
DTEND;TZID=America/Chicago:20250929T170000
DTSTAMP:20260425T094206
CREATED:20250729T155607Z
LAST-MODIFIED:20250729T155607Z
UID:10004704-1759161600-1759165200@www.lowellpl.lib.in.us
SUMMARY:Over 18 Game Day (Shelby)
DESCRIPTION:Get together to play cards or board games. \n 
URL:https://www.lowellpl.lib.in.us/event/over-18-game-day-shelby-3/2025-09-29/
LOCATION:Shelby Branch\, 23323 Shelby Rd\, Shelby\, IN\, 46377\, United States
CATEGORIES:Events
ATTACH;FMTTYPE=image/jpeg:https://www.lowellpl.lib.in.us/wp-content/uploads/2024/04/over-18-game-2.jpg
END:VEVENT
BEGIN:VEVENT
DTSTART;TZID=America/Chicago:20250929T153000
DTEND;TZID=America/Chicago:20250929T170000
DTSTAMP:20260425T094206
CREATED:20250806T161634Z
LAST-MODIFIED:20250806T161634Z
UID:10004748-1759159800-1759165200@www.lowellpl.lib.in.us
SUMMARY:Lego with Hexbugs (Lowell)
DESCRIPTION:Lego fun with Hexbugs! \nCome to the Library for some afterschool fun. \nSee what kind of maze you can create with Legos and watch the Hexbugs make their way through your creation! \nThis is a free program for children ages 5-12 \nMonday September 15th and 29th from 3:30– 5P.M  \nPre- registration is required \nPlease call or sign up online \nRegistration opens on \nAugust 25th \n  \n  \n  \n 
URL:https://www.lowellpl.lib.in.us/event/lego-with-hexbugs-lowell-2/
LOCATION:Lowell Public Library\, 1505 E Commercial Ave\, Lowell\, IN\, 46356-2107\, United States
CATEGORIES:Events,Kids
ATTACH;FMTTYPE=image/png:https://www.lowellpl.lib.in.us/wp-content/uploads/2025/08/legos.png
END:VEVENT
BEGIN:VEVENT
DTSTART;TZID=America/Chicago:20250927T100000
DTEND;TZID=America/Chicago:20250927T110000
DTSTAMP:20260425T094206
CREATED:20250729T155856Z
LAST-MODIFIED:20250912T155639Z
UID:10004706-1758967200-1758970800@www.lowellpl.lib.in.us
SUMMARY:Coffee & Conversation (Shelby)
DESCRIPTION:Stop in for a cup of coffee. Stay for a chat. \n 
URL:https://www.lowellpl.lib.in.us/event/coffee-conversation-shelby-3/
LOCATION:Shelby Branch\, 23323 Shelby Rd\, Shelby\, IN\, 46377\, United States
CATEGORIES:Events
ATTACH;FMTTYPE=image/jpeg:https://www.lowellpl.lib.in.us/wp-content/uploads/2023/07/coffee-and-conversation.jpeg
END:VEVENT
BEGIN:VEVENT
DTSTART;TZID=America/Chicago:20250927T090000
DTEND;TZID=America/Chicago:20250927T163000
DTSTAMP:20260425T094206
CREATED:20250729T155130Z
LAST-MODIFIED:20250729T155130Z
UID:10004701-1758963600-1758990600@www.lowellpl.lib.in.us
SUMMARY:$3 Bag Book Sale
DESCRIPTION:On the last Saturday of each month\, get a bag of books for $3. You can bring your own brown grocery bag or ask for one at the circulation desk.  \n 
URL:https://www.lowellpl.lib.in.us/event/3-bag-book-sale-32/
LOCATION:IN
CATEGORIES:Events
ATTACH;FMTTYPE=image/jpeg:https://www.lowellpl.lib.in.us/wp-content/uploads/2022/04/Friends-book-sale-white.jpg
END:VEVENT
BEGIN:VEVENT
DTSTART;TZID=America/Chicago:20250925T163000
DTEND;TZID=America/Chicago:20250925T173000
DTSTAMP:20260425T094206
CREATED:20250729T162932Z
LAST-MODIFIED:20250729T162932Z
UID:10004713-1758817800-1758821400@www.lowellpl.lib.in.us
SUMMARY:YA/Kids Pizza Party (Shelby)
DESCRIPTION:Come in for FREE pizza!
URL:https://www.lowellpl.lib.in.us/event/ya-kids-pizza-party-shelby/
LOCATION:Shelby Branch\, 23323 Shelby Rd\, Shelby\, IN\, 46377\, United States
ATTACH;FMTTYPE=image/jpeg:https://www.lowellpl.lib.in.us/wp-content/uploads/2022/03/pizza.jpg
END:VEVENT
BEGIN:VEVENT
DTSTART;TZID=America/Chicago:20250925T103000
DTEND;TZID=America/Chicago:20250925T110000
DTSTAMP:20260425T094206
CREATED:20250806T144654Z
LAST-MODIFIED:20250806T144654Z
UID:10004747-1758796200-1758798000@www.lowellpl.lib.in.us
SUMMARY:Story time (Lowell)
DESCRIPTION:Join Miss Jackie for a few stories\, group activities or a simple craft! (Sometimes we get messy!) \nThis is a free program for children ages 5 years of age and younger to enjoy with a parent or guardian. \nStory time will last about 30-40 minutes. \nLimited space. Registration is required \nPlease call or register online \n#219-696-7704 \nDates: \nTuesday September 16th & 23rd \nWednesday September 17th & 24th \nOR \nThursday September 18th & 25th \n10:30 A.M \nPlease only choose a Tuesday\, Wednesday OR Thursday session \nRegistration opens September 2nd \n 
URL:https://www.lowellpl.lib.in.us/event/story-time-lowell-6/
LOCATION:Lowell Public Library\, 1505 E Commercial Ave\, Lowell\, IN\, 46356-2107\, United States
CATEGORIES:Events,Kids
ATTACH;FMTTYPE=image/jpeg:https://www.lowellpl.lib.in.us/wp-content/uploads/2024/09/story-time.jpeg
END:VEVENT
BEGIN:VEVENT
DTSTART;TZID=America/Chicago:20250925T090000
DTEND;TZID=America/Chicago:20250925T120000
DTSTAMP:20260425T094206
CREATED:20250131T165606Z
LAST-MODIFIED:20251014T142700Z
UID:10003224-1758790800-1758801600@www.lowellpl.lib.in.us
SUMMARY:Knit & Crochet (Lowell)
DESCRIPTION:Meet up to knit and crochet\, and share patterns and tips.   \n 
URL:https://www.lowellpl.lib.in.us/event/knit-crochet-32/2025-09-25/
LOCATION:Lowell Public Library\, 1505 E Commercial Ave\, Lowell\, IN\, 46356-2107\, United States
CATEGORIES:Events
ATTACH;FMTTYPE=image/jpeg:https://www.lowellpl.lib.in.us/wp-content/uploads/2022/01/crochet.jpg
END:VEVENT
BEGIN:VEVENT
DTSTART;TZID=America/Chicago:20250924T173000
DTEND;TZID=America/Chicago:20250924T190000
DTSTAMP:20260425T094206
CREATED:20250807T191626Z
LAST-MODIFIED:20250807T191626Z
UID:10004752-1758735000-1758740400@www.lowellpl.lib.in.us
SUMMARY:Wills & Trusts (Lowell)
DESCRIPTION:Do you need a will or a trust? \nGerold Stout\, Attorney/Owner at Stout Law Firm will provide information about wills and trusts. Co-hosted by the library and Aaron Pollock of Edward Jones.  Register. \n 
URL:https://www.lowellpl.lib.in.us/event/wills-trusts-lowell/
LOCATION:Lowell Public Library\, 1505 E Commercial Ave\, Lowell\, IN\, 46356-2107\, United States
CATEGORIES:Events
ATTACH;FMTTYPE=image/png:https://www.lowellpl.lib.in.us/wp-content/uploads/2025/08/wills.png
END:VEVENT
BEGIN:VEVENT
DTSTART;TZID=America/Chicago:20250924T163000
DTEND;TZID=America/Chicago:20250924T173000
DTSTAMP:20260425T094206
CREATED:20250812T211015Z
LAST-MODIFIED:20250812T211015Z
UID:10004753-1758731400-1758735000@www.lowellpl.lib.in.us
SUMMARY:YA Leaf Lantern (Shelby)
DESCRIPTION:Create a leaf lantern using a jar\, leaves\, and modge podge
URL:https://www.lowellpl.lib.in.us/event/ya-leaf-lantern-shelby/
LOCATION:Shelby Branch\, 23323 Shelby Rd\, Shelby\, IN\, 46377\, United States
CATEGORIES:Events
ATTACH;FMTTYPE=image/jpeg:https://www.lowellpl.lib.in.us/wp-content/uploads/2025/08/leaf-jar.jpg
END:VEVENT
BEGIN:VEVENT
DTSTART;TZID=America/Chicago:20250924T163000
DTEND;TZID=America/Chicago:20250924T173000
DTSTAMP:20260425T094206
CREATED:20250804T160043Z
LAST-MODIFIED:20250804T160043Z
UID:10004724-1758731400-1758735000@www.lowellpl.lib.in.us
SUMMARY:YA S'mores (Schneider)
DESCRIPTION:Come in for S’mores and stay for a chat
URL:https://www.lowellpl.lib.in.us/event/ya-smores-schneider/
LOCATION:Schneider Branch Library\, 24002 Parrish Ave\, Schneider\, IN\, 46376\, United States
CATEGORIES:Events
ATTACH;FMTTYPE=image/jpeg:https://www.lowellpl.lib.in.us/wp-content/uploads/2025/08/Smores-.jpg
END:VEVENT
BEGIN:VEVENT
DTSTART;TZID=America/Chicago:20250924T103000
DTEND;TZID=America/Chicago:20250924T110000
DTSTAMP:20260425T094206
CREATED:20250806T144240Z
LAST-MODIFIED:20250806T144240Z
UID:10004746-1758709800-1758711600@www.lowellpl.lib.in.us
SUMMARY:Story time (Lowell)
DESCRIPTION:Join Miss Jackie for a few stories\, group activities or a simple craft! (Sometimes we get messy!) \nThis is a free program for children ages 5 years of age and younger to enjoy with a parent or guardian. \nStory time will last about 30-40 minutes. \nLimited space. Registration is required \nPlease call or register online \n#219-696-7704 \nDates: \nTuesday September 16th & 23rd \nWednesday September 17th & 24th \nOR \nThursday September 18th & 25th \n10:30 A.M \nPlease only choose a Tuesday\, Wednesday OR Thursday session \nRegistration opens September 2nd \n 
URL:https://www.lowellpl.lib.in.us/event/story-time-lowell-5/
LOCATION:Lowell Public Library\, 1505 E Commercial Ave\, Lowell\, IN\, 46356-2107\, United States
CATEGORIES:Events,Kids
ATTACH;FMTTYPE=image/jpeg:https://www.lowellpl.lib.in.us/wp-content/uploads/2024/09/story-time.jpeg
END:VEVENT
BEGIN:VEVENT
DTSTART;TZID=America/Chicago:20250923T163000
DTEND;TZID=America/Chicago:20250923T173000
DTSTAMP:20260425T094206
CREATED:20250804T162240Z
LAST-MODIFIED:20250804T162240Z
UID:10004727-1758645000-1758648600@www.lowellpl.lib.in.us
SUMMARY:Kids Games (Schneider)
DESCRIPTION:Play board games
URL:https://www.lowellpl.lib.in.us/event/kids-games-schneider/
LOCATION:Schneider Branch Library\, 24002 Parrish Ave\, Schneider\, IN\, 46376\, United States
CATEGORIES:Events
ATTACH;FMTTYPE=image/jpeg:https://www.lowellpl.lib.in.us/wp-content/uploads/2022/01/boardgames.jpg
END:VEVENT
BEGIN:VEVENT
DTSTART;TZID=America/Chicago:20250923T163000
DTEND;TZID=America/Chicago:20250923T173000
DTSTAMP:20260425T094206
CREATED:20250729T163652Z
LAST-MODIFIED:20250729T163652Z
UID:10004715-1758645000-1758648600@www.lowellpl.lib.in.us
SUMMARY:Kids Independent Craft (Shelby)
DESCRIPTION:Make something awesome with our craft supplies. \n 
URL:https://www.lowellpl.lib.in.us/event/kids-independent-craft-shelby/
LOCATION:Shelby Branch\, 23323 Shelby Rd\, Shelby\, IN\, 46377\, United States
CATEGORIES:Events
ATTACH;FMTTYPE=image/jpeg:https://www.lowellpl.lib.in.us/wp-content/uploads/2022/11/craft-supplies.jpg
END:VEVENT
BEGIN:VEVENT
DTSTART;TZID=America/Chicago:20250923T160000
DTEND;TZID=America/Chicago:20250923T170000
DTSTAMP:20260425T094206
CREATED:20250813T131023Z
LAST-MODIFIED:20250813T131122Z
UID:10004754-1758643200-1758646800@www.lowellpl.lib.in.us
SUMMARY:Tales for Tails (Lowell)
DESCRIPTION:Tales for Tails! \nSeptember \nTuesdays  from 4pm—5pm \nRead or just visit with a certified therapy dog \nJoin us on Tuesdays as we will be offering the opportunity for kids to read or just visit with therapy dogs. \nThis is a fun program\, where children get a chance to cozy up with a loveable pup and practice their reading skills. Kids can read to one of the therapy dogs for a few minutes or just visit with one. Some of these talented pups have pretty neat talents to share as well! Such a fun way to build confidence\, and increase the kids love of reading! \n*REGISTRATION IS REQUIRED* \nRegistration opens August 18th \n  \n 
URL:https://www.lowellpl.lib.in.us/event/tales-for-tails-85/
LOCATION:Lowell Public Library\, 1505 E Commercial Ave\, Lowell\, IN\, 46356-2107\, United States
CATEGORIES:Events,Kids
ATTACH;FMTTYPE=image/jpeg:https://www.lowellpl.lib.in.us/wp-content/uploads/2023/05/therapy-dog.jpg
END:VEVENT
BEGIN:VEVENT
DTSTART;TZID=America/Chicago:20250923T103000
DTEND;TZID=America/Chicago:20250923T110000
DTSTAMP:20260425T094206
CREATED:20250805T155319Z
LAST-MODIFIED:20250805T155319Z
UID:10004741-1758623400-1758625200@www.lowellpl.lib.in.us
SUMMARY:Story time (Lowell)
DESCRIPTION:Join Miss Jackie for a few stories\, group activities or a simple craft! (Sometimes we get messy!) \nThis is a free program for children ages 5 years of age and younger to enjoy with a parent or guardian. \nStory time will last about 30-40 minutes. \nLimited space. Registration is required \nPlease call or register online \n#219-696-7704 \nDates: \nTuesday September 16th & 23rd \nWednesday September 17th & 24th \nOR \nThursday September 18th & 25th \n10:30 A.M \nPlease only choose a Tuesday\, Wednesday OR Thursday session \nRegistration opens September 2nd \n  \n 
URL:https://www.lowellpl.lib.in.us/event/story-time-lowell-4/
LOCATION:Lowell Public Library\, 1505 E Commercial Ave\, Lowell\, IN\, 46356-2107\, United States
CATEGORIES:Events,Kids
ATTACH;FMTTYPE=image/jpeg:https://www.lowellpl.lib.in.us/wp-content/uploads/2024/09/story-time.jpeg
END:VEVENT
BEGIN:VEVENT
DTSTART;TZID=America/Chicago:20250922T160000
DTEND;TZID=America/Chicago:20250922T170000
DTSTAMP:20260425T094206
CREATED:20250729T160931Z
LAST-MODIFIED:20250729T160931Z
UID:10004709-1758556800-1758560400@www.lowellpl.lib.in.us
SUMMARY:Senior Bingo
DESCRIPTION:Play for a chance to win a gift card
URL:https://www.lowellpl.lib.in.us/event/senior-bingo-37/
LOCATION:Shelby Branch\, 23323 Shelby Rd\, Shelby\, IN\, 46377\, United States
CATEGORIES:Events
ATTACH;FMTTYPE=image/gif:https://www.lowellpl.lib.in.us/wp-content/uploads/2022/01/bingo_animated.gif
END:VEVENT
BEGIN:VEVENT
DTSTART;TZID=America/Chicago:20250920T100000
DTEND;TZID=America/Chicago:20250920T120000
DTSTAMP:20260425T094206
CREATED:20250729T160356Z
LAST-MODIFIED:20250729T160356Z
UID:10004708-1758362400-1758369600@www.lowellpl.lib.in.us
SUMMARY:Movies for Grown-Ups (Shelby)
DESCRIPTION:Enjoy a morning movie at the library.  \n 
URL:https://www.lowellpl.lib.in.us/event/movies-for-grown-ups-shelby-3/
LOCATION:Shelby Branch\, 23323 Shelby Rd\, Shelby\, IN\, 46377\, United States
CATEGORIES:Events
ATTACH;FMTTYPE=image/png:https://www.lowellpl.lib.in.us/wp-content/uploads/2025/01/family-movie-night-feb.png
END:VEVENT
BEGIN:VEVENT
DTSTART;TZID=America/Chicago:20250920T100000
DTEND;TZID=America/Chicago:20250920T120000
DTSTAMP:20260425T094206
CREATED:20241127T151929Z
LAST-MODIFIED:20250527T174346Z
UID:10002974-1758362400-1758369600@www.lowellpl.lib.in.us
SUMMARY:Poetry (Lowell)
DESCRIPTION:Aspiring poets can join the NW Indiana Poetry Society. Bring  your works or that of your favorite poet. \n 
URL:https://www.lowellpl.lib.in.us/event/poetry-21/2025-09-20/
LOCATION:Lowell Public Library\, 1505 E Commercial Ave\, Lowell\, IN\, 46356-2107\, United States
CATEGORIES:Events
ATTACH;FMTTYPE=image/jpeg:https://www.lowellpl.lib.in.us/wp-content/uploads/2022/01/poetry-pencil.jpg
END:VEVENT
BEGIN:VEVENT
DTSTART;TZID=America/Chicago:20250918T173000
DTEND;TZID=America/Chicago:20250918T190000
DTSTAMP:20260425T094206
CREATED:20250729T155228Z
LAST-MODIFIED:20250729T155228Z
UID:10004698-1758216600-1758222000@www.lowellpl.lib.in.us
SUMMARY:YA Board Games (Lowell)
DESCRIPTION:Come escape the BACK TO SCHOOL BLUES by joining in on our Young Adult Board Game Night! \nWe’ll be meeting at the Lowell Public Library on Thursday\, September 18th from 5:30-7. \nWe have a variety of board games to pick from or choose to play different card games. \nThis is a free program for students 5th-12th grade. \nRegister using the QR code or call 696-7704. \n 
URL:https://www.lowellpl.lib.in.us/event/ya-board-games-lowell/
LOCATION:IN
CATEGORIES:Events,YA/Teen
ATTACH;FMTTYPE=image/jpeg:https://www.lowellpl.lib.in.us/wp-content/uploads/2025/07/game-night-in-scrabble-letters-1.jpg
END:VEVENT
END:VCALENDAR