BEGIN:VCALENDAR
VERSION:2.0
PRODID:-//Lowell Public Library - Lowell, IN - ECPv6.7.0//NONSGML v1.0//EN
CALSCALE:GREGORIAN
METHOD:PUBLISH
X-WR-CALNAME:Lowell Public Library - Lowell, IN
X-ORIGINAL-URL:https://www.lowellpl.lib.in.us
X-WR-CALDESC:Events for Lowell Public Library - Lowell, IN
REFRESH-INTERVAL;VALUE=DURATION:PT1H
X-Robots-Tag:noindex
X-PUBLISHED-TTL:PT1H
BEGIN:VTIMEZONE
TZID:America/Chicago
BEGIN:DAYLIGHT
TZOFFSETFROM:-0600
TZOFFSETTO:-0500
TZNAME:CDT
DTSTART:20250309T080000
END:DAYLIGHT
BEGIN:STANDARD
TZOFFSETFROM:-0500
TZOFFSETTO:-0600
TZNAME:CST
DTSTART:20251102T070000
END:STANDARD
END:VTIMEZONE
BEGIN:VEVENT
DTSTART;TZID=America/Chicago:20250918T173000
DTEND;TZID=America/Chicago:20250918T183000
DTSTAMP:20260425T061053
CREATED:20250804T162932Z
LAST-MODIFIED:20250804T162932Z
UID:10004729-1758216600-1758220200@www.lowellpl.lib.in.us
SUMMARY:All Ages Craft Night (Schneider)
DESCRIPTION:Tie-Dye! Call ahead to register and receive a discount. Cost includes all materials needed for your project.    Walk-ins welcome but call ahead to receive the discount. \n 
URL:https://www.lowellpl.lib.in.us/event/all-ages-craft-night-schneider/
LOCATION:Schneider Branch Library\, 24002 Parrish Ave\, Schneider\, IN\, 46376\, United States
CATEGORIES:Events
ATTACH;FMTTYPE=image/jpeg:https://www.lowellpl.lib.in.us/wp-content/uploads/2022/05/tie-dye.jpg
END:VEVENT
BEGIN:VEVENT
DTSTART;TZID=America/Chicago:20250918T160000
DTEND;TZID=America/Chicago:20250918T170000
DTSTAMP:20260425T061053
CREATED:20250729T160150Z
LAST-MODIFIED:20250729T160150Z
UID:10004707-1758211200-1758214800@www.lowellpl.lib.in.us
SUMMARY:Adult Book Discussion (Shelby)
DESCRIPTION:Read\, then meet to discuss The Murder at the Vicarage\, written by Agatha Christie. \n 
URL:https://www.lowellpl.lib.in.us/event/adult-book-discussion-shelby-2/
LOCATION:Shelby Branch\, 23323 Shelby Rd\, Shelby\, IN\, 46377\, United States
CATEGORIES:Events
ATTACH;FMTTYPE=image/jpeg:https://www.lowellpl.lib.in.us/wp-content/uploads/2025/07/murder-at-the-vicarage.jpg
END:VEVENT
BEGIN:VEVENT
DTSTART;TZID=America/Chicago:20250918T103000
DTEND;TZID=America/Chicago:20250918T110000
DTSTAMP:20260425T061053
CREATED:20250805T153950Z
LAST-MODIFIED:20250918T131237Z
UID:10004740-1758191400-1758193200@www.lowellpl.lib.in.us
SUMMARY:Story time (Lowell)
DESCRIPTION:Join Miss Jackie for a few stories\, group activities or a simple craft! (Sometimes we get messy!) \nThis is a free program for children ages 5 years of age and younger to enjoy with a parent or guardian. \nStory time will last about 30-40 minutes. \nLimited space. Registration is required \nPlease call or register online \n#219-696-7704 \nDates: \nTuesday September 16th & 23rd \nWednesday September 17th & 24th \nOR \nThursday September 18th & 25th \n10:30 A.M \nPlease only choose a Tuesday\, Wednesday OR Thursday session \nRegistration opens September 2nd \n  \n 
URL:https://www.lowellpl.lib.in.us/event/story-time-lowell-3/
LOCATION:Lowell Public Library\, 1505 E Commercial Ave\, Lowell\, IN\, 46356-2107\, United States
CATEGORIES:Events,Kids
ATTACH;FMTTYPE=image/jpeg:https://www.lowellpl.lib.in.us/wp-content/uploads/2024/09/story-time.jpeg
END:VEVENT
BEGIN:VEVENT
DTSTART;TZID=America/Chicago:20250918T090000
DTEND;TZID=America/Chicago:20250918T120000
DTSTAMP:20260425T061053
CREATED:20250131T165606Z
LAST-MODIFIED:20251014T142700Z
UID:10003223-1758186000-1758196800@www.lowellpl.lib.in.us
SUMMARY:Knit & Crochet (Lowell)
DESCRIPTION:Meet up to knit and crochet\, and share patterns and tips.   \n 
URL:https://www.lowellpl.lib.in.us/event/knit-crochet-32/2025-09-18/
LOCATION:Lowell Public Library\, 1505 E Commercial Ave\, Lowell\, IN\, 46356-2107\, United States
CATEGORIES:Events
ATTACH;FMTTYPE=image/jpeg:https://www.lowellpl.lib.in.us/wp-content/uploads/2022/01/crochet.jpg
END:VEVENT
BEGIN:VEVENT
DTSTART;TZID=America/Chicago:20250917T163000
DTEND;TZID=America/Chicago:20250917T180000
DTSTAMP:20260425T061053
CREATED:20250729T162707Z
LAST-MODIFIED:20250729T162707Z
UID:10004712-1758126600-1758132000@www.lowellpl.lib.in.us
SUMMARY:Young Adult Movie (Shelby)
DESCRIPTION:Watch a movie and have an apple dessert. \n 
URL:https://www.lowellpl.lib.in.us/event/young-adult-movie-shelby/
LOCATION:Shelby Branch\, 23323 Shelby Rd\, Shelby\, IN\, 46377\, United States
CATEGORIES:Events
ATTACH;FMTTYPE=image/png:https://www.lowellpl.lib.in.us/wp-content/uploads/2025/01/family-movie-night-feb.png
END:VEVENT
BEGIN:VEVENT
DTSTART;TZID=America/Chicago:20250917T163000
DTEND;TZID=America/Chicago:20250917T173000
DTSTAMP:20260425T061053
CREATED:20250804T155038Z
LAST-MODIFIED:20250804T155038Z
UID:10004723-1758126600-1758130200@www.lowellpl.lib.in.us
SUMMARY:YA Escape Experience (Schneider)
DESCRIPTION:Unravel mysteries and complete a series of tasks to escape!
URL:https://www.lowellpl.lib.in.us/event/ya-escape-experience-schneider/
LOCATION:Schneider Branch Library\, 24002 Parrish Ave\, Schneider\, IN\, 46376\, United States
CATEGORIES:Events
ATTACH;FMTTYPE=image/jpeg:https://www.lowellpl.lib.in.us/wp-content/uploads/2025/07/escape.jpg
END:VEVENT
BEGIN:VEVENT
DTSTART;TZID=America/Chicago:20250917T120000
DTEND;TZID=America/Chicago:20250917T150000
DTSTAMP:20260425T061053
CREATED:20250729T154553Z
LAST-MODIFIED:20250729T154553Z
UID:10004699-1758110400-1758121200@www.lowellpl.lib.in.us
SUMMARY:Canasta (Lowell)
DESCRIPTION:Get together and play this fun card game. We show you how! \n 
URL:https://www.lowellpl.lib.in.us/event/canasta-lowell-3/
LOCATION:Lowell Public Library\, 1505 E Commercial Ave\, Lowell\, IN\, 46356-2107\, United States
CATEGORIES:Events
ATTACH;FMTTYPE=image/jpeg:https://www.lowellpl.lib.in.us/wp-content/uploads/2023/03/Canasta.jpg
END:VEVENT
BEGIN:VEVENT
DTSTART;TZID=America/Chicago:20250917T103000
DTEND;TZID=America/Chicago:20250917T110000
DTSTAMP:20260425T061053
CREATED:20250805T153521Z
LAST-MODIFIED:20250805T153521Z
UID:10004739-1758105000-1758106800@www.lowellpl.lib.in.us
SUMMARY:Story time (Lowell)
DESCRIPTION:Join Miss Jackie for a few stories\, group activities or a simple craft! (Sometimes we get messy!) \nThis is a free program for children ages 5 years of age and younger to enjoy with a parent or guardian. \nStory time will last about 30-40 minutes. \nLimited space. Registration is required \nPlease call or register online \n#219-696-7704 \nDates: \nTuesday September 16th & 23rd \nWednesday September 17th & 24th \nOR \nThursday September 18th & 25th \n10:30 A.M \nPlease only choose a Tuesday\, Wednesday OR Thursday session \nRegistration opens September 2nd \n  \n 
URL:https://www.lowellpl.lib.in.us/event/story-time-lowell-2/
LOCATION:Lowell Public Library\, 1505 E Commercial Ave\, Lowell\, IN\, 46356-2107\, United States
CATEGORIES:Events,Kids
ATTACH;FMTTYPE=image/jpeg:https://www.lowellpl.lib.in.us/wp-content/uploads/2024/09/story-time.jpeg
END:VEVENT
BEGIN:VEVENT
DTSTART;TZID=America/Chicago:20250917T100000
DTEND;TZID=America/Chicago:20250917T120000
DTSTAMP:20260425T061053
CREATED:20250110T182449Z
LAST-MODIFIED:20250626T145546Z
UID:10003081-1758103200-1758110400@www.lowellpl.lib.in.us
SUMMARY:Drop-In Tech Help (Lowell)
DESCRIPTION:Do you have a question about how to use your phone\, tablet\, laptop\, or computer? Stop in during our drop-in hours and ask for Amanda—she will try her best to help you find the answer! (First come\, first served) \n  \n 
URL:https://www.lowellpl.lib.in.us/event/drop-in-tech-help-12/
LOCATION:Lowell Public Library\, 1505 E Commercial Ave\, Lowell\, IN\, 46356-2107\, United States
ATTACH;FMTTYPE=image/jpeg:https://www.lowellpl.lib.in.us/wp-content/uploads/2024/09/technology-Amanda.jpg
END:VEVENT
BEGIN:VEVENT
DTSTART;TZID=America/Chicago:20250916T180000
DTEND;TZID=America/Chicago:20250916T190000
DTSTAMP:20260425T061053
CREATED:20250729T154203Z
LAST-MODIFIED:20250729T154203Z
UID:10004697-1758045600-1758049200@www.lowellpl.lib.in.us
SUMMARY:Library Board Meets (Lowell)
DESCRIPTION:The regular meeting of the Lowell Public Library Board of Trustees will be held. \n 
URL:https://www.lowellpl.lib.in.us/event/library-board-meets-lowell-2/
LOCATION:Lowell Public Library\, 1505 E Commercial Ave\, Lowell\, IN\, 46356-2107\, United States
CATEGORIES:Events
ATTACH;FMTTYPE=image/jpeg:https://www.lowellpl.lib.in.us/wp-content/uploads/2022/01/board-meeting-3.jpg
END:VEVENT
BEGIN:VEVENT
DTSTART;TZID=America/Chicago:20250916T163000
DTEND;TZID=America/Chicago:20250916T173000
DTSTAMP:20260425T061053
CREATED:20250805T183227Z
LAST-MODIFIED:20250805T183227Z
UID:10004744-1758040200-1758043800@www.lowellpl.lib.in.us
SUMMARY:Kids Bingo (Shelby)
DESCRIPTION:Play bingo and win yummy snacks!
URL:https://www.lowellpl.lib.in.us/event/kids-bingo-shelby-3/
LOCATION:Shelby Branch\, 23323 Shelby Rd\, Shelby\, IN\, 46377\, United States
CATEGORIES:Events
ATTACH;FMTTYPE=image/png:https://www.lowellpl.lib.in.us/wp-content/uploads/2025/04/BINGO-June-19th.png
END:VEVENT
BEGIN:VEVENT
DTSTART;TZID=America/Chicago:20250916T163000
DTEND;TZID=America/Chicago:20250916T173000
DTSTAMP:20260425T061053
CREATED:20250805T164008Z
LAST-MODIFIED:20250805T164008Z
UID:10004742-1758040200-1758043800@www.lowellpl.lib.in.us
SUMMARY:Kids Craft (Schneider)
DESCRIPTION:Make a stamped corn cob!
URL:https://www.lowellpl.lib.in.us/event/kids-craft-schneider-4/
LOCATION:Schneider Branch Library\, 24002 Parrish Ave\, Schneider\, IN\, 46376\, United States
CATEGORIES:Events
ATTACH;FMTTYPE=image/png:https://www.lowellpl.lib.in.us/wp-content/uploads/2025/08/lego-corn-on-the-cob-craft.png
END:VEVENT
BEGIN:VEVENT
DTSTART;TZID=America/Chicago:20250916T160000
DTEND;TZID=America/Chicago:20250916T170000
DTSTAMP:20260425T061053
CREATED:20250805T153006Z
LAST-MODIFIED:20250805T153006Z
UID:10004738-1758038400-1758042000@www.lowellpl.lib.in.us
SUMMARY:Tales for Tails (Lowell)
DESCRIPTION:Tales for Tails! \nSeptember \nTuesdays  from 4pm—5pm \nRead or just visit with a certified therapy dog \nJoin us on Tuesdays as we will be offering the opportunity for kids to read or just visit with therapy dogs. \nThis is a fun program\, where children get a chance to cozy up with a loveable pup and practice their reading skills. Kids can read to one of the therapy dogs for a few minutes or just visit with one. Some of these talented pups have pretty neat talents to share as well! Such a fun way to build confidence and increase the kids love of reading! \n*REGISTRATION IS REQUIRED* \nRegistration opens August 18th \n 
URL:https://www.lowellpl.lib.in.us/event/tales-for-tails-lowell-3/
LOCATION:Lowell Public Library\, 1505 E Commercial Ave\, Lowell\, IN\, 46356-2107\, United States
CATEGORIES:Events,Kids
ATTACH;FMTTYPE=image/jpeg:https://www.lowellpl.lib.in.us/wp-content/uploads/2023/05/therapy-dog.jpg
END:VEVENT
BEGIN:VEVENT
DTSTART;TZID=America/Chicago:20250916T103000
DTEND;TZID=America/Chicago:20250916T110000
DTSTAMP:20260425T061053
CREATED:20250805T152412Z
LAST-MODIFIED:20250805T152412Z
UID:10004737-1758018600-1758020400@www.lowellpl.lib.in.us
SUMMARY:Story time (Lowell)
DESCRIPTION:Join Miss Jackie for a few stories\, group activities or a simple craft! (Sometimes we get messy!) \nThis is a free program for children ages 5 years of age and younger to enjoy with a parent or guardian. \nStory time will last about 30-40 minutes. \nLimited space. Registration is required \nPlease call or register online \n#219-696-7704 \nDates: \nTuesday September 16th & 23rd \nWednesday September 17th & 24th \nOR \nThursday September 18th & 25th \n10:30 A.M \nPlease only choose a Tuesday\, Wednesday OR Thursday session \nRegistration opens September 2nd \n 
URL:https://www.lowellpl.lib.in.us/event/story-time-lowell/
LOCATION:Lowell Public Library\, 1505 E Commercial Ave\, Lowell\, IN\, 46356-2107\, United States
CATEGORIES:Events,Kids
ATTACH;FMTTYPE=image/jpeg:https://www.lowellpl.lib.in.us/wp-content/uploads/2024/09/story-time.jpeg
END:VEVENT
BEGIN:VEVENT
DTSTART;TZID=America/Chicago:20250916T100000
DTEND;TZID=America/Chicago:20250916T113000
DTSTAMP:20260425T061053
CREATED:20241127T152223Z
LAST-MODIFIED:20250527T174106Z
UID:10002986-1758016800-1758022200@www.lowellpl.lib.in.us
SUMMARY:Adult Coloring (Lowell)
DESCRIPTION:Join in on the fun!  Coloring helps us de-stress and stimulates brain areas related to motor skills. All supplies will be provided or you may bring your own. \n 
URL:https://www.lowellpl.lib.in.us/event/adult-coloring-35/2025-09-16/
LOCATION:Lowell Public Library\, 1505 E Commercial Ave\, Lowell\, IN\, 46356-2107\, United States
CATEGORIES:Events
ATTACH;FMTTYPE=image/jpeg:https://www.lowellpl.lib.in.us/wp-content/uploads/2022/01/coloring.jpg
END:VEVENT
BEGIN:VEVENT
DTSTART;TZID=America/Chicago:20250915T180000
DTEND;TZID=America/Chicago:20250915T190000
DTSTAMP:20260425T061053
CREATED:20250804T154055Z
LAST-MODIFIED:20250804T154055Z
UID:10004720-1757959200-1757962800@www.lowellpl.lib.in.us
SUMMARY:Adult Craft (Schneider)
DESCRIPTION:Make a wood slice pumpkin
URL:https://www.lowellpl.lib.in.us/event/adult-craft-schneider/
LOCATION:Schneider Branch Library\, 24002 Parrish Ave\, Schneider\, IN\, 46376\, United States
CATEGORIES:Events
ATTACH;FMTTYPE=image/png:https://www.lowellpl.lib.in.us/wp-content/uploads/2025/08/pumpkin-wood-slice.png
END:VEVENT
BEGIN:VEVENT
DTSTART;TZID=America/Chicago:20250915T160000
DTEND;TZID=America/Chicago:20250915T210000
DTSTAMP:20260425T061053
CREATED:20250728T214235Z
LAST-MODIFIED:20250728T214235Z
UID:10004694-1757952000-1757970000@www.lowellpl.lib.in.us
SUMMARY:Loven Oven Fundraiser (Lowell)
DESCRIPTION:Loven Oven in Lowell will donate 10% of all sales between 4-9 PM to the library ! No coupons of special form needed.
URL:https://www.lowellpl.lib.in.us/event/loven-oven-fundraiser-lowell/
LOCATION:Lowell Public Library\, 1505 E Commercial Ave\, Lowell\, IN\, 46356-2107\, United States
CATEGORIES:Events
ATTACH;FMTTYPE=image/jpeg:https://www.lowellpl.lib.in.us/wp-content/uploads/2022/03/pizza.jpg
END:VEVENT
BEGIN:VEVENT
DTSTART;TZID=America/Chicago:20250915T160000
DTEND;TZID=America/Chicago:20250915T170000
DTSTAMP:20260425T061053
CREATED:20250729T155607Z
LAST-MODIFIED:20250729T155607Z
UID:10004703-1757952000-1757955600@www.lowellpl.lib.in.us
SUMMARY:Over 18 Game Day (Shelby)
DESCRIPTION:Get together to play cards or board games. \n 
URL:https://www.lowellpl.lib.in.us/event/over-18-game-day-shelby-3/2025-09-15/
LOCATION:Shelby Branch\, 23323 Shelby Rd\, Shelby\, IN\, 46377\, United States
CATEGORIES:Events
ATTACH;FMTTYPE=image/jpeg:https://www.lowellpl.lib.in.us/wp-content/uploads/2024/04/over-18-game-2.jpg
END:VEVENT
BEGIN:VEVENT
DTSTART;TZID=America/Chicago:20250915T153000
DTEND;TZID=America/Chicago:20250915T170000
DTSTAMP:20260425T061053
CREATED:20250805T151806Z
LAST-MODIFIED:20250805T151806Z
UID:10004736-1757950200-1757955600@www.lowellpl.lib.in.us
SUMMARY:Lego with hexbugs (Lowell)
DESCRIPTION:Lego fun with Hexbugs! \nCome to the Library for some afterschool fun. \nSee what kind of maze you can create with Legos and watch the Hexbugs make their way through your creation! \nThis is a free program for children ages 5-12 \nMonday September 15th and 29th from 3:30– 5P.M \nPre- registration is required \nPlease call or sign up online \nRegistration opens on \nAugust 25th \n  \n  \n  \n  \n 
URL:https://www.lowellpl.lib.in.us/event/lego-with-hexbugs-lowell/
LOCATION:Lowell Public Library\, 1505 E Commercial Ave\, Lowell\, IN\, 46356-2107\, United States
CATEGORIES:Events,Kids
ATTACH;FMTTYPE=image/png:https://www.lowellpl.lib.in.us/wp-content/uploads/2025/08/legos.png
END:VEVENT
BEGIN:VEVENT
DTSTART;TZID=America/Chicago:20250913T101500
DTEND;TZID=America/Chicago:20250913T111500
DTSTAMP:20260425T061054
CREATED:20250806T201336Z
LAST-MODIFIED:20250806T201336Z
UID:10004751-1757758500-1757762100@www.lowellpl.lib.in.us
SUMMARY:Dave DiNaso's traveling world of reptiles at Buckley!
DESCRIPTION:Lowell Public \nLibrary Presents: \nDave DiNaso’s traveling world of reptiles at Buckley Homestead! \nSaturday\, September 13th \n10:15 A.M. \nJoin the Lowell Library for the reptile show at Buckley Homestead on Saturday\, September 13th at 10:15 A.M! \nDave DiNaso’s Traveling World of Reptiles show is sure to thrill the crowd! In addition to being educational\, Dave’s program is also loaded with laughs and interactive moments with the audience.  This event is open to children and adults alike. \nRemember to bring your camera to take pictures and a chair or blanket to sit on!!!! \nChairs will not be provided \nEvent will be held at the shelter on the hill by the main parking area/visitors center. \n 
URL:https://www.lowellpl.lib.in.us/event/dave-dinasos-traveling-world-of-reptiles-at-buckley/
LOCATION:IN
CATEGORIES:Events,Kids
ATTACH;FMTTYPE=image/jpeg:https://www.lowellpl.lib.in.us/wp-content/uploads/2022/04/reptiles-458x458-1.jpg
END:VEVENT
BEGIN:VEVENT
DTSTART;TZID=America/Chicago:20250913T100000
DTEND;TZID=America/Chicago:20250913T150000
DTSTAMP:20260425T061054
CREATED:20250627T154803Z
LAST-MODIFIED:20250728T213734Z
UID:10004664-1757757600-1757775600@www.lowellpl.lib.in.us
SUMMARY:NatureFest (Lowell)
DESCRIPTION:If you’re interested in plants\, pollinators\, conservation\, gardening\, crafts\, shopping & more\, then this is the place to be! Free entrance to visit with vendors selling & offering information about their goods or services. Visit the kids’ area during NatureFest to decorate a pair of binoculars and go birding in the library! For more information\, contact Bethany at the library.\n 
URL:https://www.lowellpl.lib.in.us/event/naturefest-3/
LOCATION:IN
CATEGORIES:Events
ATTACH;FMTTYPE=image/png:https://www.lowellpl.lib.in.us/wp-content/uploads/2025/06/deer-lg.png
END:VEVENT
BEGIN:VEVENT
DTSTART;TZID=America/Chicago:20250913T090000
DTEND;TZID=America/Chicago:20250913T170000
DTSTAMP:20260425T061054
CREATED:20250912T160716Z
LAST-MODIFIED:20250912T160840Z
UID:10004775-1757754000-1757782800@www.lowellpl.lib.in.us
SUMMARY:Shelby Closed
DESCRIPTION:The Shelby Library will be closed all day
URL:https://www.lowellpl.lib.in.us/event/shelby-closed-5/
LOCATION:Shelby Branch\, 23323 Shelby Rd\, Shelby\, IN\, 46377\, United States
ATTACH;FMTTYPE=image/png:https://www.lowellpl.lib.in.us/wp-content/uploads/2022/08/closed.png
END:VEVENT
BEGIN:VEVENT
DTSTART;TZID=America/Chicago:20250911T173000
DTEND;TZID=America/Chicago:20250911T190000
DTSTAMP:20260425T061054
CREATED:20241220T170556Z
LAST-MODIFIED:20250910T174629Z
UID:10003046-1757611800-1757617200@www.lowellpl.lib.in.us
SUMMARY:Simple Stamping (Lowell)
DESCRIPTION:Make two cards with envelopes.  A $7 fee\, payable at class\, will cover all materials. Limit 12. Pre-register. REGISTRATION OPENS August 7
URL:https://www.lowellpl.lib.in.us/event/simple-stamping-39/
LOCATION:Lowell Public Library\, 1505 E Commercial Ave\, Lowell\, IN\, 46356-2107\, United States
CATEGORIES:Events
ATTACH;FMTTYPE=image/jpeg:https://www.lowellpl.lib.in.us/wp-content/uploads/2022/12/stamping2.jpeg
END:VEVENT
BEGIN:VEVENT
DTSTART;TZID=America/Chicago:20250911T163000
DTEND;TZID=America/Chicago:20250911T173000
DTSTAMP:20260425T061054
CREATED:20250804T150752Z
LAST-MODIFIED:20250804T151203Z
UID:10004717-1757608200-1757611800@www.lowellpl.lib.in.us
SUMMARY:YA Agamographs (Shelby)
DESCRIPTION:Learn to make an agamograph! An agamograph is a type of image that shows two different pictures depending on the angle from which it is viewed. Miss Emily will show you how to do it!
URL:https://www.lowellpl.lib.in.us/event/ya-agamographs/
LOCATION:Shelby Branch\, 23323 Shelby Rd\, Shelby\, IN\, 46377\, United States
CATEGORIES:Events
ATTACH;FMTTYPE=image/gif:https://www.lowellpl.lib.in.us/wp-content/uploads/2025/08/agamgraph-e1754320024510.gif
END:VEVENT
BEGIN:VEVENT
DTSTART;TZID=America/Chicago:20250911T153000
DTEND;TZID=America/Chicago:20250911T160000
DTSTAMP:20260425T061054
CREATED:20250805T143449Z
LAST-MODIFIED:20250805T143449Z
UID:10004734-1757604600-1757606400@www.lowellpl.lib.in.us
SUMMARY:Lego corn on the cob craft (Lowell)
DESCRIPTION:Lego corn! \nThursday September 11th \n10:30 OR 3:30 \nRegistration is required \nMake this cute corn on the cob craft with Legos! \nWe will be using Legos stamped in paint to look like kernels of corn. \nRegistration opens \nAugust 18th \n  \n  \n  \n 
URL:https://www.lowellpl.lib.in.us/event/lego-corn-on-the-cob-craft-lowell-2/
LOCATION:Lowell Public Library\, 1505 E Commercial Ave\, Lowell\, IN\, 46356-2107\, United States
CATEGORIES:Events,Kids
ATTACH;FMTTYPE=image/png:https://www.lowellpl.lib.in.us/wp-content/uploads/2025/08/lego-corn-on-the-cob-craft.png
END:VEVENT
BEGIN:VEVENT
DTSTART;TZID=America/Chicago:20250911T103000
DTEND;TZID=America/Chicago:20250911T110000
DTSTAMP:20260425T061054
CREATED:20250805T134704Z
LAST-MODIFIED:20250805T134704Z
UID:10004733-1757586600-1757588400@www.lowellpl.lib.in.us
SUMMARY:Lego corn on the cob craft (Lowell)
DESCRIPTION:Lego corn! \nThursday September 11th \n10:30 OR 3:30 \nRegistration is required \nMake this cute corn on the cob craft with Legos! \nWe will be using Legos stamped in paint to look like kernels of corn. \nRegistration opens \nAugust 18th \n  \n  \n 
URL:https://www.lowellpl.lib.in.us/event/lego-corn-on-the-cob-craft-lowell/
LOCATION:Lowell Public Library\, 1505 E Commercial Ave\, Lowell\, IN\, 46356-2107\, United States
CATEGORIES:Events,Kids
ATTACH;FMTTYPE=image/png:https://www.lowellpl.lib.in.us/wp-content/uploads/2025/08/lego-corn-on-the-cob-craft.png
END:VEVENT
BEGIN:VEVENT
DTSTART;TZID=America/Chicago:20250911T090000
DTEND;TZID=America/Chicago:20250911T120000
DTSTAMP:20260425T061054
CREATED:20250131T165606Z
LAST-MODIFIED:20251014T142700Z
UID:10003222-1757581200-1757592000@www.lowellpl.lib.in.us
SUMMARY:Knit & Crochet (Lowell)
DESCRIPTION:Meet up to knit and crochet\, and share patterns and tips.   \n 
URL:https://www.lowellpl.lib.in.us/event/knit-crochet-32/2025-09-11/
LOCATION:Lowell Public Library\, 1505 E Commercial Ave\, Lowell\, IN\, 46356-2107\, United States
CATEGORIES:Events
ATTACH;FMTTYPE=image/jpeg:https://www.lowellpl.lib.in.us/wp-content/uploads/2022/01/crochet.jpg
END:VEVENT
BEGIN:VEVENT
DTSTART;TZID=America/Chicago:20250910T163000
DTEND;TZID=America/Chicago:20250910T173000
DTSTAMP:20260425T061054
CREATED:20250804T154807Z
LAST-MODIFIED:20250804T154807Z
UID:10004722-1757521800-1757525400@www.lowellpl.lib.in.us
SUMMARY:YA Craft (Schneider)
DESCRIPTION:Make a marbled mug using nail polish
URL:https://www.lowellpl.lib.in.us/event/ya-craft-schneider/
LOCATION:Schneider Branch Library\, 24002 Parrish Ave\, Schneider\, IN\, 46376\, United States
CATEGORIES:Events
ATTACH;FMTTYPE=image/jpeg:https://www.lowellpl.lib.in.us/wp-content/uploads/2025/08/marbled-mugs-e1754322468160.jpg
END:VEVENT
BEGIN:VEVENT
DTSTART;TZID=America/Chicago:20250910T163000
DTEND;TZID=America/Chicago:20250910T173000
DTSTAMP:20260425T061054
CREATED:20250729T162255Z
LAST-MODIFIED:20250910T172451Z
UID:10004711-1757521800-1757525400@www.lowellpl.lib.in.us
SUMMARY:Therapy Dog Visit (Shelby)
DESCRIPTION:Read and visit with a therapy dog
URL:https://www.lowellpl.lib.in.us/event/ya-independent-craft-6/
LOCATION:Shelby Branch\, 23323 Shelby Rd\, Shelby\, IN\, 46377\, United States
CATEGORIES:Events
ATTACH;FMTTYPE=image/jpeg:https://www.lowellpl.lib.in.us/wp-content/uploads/2023/05/therapy-dog.jpg
END:VEVENT
BEGIN:VEVENT
DTSTART;TZID=America/Chicago:20250910T130000
DTEND;TZID=America/Chicago:20250910T150000
DTSTAMP:20260425T061054
CREATED:20250820T220325Z
LAST-MODIFIED:20250820T221823Z
UID:10004755-1757509200-1757516400@www.lowellpl.lib.in.us
SUMMARY:Learn to Play Mahjong (Lowell)
DESCRIPTION:Learn to play mahjong.
URL:https://www.lowellpl.lib.in.us/event/learn-to-play-mahjong-lowell/
LOCATION:Lowell Public Library\, 1505 E Commercial Ave\, Lowell\, IN\, 46356-2107\, United States
CATEGORIES:Events
ATTACH;FMTTYPE=image/jpeg:https://www.lowellpl.lib.in.us/wp-content/uploads/2025/08/mahjong.jpg
END:VEVENT
END:VCALENDAR