BEGIN:VCALENDAR
VERSION:2.0
PRODID:-//Lowell Public Library - Lowell, IN - ECPv6.7.0//NONSGML v1.0//EN
CALSCALE:GREGORIAN
METHOD:PUBLISH
X-WR-CALNAME:Lowell Public Library - Lowell, IN
X-ORIGINAL-URL:https://www.lowellpl.lib.in.us
X-WR-CALDESC:Events for Lowell Public Library - Lowell, IN
REFRESH-INTERVAL;VALUE=DURATION:PT1H
X-Robots-Tag:noindex
X-PUBLISHED-TTL:PT1H
BEGIN:VTIMEZONE
TZID:America/Chicago
BEGIN:DAYLIGHT
TZOFFSETFROM:-0600
TZOFFSETTO:-0500
TZNAME:CDT
DTSTART:20250309T080000
END:DAYLIGHT
BEGIN:STANDARD
TZOFFSETFROM:-0500
TZOFFSETTO:-0600
TZNAME:CST
DTSTART:20251102T070000
END:STANDARD
END:VTIMEZONE
BEGIN:VEVENT
DTSTART;TZID=America/Chicago:20250827T173000
DTEND;TZID=America/Chicago:20250827T183000
DTSTAMP:20260425T113344
CREATED:20250701T201814Z
LAST-MODIFIED:20250722T152759Z
UID:10004665-1756315800-1756319400@www.lowellpl.lib.in.us
SUMMARY:Market Investing (Lowell)
DESCRIPTION:Investing in a Volatile Market \nUnderstand the challenges of investing in the market during uncertain times. This educational program\, presented by Kyle Wicklund from PGIM\, and hosted by Edward Jones in Lowell\, explores the factors and events that influence the market. Pre-register. \n 
URL:https://www.lowellpl.lib.in.us/event/market-investing-lowell/
LOCATION:Lowell Public Library\, 1505 E Commercial Ave\, Lowell\, IN\, 46356-2107\, United States
CATEGORIES:Events
ATTACH;FMTTYPE=image/jpeg:https://www.lowellpl.lib.in.us/wp-content/uploads/2025/07/stock.jpg
END:VEVENT
BEGIN:VEVENT
DTSTART;TZID=America/Chicago:20250827T163000
DTEND;TZID=America/Chicago:20250827T173000
DTSTAMP:20260425T113344
CREATED:20250715T213128Z
LAST-MODIFIED:20250717T191139Z
UID:10004691-1756312200-1756315800@www.lowellpl.lib.in.us
SUMMARY:YA Bunco (Schneider)
DESCRIPTION:Play this fun dice game!
URL:https://www.lowellpl.lib.in.us/event/ya-bunco-schneider/
LOCATION:Schneider Branch Library\, 24002 Parrish Ave\, Schneider\, IN\, 46376\, United States
CATEGORIES:Events
ATTACH;FMTTYPE=image/jpeg:https://www.lowellpl.lib.in.us/wp-content/uploads/2022/01/bunco2.jpg
END:VEVENT
BEGIN:VEVENT
DTSTART;TZID=America/Chicago:20250827T163000
DTEND;TZID=America/Chicago:20250827T173000
DTSTAMP:20260425T113344
CREATED:20250715T203648Z
LAST-MODIFIED:20250715T205621Z
UID:10004682-1756312200-1756315800@www.lowellpl.lib.in.us
SUMMARY:YA Independent Craft (Shelby)
DESCRIPTION:Create something amazing by using our craft supplies and your imagination. \n 
URL:https://www.lowellpl.lib.in.us/event/ya-independent-craft-5/
LOCATION:Shelby Branch\, 23323 Shelby Rd\, Shelby\, IN\, 46377\, United States
ATTACH;FMTTYPE=image/jpeg:https://www.lowellpl.lib.in.us/wp-content/uploads/2022/01/crafts-scaled.jpg
END:VEVENT
BEGIN:VEVENT
DTSTART;TZID=America/Chicago:20250826T163000
DTEND;TZID=America/Chicago:20250826T173000
DTSTAMP:20260425T113344
CREATED:20250715T214903Z
LAST-MODIFIED:20250715T214903Z
UID:10004693-1756225800-1756229400@www.lowellpl.lib.in.us
SUMMARY:Kids Rock Painting (Schneider)
DESCRIPTION:Help us build a snake by painting rocks with colorful designs.  How long will our snake get?
URL:https://www.lowellpl.lib.in.us/event/kids-rock-painting-schneider/
LOCATION:Schneider Branch Library\, 24002 Parrish Ave\, Schneider\, IN\, 46376\, United States
CATEGORIES:Events
ATTACH;FMTTYPE=image/jpeg:https://www.lowellpl.lib.in.us/wp-content/uploads/2025/07/snake-rock-scaled.jpeg
END:VEVENT
BEGIN:VEVENT
DTSTART;TZID=America/Chicago:20250826T163000
DTEND;TZID=America/Chicago:20250826T173000
DTSTAMP:20260425T113344
CREATED:20250715T212003Z
LAST-MODIFIED:20250715T212003Z
UID:10004687-1756225800-1756229400@www.lowellpl.lib.in.us
SUMMARY:Kids Wii Games (Shelby)
DESCRIPTION:Play Wii with your friends
URL:https://www.lowellpl.lib.in.us/event/kids-wii-games-shelby/
LOCATION:Shelby Branch\, 23323 Shelby Rd\, Shelby\, IN\, 46377\, United States
CATEGORIES:Events
ATTACH;FMTTYPE=image/jpeg:https://www.lowellpl.lib.in.us/wp-content/uploads/2022/12/wii-remotes.jpg
END:VEVENT
BEGIN:VEVENT
DTSTART;TZID=America/Chicago:20250826T160000
DTEND;TZID=America/Chicago:20250826T170000
DTSTAMP:20260425T113344
CREATED:20250712T155429Z
LAST-MODIFIED:20250712T155429Z
UID:10004668-1756224000-1756227600@www.lowellpl.lib.in.us
SUMMARY:Tales for Tails
DESCRIPTION:Tuesday’s \nAugust 5th\, 12th and 26th 4 P.M—5 P.M \nRead or just visit with a certified therapy dog \nJoin us on Tuesdays as we will be offering the opportunity for kids to read or just visit with therapy dogs. \nThis is a fun program\, where children get a chance to cozy up with a loveable pup and practice their reading skills. Kids can read to one of the therapy dogs for a few minutes or just visit with one. Some of these talented pups have pretty neat talents to share as well! Such a fun way to build confidence and increase the kids love of reading! \n*REGISTRATION IS REQUIRED* \nRegistration opens Monday\, July 21st \n  \n 
URL:https://www.lowellpl.lib.in.us/event/tales-for-tails-84/
LOCATION:Lowell Public Library\, 1505 E Commercial Ave\, Lowell\, IN\, 46356-2107\, United States
CATEGORIES:Events,Kids
ATTACH;FMTTYPE=image/jpeg:https://www.lowellpl.lib.in.us/wp-content/uploads/2023/05/therapy-dog.jpg
END:VEVENT
BEGIN:VEVENT
DTSTART;TZID=America/Chicago:20250825T160000
DTEND;TZID=America/Chicago:20250825T170000
DTSTAMP:20260425T113344
CREATED:20250715T201329Z
LAST-MODIFIED:20250715T201329Z
UID:10004677-1756137600-1756141200@www.lowellpl.lib.in.us
SUMMARY:Senior Bingo (Shelby)
DESCRIPTION:Play for a chance to win a gift card
URL:https://www.lowellpl.lib.in.us/event/senior-bingo-shelby-2/
LOCATION:Shelby Branch\, 23323 Shelby Rd\, Shelby\, IN\, 46377\, United States
CATEGORIES:Events
ATTACH;FMTTYPE=image/gif:https://www.lowellpl.lib.in.us/wp-content/uploads/2022/01/bingo_animated.gif
END:VEVENT
BEGIN:VEVENT
DTSTART;TZID=America/Chicago:20250823T100000
DTEND;TZID=America/Chicago:20250823T230000
DTSTAMP:20260425T113344
CREATED:20250715T195329Z
LAST-MODIFIED:20250715T195329Z
UID:10004674-1755943200-1755990000@www.lowellpl.lib.in.us
SUMMARY:Coffee & Conversation (Shelby)
DESCRIPTION:Stop in for a cup of coffee. Stay for a chat. \n 
URL:https://www.lowellpl.lib.in.us/event/coffee-conversation-shelby-2/2025-08-23/
LOCATION:Shelby Branch\, 23323 Shelby Rd\, Shelby\, IN\, 46377\, United States
CATEGORIES:Events
ATTACH;FMTTYPE=image/jpeg:https://www.lowellpl.lib.in.us/wp-content/uploads/2023/07/coffee-and-conversation.jpeg
END:VEVENT
BEGIN:VEVENT
DTSTART;TZID=America/Chicago:20250821T173000
DTEND;TZID=America/Chicago:20250821T190000
DTSTAMP:20260425T113344
CREATED:20250714T172827Z
LAST-MODIFIED:20250911T173201Z
UID:10004669-1755797400-1755802800@www.lowellpl.lib.in.us
SUMMARY:Lowell YA Escape Experience
DESCRIPTION:Have you ever wanted to try an escape room to see if you had what it takes to make it out?\nYoung Adults and teens\, come check out the Amazing Hoosier Women Escape Experience at the Lowell Public Library on Thursday\, August 21st at 5:30pm. This escape experience was created by the Indiana State Library specifically for Young Adults and older. If there is enough interest that evening\, we’ll split into groups.\nAMAZING HOOSIER WOMEN ESCAPE EXPERIENCE\nEscape Experience Level = EASY                        Grade Level = Grade 5+\nRecommended Time = 40-50 minutes               Recommended Group Size = 4-8 participants \n“Step into an intriguing world where participants are tasked with unraveling the mystery behind the disappearance of a set of remarkable photographs featuring notable Hoosier women.  As you navigate this immersive experience\, your mission is to recover the stolen photographs\, piecing together the stories of these inspiring women. Will you be able to restore the scrapbook of photos to its former glory? The challenge awaits!”\n  \nThis is a free program for students 5th grade – 12th grade. Registration opens on 7/31/25 and is REQUIRED. \n 
URL:https://www.lowellpl.lib.in.us/event/lowell-ya-escape-experience/
LOCATION:Lowell Public Library\, 1505 E Commercial Ave\, Lowell\, IN\, 46356-2107\, United States
CATEGORIES:Events,YA/Teen
ATTACH;FMTTYPE=image/jpeg:https://www.lowellpl.lib.in.us/wp-content/uploads/2025/07/escape.jpg
END:VEVENT
BEGIN:VEVENT
DTSTART;TZID=America/Chicago:20250821T160000
DTEND;TZID=America/Chicago:20250821T170000
DTSTAMP:20260425T113344
CREATED:20250715T201115Z
LAST-MODIFIED:20250715T201115Z
UID:10004676-1755792000-1755795600@www.lowellpl.lib.in.us
SUMMARY:Book Discussion (Shelby)
DESCRIPTION:Read\, then meet to discuss The Berry Pickers\, written by Amanda Peters. \n 
URL:https://www.lowellpl.lib.in.us/event/book-discussion-shelby/
LOCATION:Shelby Branch\, 23323 Shelby Rd\, Shelby\, IN\, 46377\, United States
CATEGORIES:Events
ATTACH;FMTTYPE=image/jpeg:https://www.lowellpl.lib.in.us/wp-content/uploads/2025/06/berry-pickers.jpg
END:VEVENT
BEGIN:VEVENT
DTSTART;TZID=America/Chicago:20250821T090000
DTEND;TZID=America/Chicago:20250821T120000
DTSTAMP:20260425T113344
CREATED:20250131T165606Z
LAST-MODIFIED:20251014T142700Z
UID:10003219-1755766800-1755777600@www.lowellpl.lib.in.us
SUMMARY:Knit & Crochet (Lowell)
DESCRIPTION:Meet up to knit and crochet\, and share patterns and tips.   \n 
URL:https://www.lowellpl.lib.in.us/event/knit-crochet-32/2025-08-21/
LOCATION:Lowell Public Library\, 1505 E Commercial Ave\, Lowell\, IN\, 46356-2107\, United States
CATEGORIES:Events
ATTACH;FMTTYPE=image/jpeg:https://www.lowellpl.lib.in.us/wp-content/uploads/2022/01/crochet.jpg
END:VEVENT
BEGIN:VEVENT
DTSTART;TZID=America/Chicago:20250820T163000
DTEND;TZID=America/Chicago:20250820T173000
DTSTAMP:20260425T113344
CREATED:20250715T212959Z
LAST-MODIFIED:20250715T212959Z
UID:10004690-1755707400-1755711000@www.lowellpl.lib.in.us
SUMMARY:YA Glass Painting (Schneider)
DESCRIPTION:Express your creativity by painting on glass. \n 
URL:https://www.lowellpl.lib.in.us/event/ya-glass-painting-schneider/
LOCATION:Schneider Branch Library\, 24002 Parrish Ave\, Schneider\, IN\, 46376\, United States
CATEGORIES:Events
ATTACH;FMTTYPE=image/jpeg:https://www.lowellpl.lib.in.us/wp-content/uploads/2022/04/glass-painting-1.jpg
END:VEVENT
BEGIN:VEVENT
DTSTART;TZID=America/Chicago:20250820T163000
DTEND;TZID=America/Chicago:20250820T173000
DTSTAMP:20260425T113344
CREATED:20250715T203358Z
LAST-MODIFIED:20250715T203358Z
UID:10004681-1755707400-1755711000@www.lowellpl.lib.in.us
SUMMARY:YA Craft (Shelby)
DESCRIPTION:Make paper airplanes
URL:https://www.lowellpl.lib.in.us/event/ya-craft-shelby/
LOCATION:Shelby Branch\, 23323 Shelby Rd\, Shelby\, IN\, 46377\, United States
CATEGORIES:Events
ATTACH;FMTTYPE=image/png:https://www.lowellpl.lib.in.us/wp-content/uploads/2023/07/paper-airplane.png
END:VEVENT
BEGIN:VEVENT
DTSTART;TZID=America/Chicago:20250820T120000
DTEND;TZID=America/Chicago:20250820T150000
DTSTAMP:20260425T113344
CREATED:20250626T155720Z
LAST-MODIFIED:20250626T155720Z
UID:10004661-1755691200-1755702000@www.lowellpl.lib.in.us
SUMMARY:Canasta (Lowell)
DESCRIPTION:Join us for a fun card game\, and we’ll teach you how to play! \n  \n 
URL:https://www.lowellpl.lib.in.us/event/canasta-lowell-2/
LOCATION:Lowell Public Library\, 1505 E Commercial Ave\, Lowell\, IN\, 46356-2107\, United States
CATEGORIES:Events
ATTACH;FMTTYPE=image/jpeg:https://www.lowellpl.lib.in.us/wp-content/uploads/2023/03/Canasta.jpg
END:VEVENT
BEGIN:VEVENT
DTSTART;TZID=America/Chicago:20250819T180000
DTEND;TZID=America/Chicago:20250819T190000
DTSTAMP:20260425T113344
CREATED:20250626T155254Z
LAST-MODIFIED:20250626T155254Z
UID:10004660-1755626400-1755630000@www.lowellpl.lib.in.us
SUMMARY:Library Board Meets (Lowell)
DESCRIPTION:The regular meeting of the Lowell Public Library Board of Trustees will be held. \n 
URL:https://www.lowellpl.lib.in.us/event/library-board-meets-lowell/
LOCATION:Lowell Public Library\, 1505 E Commercial Ave\, Lowell\, IN\, 46356-2107\, United States
CATEGORIES:Events
ATTACH;FMTTYPE=image/jpeg:https://www.lowellpl.lib.in.us/wp-content/uploads/2022/01/board-meeting-3.jpg
END:VEVENT
BEGIN:VEVENT
DTSTART;TZID=America/Chicago:20250819T163000
DTEND;TZID=America/Chicago:20250819T173000
DTSTAMP:20260425T113344
CREATED:20250715T211811Z
LAST-MODIFIED:20250715T211811Z
UID:10004686-1755621000-1755624600@www.lowellpl.lib.in.us
SUMMARY:Kids Craft (Shelby)
DESCRIPTION:Make a watermelon magnet using craft sticks \n 
URL:https://www.lowellpl.lib.in.us/event/kids-craft-shelby/
LOCATION:Shelby Branch\, 23323 Shelby Rd\, Shelby\, IN\, 46377\, United States
CATEGORIES:Events
ATTACH;FMTTYPE=image/png:https://www.lowellpl.lib.in.us/wp-content/uploads/2025/07/watermelon-magnet.png
END:VEVENT
BEGIN:VEVENT
DTSTART;TZID=America/Chicago:20250819T100000
DTEND;TZID=America/Chicago:20250819T113000
DTSTAMP:20260425T113344
CREATED:20241127T152223Z
LAST-MODIFIED:20250527T174106Z
UID:10002985-1755597600-1755603000@www.lowellpl.lib.in.us
SUMMARY:Adult Coloring (Lowell)
DESCRIPTION:Join in on the fun!  Coloring helps us de-stress and stimulates brain areas related to motor skills. All supplies will be provided or you may bring your own. \n 
URL:https://www.lowellpl.lib.in.us/event/adult-coloring-35/2025-08-19/
LOCATION:Lowell Public Library\, 1505 E Commercial Ave\, Lowell\, IN\, 46356-2107\, United States
CATEGORIES:Events
ATTACH;FMTTYPE=image/jpeg:https://www.lowellpl.lib.in.us/wp-content/uploads/2022/01/coloring.jpg
END:VEVENT
BEGIN:VEVENT
DTSTART;TZID=America/Chicago:20250818T180000
DTEND;TZID=America/Chicago:20250818T190000
DTSTAMP:20260425T113344
CREATED:20250715T212423Z
LAST-MODIFIED:20250715T212423Z
UID:10004688-1755540000-1755543600@www.lowellpl.lib.in.us
SUMMARY:Adult Craft Night (Schneider)
DESCRIPTION:Pick a painting project. Choose between canvas\, ceramic\, and other paintable surfaces. Call the library to pre-register. \n 
URL:https://www.lowellpl.lib.in.us/event/adult-craft-night-schneider/
LOCATION:Schneider Branch Library\, 24002 Parrish Ave\, Schneider\, IN\, 46376\, United States
CATEGORIES:Events
ATTACH;FMTTYPE=image/png:https://www.lowellpl.lib.in.us/wp-content/uploads/2024/03/Adult-Craft.png
END:VEVENT
BEGIN:VEVENT
DTSTART;TZID=America/Chicago:20250818T160000
DTEND;TZID=America/Chicago:20250818T170000
DTSTAMP:20260425T113344
CREATED:20250715T195055Z
LAST-MODIFIED:20250715T195055Z
UID:10004672-1755532800-1755536400@www.lowellpl.lib.in.us
SUMMARY:Over 18 Game Day (Shelby)
DESCRIPTION:Get together to play cards or board games. \n 
URL:https://www.lowellpl.lib.in.us/event/over-18-game-day-shelby-2/2025-08-18/
LOCATION:Shelby Branch\, 23323 Shelby Rd\, Shelby\, IN\, 46377\, United States
CATEGORIES:Events
ATTACH;FMTTYPE=image/jpeg:https://www.lowellpl.lib.in.us/wp-content/uploads/2024/04/over-18-game-2.jpg
END:VEVENT
BEGIN:VEVENT
DTSTART;TZID=America/Chicago:20250816T100000
DTEND;TZID=America/Chicago:20250816T120000
DTSTAMP:20260425T113344
CREATED:20250715T200431Z
LAST-MODIFIED:20250715T200900Z
UID:10004675-1755338400-1755345600@www.lowellpl.lib.in.us
SUMMARY:Movies for Grown-Ups (Shelby)
DESCRIPTION:Enjoy a morning movie at the library \n 
URL:https://www.lowellpl.lib.in.us/event/movies-for-grown-ups-shelby-2/
LOCATION:Shelby Branch\, 23323 Shelby Rd\, Shelby\, IN\, 46377\, United States
CATEGORIES:Events
ATTACH;FMTTYPE=image/jpeg:https://www.lowellpl.lib.in.us/wp-content/uploads/2023/01/movie-2.jpg
END:VEVENT
BEGIN:VEVENT
DTSTART;TZID=America/Chicago:20250816T100000
DTEND;TZID=America/Chicago:20250816T120000
DTSTAMP:20260425T113344
CREATED:20241127T151929Z
LAST-MODIFIED:20250527T174346Z
UID:10002973-1755338400-1755345600@www.lowellpl.lib.in.us
SUMMARY:Poetry (Lowell)
DESCRIPTION:Aspiring poets can join the NW Indiana Poetry Society. Bring  your works or that of your favorite poet. \n 
URL:https://www.lowellpl.lib.in.us/event/poetry-21/2025-08-16/
LOCATION:Lowell Public Library\, 1505 E Commercial Ave\, Lowell\, IN\, 46356-2107\, United States
CATEGORIES:Events
ATTACH;FMTTYPE=image/jpeg:https://www.lowellpl.lib.in.us/wp-content/uploads/2022/01/poetry-pencil.jpg
END:VEVENT
BEGIN:VEVENT
DTSTART;TZID=America/Chicago:20250814T163000
DTEND;TZID=America/Chicago:20250814T173000
DTSTAMP:20260425T113344
CREATED:20250715T203221Z
LAST-MODIFIED:20250715T203221Z
UID:10004680-1755189000-1755192600@www.lowellpl.lib.in.us
SUMMARY:YA Escape Experience (Shelby)
DESCRIPTION:“Step into an intriguing world where participants are tasked with unraveling the mystery behind the disappearance of a set of remarkable photographs featuring notable Hoosier women.  As you navigate this immersive experience\, your mission is to recover the stolen photographs\, piecing together the stories of these inspiring women. Will you be able to restore the scrapbook of photos to its former glory? The challenge awaits!”\nJoin Miss Emily for this fun escape experience.
URL:https://www.lowellpl.lib.in.us/event/ya-escape-experience-shelby/
LOCATION:Shelby Branch\, 23323 Shelby Rd\, Shelby\, IN\, 46377\, United States
CATEGORIES:Events
ATTACH;FMTTYPE=image/jpeg:https://www.lowellpl.lib.in.us/wp-content/uploads/2025/07/escape.jpg
END:VEVENT
BEGIN:VEVENT
DTSTART;TZID=America/Chicago:20250814T090000
DTEND;TZID=America/Chicago:20250814T120000
DTSTAMP:20260425T113344
CREATED:20250131T165606Z
LAST-MODIFIED:20251014T142700Z
UID:10003218-1755162000-1755172800@www.lowellpl.lib.in.us
SUMMARY:Knit & Crochet (Lowell)
DESCRIPTION:Meet up to knit and crochet\, and share patterns and tips.   \n 
URL:https://www.lowellpl.lib.in.us/event/knit-crochet-32/2025-08-14/
LOCATION:Lowell Public Library\, 1505 E Commercial Ave\, Lowell\, IN\, 46356-2107\, United States
CATEGORIES:Events
ATTACH;FMTTYPE=image/jpeg:https://www.lowellpl.lib.in.us/wp-content/uploads/2022/01/crochet.jpg
END:VEVENT
BEGIN:VEVENT
DTSTART;TZID=America/Chicago:20250813T163000
DTEND;TZID=America/Chicago:20250813T173000
DTSTAMP:20260425T113344
CREATED:20250715T212659Z
LAST-MODIFIED:20250715T212659Z
UID:10004689-1755102600-1755106200@www.lowellpl.lib.in.us
SUMMARY:YA Games (Schneider)
DESCRIPTION:Play games with your friends. Play our games or bring one to share. \n 
URL:https://www.lowellpl.lib.in.us/event/ya-games-schneider-2/
LOCATION:Schneider Branch Library\, 24002 Parrish Ave\, Schneider\, IN\, 46376\, United States
CATEGORIES:Events
ATTACH;FMTTYPE=image/jpeg:https://www.lowellpl.lib.in.us/wp-content/uploads/2022/02/games.jpg
END:VEVENT
BEGIN:VEVENT
DTSTART;TZID=America/Chicago:20250813T163000
DTEND;TZID=America/Chicago:20250813T173000
DTSTAMP:20260425T113344
CREATED:20250715T202021Z
LAST-MODIFIED:20250715T202712Z
UID:10004679-1755102600-1755106200@www.lowellpl.lib.in.us
SUMMARY:YA Wii Games (Shelby)
DESCRIPTION:Play Wii with your friends. \n 
URL:https://www.lowellpl.lib.in.us/event/ya-wii-games-5/
LOCATION:Shelby Branch\, 23323 Shelby Rd\, Shelby\, IN\, 46377\, United States
CATEGORIES:Events
ATTACH;FMTTYPE=image/jpeg:https://www.lowellpl.lib.in.us/wp-content/uploads/2022/12/wii-remotes.jpg
END:VEVENT
BEGIN:VEVENT
DTSTART;TZID=America/Chicago:20250813T100000
DTEND;TZID=America/Chicago:20250813T120000
DTSTAMP:20260425T113344
CREATED:20250110T182416Z
LAST-MODIFIED:20250626T145510Z
UID:10003080-1755079200-1755086400@www.lowellpl.lib.in.us
SUMMARY:Drop-In Tech Help (Lowell)
DESCRIPTION:Do you have a question about how to use your phone\, tablet\, laptop\, or computer? Stop in during our drop-in hours and ask for Amanda—she will try her best to help you find the answer! (First come\, first served) \n  \n 
URL:https://www.lowellpl.lib.in.us/event/drop-in-tech-help-11/
LOCATION:Lowell Public Library\, 1505 E Commercial Ave\, Lowell\, IN\, 46356-2107\, United States
ATTACH;FMTTYPE=image/jpeg:https://www.lowellpl.lib.in.us/wp-content/uploads/2024/09/technology-Amanda.jpg
END:VEVENT
BEGIN:VEVENT
DTSTART;TZID=America/Chicago:20250812T163000
DTEND;TZID=America/Chicago:20250812T173000
DTSTAMP:20260425T113344
CREATED:20250715T214311Z
LAST-MODIFIED:20250717T191227Z
UID:10004692-1755016200-1755019800@www.lowellpl.lib.in.us
SUMMARY:Kids Craft (Schneider)
DESCRIPTION:Pick your craft from what we have here.
URL:https://www.lowellpl.lib.in.us/event/kids-craft-82/
LOCATION:Schneider Branch Library\, 24002 Parrish Ave\, Schneider\, IN\, 46376\, United States
CATEGORIES:Events
ATTACH;FMTTYPE=image/jpeg:https://www.lowellpl.lib.in.us/wp-content/uploads/2022/11/craft-supplies.jpg
END:VEVENT
BEGIN:VEVENT
DTSTART;TZID=America/Chicago:20250812T163000
DTEND;TZID=America/Chicago:20250812T173000
DTSTAMP:20260425T113344
CREATED:20250715T211000Z
LAST-MODIFIED:20250715T211039Z
UID:10004685-1755016200-1755019800@www.lowellpl.lib.in.us
SUMMARY:Kids Games (Shelby)
DESCRIPTION:Play games with your friends. \n 
URL:https://www.lowellpl.lib.in.us/event/kids-games-3/
LOCATION:IN
CATEGORIES:Events
ATTACH;FMTTYPE=image/jpeg:https://www.lowellpl.lib.in.us/wp-content/uploads/2022/01/boardgames.jpg
END:VEVENT
BEGIN:VEVENT
DTSTART;TZID=America/Chicago:20250812T160000
DTEND;TZID=America/Chicago:20250812T170000
DTSTAMP:20260425T113344
CREATED:20250712T155048Z
LAST-MODIFIED:20250712T155048Z
UID:10004667-1755014400-1755018000@www.lowellpl.lib.in.us
SUMMARY:Tales for Tails
DESCRIPTION:Tuesday’s \nAugust 5th\, 12th and 26th 4 P.M—5 P.M \nRead or just visit with a certified therapy dog \nJoin us on Tuesdays as we will be offering the opportunity for kids to read or just visit with therapy dogs. \nThis is a fun program\, where children get a chance to cozy up with a loveable pup and practice their reading skills. Kids can read to one of the therapy dogs for a few minutes or just visit with one. Some of these talented pups have pretty neat talents to share as well! Such a fun way to build confidence and increase the kids love of reading! \n*REGISTRATION IS REQUIRED* \nRegistration opens Monday\, July 21st \n  \n 
URL:https://www.lowellpl.lib.in.us/event/tales-for-tails-83/
LOCATION:Lowell Public Library\, 1505 E Commercial Ave\, Lowell\, IN\, 46356-2107\, United States
CATEGORIES:Events,Kids
ATTACH;FMTTYPE=image/jpeg:https://www.lowellpl.lib.in.us/wp-content/uploads/2023/05/therapy-dog.jpg
END:VEVENT
BEGIN:VEVENT
DTSTART;TZID=America/Chicago:20250811T160000
DTEND;TZID=America/Chicago:20250811T170000
DTSTAMP:20260425T113344
CREATED:20250715T195055Z
LAST-MODIFIED:20250715T195055Z
UID:10004671-1754928000-1754931600@www.lowellpl.lib.in.us
SUMMARY:Over 18 Game Day (Shelby)
DESCRIPTION:Get together to play cards or board games. \n 
URL:https://www.lowellpl.lib.in.us/event/over-18-game-day-shelby-2/2025-08-11/
LOCATION:Shelby Branch\, 23323 Shelby Rd\, Shelby\, IN\, 46377\, United States
CATEGORIES:Events
ATTACH;FMTTYPE=image/jpeg:https://www.lowellpl.lib.in.us/wp-content/uploads/2024/04/over-18-game-2.jpg
END:VEVENT
END:VCALENDAR