BEGIN:VCALENDAR
VERSION:2.0
PRODID:-//Lowell Public Library - Lowell, IN - ECPv6.7.0//NONSGML v1.0//EN
CALSCALE:GREGORIAN
METHOD:PUBLISH
X-WR-CALNAME:Lowell Public Library - Lowell, IN
X-ORIGINAL-URL:https://www.lowellpl.lib.in.us
X-WR-CALDESC:Events for Lowell Public Library - Lowell, IN
REFRESH-INTERVAL;VALUE=DURATION:PT1H
X-Robots-Tag:noindex
X-PUBLISHED-TTL:PT1H
BEGIN:VTIMEZONE
TZID:America/Chicago
BEGIN:DAYLIGHT
TZOFFSETFROM:-0600
TZOFFSETTO:-0500
TZNAME:CDT
DTSTART:20250309T080000
END:DAYLIGHT
BEGIN:STANDARD
TZOFFSETFROM:-0500
TZOFFSETTO:-0600
TZNAME:CST
DTSTART:20251102T070000
END:STANDARD
END:VTIMEZONE
BEGIN:VEVENT
DTSTART;TZID=America/Chicago:20250731T090000
DTEND;TZID=America/Chicago:20250731T120000
DTSTAMP:20260425T220533
CREATED:20250131T165606Z
LAST-MODIFIED:20251014T142700Z
UID:10003216-1753952400-1753963200@www.lowellpl.lib.in.us
SUMMARY:Knit & Crochet (Lowell)
DESCRIPTION:Meet up to knit and crochet\, and share patterns and tips.   \n 
URL:https://www.lowellpl.lib.in.us/event/knit-crochet-32/2025-07-31/
LOCATION:Lowell Public Library\, 1505 E Commercial Ave\, Lowell\, IN\, 46356-2107\, United States
CATEGORIES:Events
ATTACH;FMTTYPE=image/jpeg:https://www.lowellpl.lib.in.us/wp-content/uploads/2022/01/crochet.jpg
END:VEVENT
BEGIN:VEVENT
DTSTART;TZID=America/Chicago:20250730T163000
DTEND;TZID=America/Chicago:20250730T173000
DTSTAMP:20260425T220533
CREATED:20250617T192748Z
LAST-MODIFIED:20250617T192748Z
UID:10004649-1753893000-1753896600@www.lowellpl.lib.in.us
SUMMARY:All Ages Cookout (Schneider)
DESCRIPTION:Celebrate the end of summer reading with a free cookout for everyone. All ages are invited. \n  \n 
URL:https://www.lowellpl.lib.in.us/event/all-ages-cookout-schneider/
LOCATION:Schneider Branch Library\, 24002 Parrish Ave\, Schneider\, IN\, 46376\, United States
CATEGORIES:Events
ATTACH;FMTTYPE=image/jpeg:https://www.lowellpl.lib.in.us/wp-content/uploads/2025/06/cookout.jpg
END:VEVENT
BEGIN:VEVENT
DTSTART;TZID=America/Chicago:20250729T160000
DTEND;TZID=America/Chicago:20250729T170000
DTSTAMP:20260425T220533
CREATED:20250519T210712Z
LAST-MODIFIED:20250527T181141Z
UID:10004611-1753804800-1753808400@www.lowellpl.lib.in.us
SUMMARY:Tales for Tails (Lowell)
DESCRIPTION:Tuesday’s \nJuly 1st\, 8th\, 15th\, 22nd\, 29th \nRead or just visit with a certified therapy dog \nJoin us on Tuesdays as we will be offering the opportunity for kids to read or just visit with therapy dogs. \nThis is a fun program\, where children get a chance to cozy up with a loveable pup and practice their reading skills. Kids can read to one of the therapy dogs for a few minutes or just visit with one. Some of these talented pups have pretty neat talents to share as well! Such a fun way to build confidence\, and increase the kids love of reading! \n*REGISTRATION IS REQUIRED* \nRegistration opens Monday\, June 16th \n  \n 
URL:https://www.lowellpl.lib.in.us/event/tales-for-tails-81/
LOCATION:Lowell Public Library\, 1505 E Commercial Ave\, Lowell\, IN\, 46356-2107\, United States
CATEGORIES:Events,Kids
ATTACH;FMTTYPE=image/jpeg:https://www.lowellpl.lib.in.us/wp-content/uploads/2023/05/therapy-dog.jpg
END:VEVENT
BEGIN:VEVENT
DTSTART;TZID=America/Chicago:20250728T160000
DTEND;TZID=America/Chicago:20250728T170000
DTSTAMP:20260425T220533
CREATED:20250610T195348Z
LAST-MODIFIED:20250610T195348Z
UID:10004626-1753718400-1753722000@www.lowellpl.lib.in.us
SUMMARY:Senior Bingo (Shelby)
DESCRIPTION:Play for a chance to win a gift card. \n 
URL:https://www.lowellpl.lib.in.us/event/senior-bingo-shelby/
LOCATION:Shelby Branch\, 23323 Shelby Rd\, Shelby\, IN\, 46377\, United States
CATEGORIES:Events
ATTACH;FMTTYPE=image/gif:https://www.lowellpl.lib.in.us/wp-content/uploads/2022/01/bingo_animated.gif
END:VEVENT
BEGIN:VEVENT
DTSTART;TZID=America/Chicago:20250726T100000
DTEND;TZID=America/Chicago:20250726T110000
DTSTAMP:20260425T220533
CREATED:20250610T193330Z
LAST-MODIFIED:20250610T193330Z
UID:10004622-1753524000-1753527600@www.lowellpl.lib.in.us
SUMMARY:Coffee & Conversation (Shelby)
DESCRIPTION:Stop in for a cup of coffee. Stay for a chat. \n 
URL:https://www.lowellpl.lib.in.us/event/coffee-conversation-shelby/2025-07-26/
LOCATION:Shelby Branch\, 23323 Shelby Rd\, Shelby\, IN\, 46377\, United States
CATEGORIES:Events
ATTACH;FMTTYPE=image/jpeg:https://www.lowellpl.lib.in.us/wp-content/uploads/2023/07/coffee-and-conversation.jpeg
END:VEVENT
BEGIN:VEVENT
DTSTART;TZID=America/Chicago:20250726T090000
DTEND;TZID=America/Chicago:20250726T163000
DTSTAMP:20260425T220533
CREATED:20250610T184026Z
LAST-MODIFIED:20250610T184026Z
UID:10004615-1753520400-1753547400@www.lowellpl.lib.in.us
SUMMARY:$3 Bag Book Sale (Lowell)
DESCRIPTION:On the last Saturday of each month\, get a bag of books for $3. You can bring your own brown grocery bag or ask for one at the circulation desk.  \n 
URL:https://www.lowellpl.lib.in.us/event/3-bag-book-sale-lowell/
LOCATION:Lowell Public Library\, 1505 E Commercial Ave\, Lowell\, IN\, 46356-2107\, United States
CATEGORIES:Events
ATTACH;FMTTYPE=image/jpeg:https://www.lowellpl.lib.in.us/wp-content/uploads/2022/04/Friends-book-sale-white.jpg
END:VEVENT
BEGIN:VEVENT
DTSTART;TZID=America/Chicago:20250724T160000
DTEND;TZID=America/Chicago:20250724T180000
DTSTAMP:20260425T220533
CREATED:20250610T205656Z
LAST-MODIFIED:20250610T205656Z
UID:10004637-1753372800-1753380000@www.lowellpl.lib.in.us
SUMMARY:Family Movie (Shelby)
DESCRIPTION:Watch Moana 2
URL:https://www.lowellpl.lib.in.us/event/family-movie-shelby/
LOCATION:Shelby Branch\, 23323 Shelby Rd\, Shelby\, IN\, 46377\, United States
CATEGORIES:Events
ATTACH;FMTTYPE=image/png:https://www.lowellpl.lib.in.us/wp-content/uploads/2025/04/moana-movie-july-17th.png
END:VEVENT
BEGIN:VEVENT
DTSTART;TZID=America/Chicago:20250724T133000
DTEND;TZID=America/Chicago:20250724T140000
DTSTAMP:20260425T220533
CREATED:20250409T163801Z
LAST-MODIFIED:20250527T181117Z
UID:10003423-1753363800-1753365600@www.lowellpl.lib.in.us
SUMMARY:Carnival games! (Lowell)
DESCRIPTION:Thursday\, July 24th \nCarnival games! \n10:30 A.M \nOR \n1:30 P.M \nPlay some games! Win candy and small prizes! \nThis is a program for children ages birth– 4th grade to enjoy with a parent/adult. \nREGISTRATION IS REQUIRED \nPlease sign up online or call \n#219-696-7704 \nREGISTRATION OPENS Monday\, July 14th \n 
URL:https://www.lowellpl.lib.in.us/event/carnival-games-8/
LOCATION:Lowell Public Library\, 1505 E Commercial Ave\, Lowell\, IN\, 46356-2107\, United States
CATEGORIES:Events,Kids
ATTACH;FMTTYPE=image/png:https://www.lowellpl.lib.in.us/wp-content/uploads/2025/04/carnival-july-24th.png
END:VEVENT
BEGIN:VEVENT
DTSTART;TZID=America/Chicago:20250724T113000
DTEND;TZID=America/Chicago:20250724T123000
DTSTAMP:20260425T220533
CREATED:20250610T212747Z
LAST-MODIFIED:20250610T212747Z
UID:10004645-1753356600-1753360200@www.lowellpl.lib.in.us
SUMMARY:Fun & Games (Schneider)
DESCRIPTION:Kids will play some fun games!
URL:https://www.lowellpl.lib.in.us/event/fun-games-schneider/
LOCATION:Schneider Branch Library\, 24002 Parrish Ave\, Schneider\, IN\, 46376\, United States
CATEGORIES:Events
ATTACH;FMTTYPE=image/jpeg:https://www.lowellpl.lib.in.us/wp-content/uploads/2022/02/games.jpg
END:VEVENT
BEGIN:VEVENT
DTSTART;TZID=America/Chicago:20250724T103000
DTEND;TZID=America/Chicago:20250724T110000
DTSTAMP:20260425T220533
CREATED:20250409T163331Z
LAST-MODIFIED:20250527T181103Z
UID:10003422-1753353000-1753354800@www.lowellpl.lib.in.us
SUMMARY:Carnival games! (Lowell)
DESCRIPTION:Thursday\, July 24th \nCarnival games! \n10:30 A.M \nOR \n1:30 P.M \nPlay some games! Win candy and small prizes! \nThis is a program for children ages birth– 4th grade to enjoy with a parent/adult. \nREGISTRATION IS REQUIRED \nPlease sign up online or call \n#219-696-7704 \nREGISTRATION OPENS Monday\, July 14th \n 
URL:https://www.lowellpl.lib.in.us/event/carnival-games-7/
LOCATION:Lowell Public Library\, 1505 E Commercial Ave\, Lowell\, IN\, 46356-2107\, United States
CATEGORIES:Events,Kids
ATTACH;FMTTYPE=image/png:https://www.lowellpl.lib.in.us/wp-content/uploads/2025/04/carnival-july-24th.png
END:VEVENT
BEGIN:VEVENT
DTSTART;TZID=America/Chicago:20250724T090000
DTEND;TZID=America/Chicago:20250724T120000
DTSTAMP:20260425T220533
CREATED:20250131T165606Z
LAST-MODIFIED:20251014T142700Z
UID:10003215-1753347600-1753358400@www.lowellpl.lib.in.us
SUMMARY:Knit & Crochet (Lowell)
DESCRIPTION:Meet up to knit and crochet\, and share patterns and tips.   \n 
URL:https://www.lowellpl.lib.in.us/event/knit-crochet-32/2025-07-24/
LOCATION:Lowell Public Library\, 1505 E Commercial Ave\, Lowell\, IN\, 46356-2107\, United States
CATEGORIES:Events
ATTACH;FMTTYPE=image/jpeg:https://www.lowellpl.lib.in.us/wp-content/uploads/2022/01/crochet.jpg
END:VEVENT
BEGIN:VEVENT
DTSTART;TZID=America/Chicago:20250723T163000
DTEND;TZID=America/Chicago:20250723T173000
DTSTAMP:20260425T220533
CREATED:20250617T194502Z
LAST-MODIFIED:20250617T194608Z
UID:10004653-1753288200-1753291800@www.lowellpl.lib.in.us
SUMMARY:Young Adult Painting (Schneider)
DESCRIPTION:Paint using your choice of materials. (for grades 5-12) \n 
URL:https://www.lowellpl.lib.in.us/event/ya-painting-schneider/
LOCATION:Schneider Branch Library\, 24002 Parrish Ave\, Schneider\, IN\, 46376\, United States
ATTACH;FMTTYPE=image/jpeg:https://www.lowellpl.lib.in.us/wp-content/uploads/2025/04/paint-party.jpg
END:VEVENT
BEGIN:VEVENT
DTSTART;TZID=America/Chicago:20250723T160000
DTEND;TZID=America/Chicago:20250723T170000
DTSTAMP:20260425T220533
CREATED:20250610T202229Z
LAST-MODIFIED:20250610T202229Z
UID:10004630-1753286400-1753290000@www.lowellpl.lib.in.us
SUMMARY:YA Tie-Dye (Shelby)
DESCRIPTION:Tie-dye a shirt with patriotic red & blue or choose from other colors available with Miss Emily. \n 
URL:https://www.lowellpl.lib.in.us/event/ya-tie-dye-shelby/
LOCATION:Shelby Branch\, 23323 Shelby Rd\, Shelby\, IN\, 46377\, United States
CATEGORIES:Events
ATTACH;FMTTYPE=image/jpeg:https://www.lowellpl.lib.in.us/wp-content/uploads/2025/04/patriotic-tie-dye-no-background.jpg
END:VEVENT
BEGIN:VEVENT
DTSTART;TZID=America/Chicago:20250723T123000
DTEND;TZID=America/Chicago:20250723T143000
DTSTAMP:20260425T220533
CREATED:20250513T194236Z
LAST-MODIFIED:20250527T181046Z
UID:10004600-1753273800-1753281000@www.lowellpl.lib.in.us
SUMMARY:YA Summer Movie (Lowell)
DESCRIPTION:Join other teens & tweens for a movie and popcorn at the Lowell Public Library. \nThe Young Adults will be watching A Minecraft Movie on WEDNESDAY\, July 23rd at 12:40 pm. \n  \nMovie runtime is 1hr 41min so plan to start around 12:40 and pickup at 2:30. You may arrive as early as 12:30 to claim your viewing spot. \nThis is a free program for students entering 5th -12th grade in the upcoming school year. \nRegistration is REQUIRED. Registration opens on 7/16/2025. \nPLEASE DO NOT REGISTER YOUR YOUNGER CHILDREN.
URL:https://www.lowellpl.lib.in.us/event/ya-summer-movie-2/
LOCATION:Lowell Public Library\, 1505 E Commercial Ave\, Lowell\, IN\, 46356-2107\, United States
CATEGORIES:Events,YA/Teen
ATTACH;FMTTYPE=image/jpeg:https://www.lowellpl.lib.in.us/wp-content/uploads/2025/05/minecraft-movie-poster.jpg
END:VEVENT
BEGIN:VEVENT
DTSTART;TZID=America/Chicago:20250722T160000
DTEND;TZID=America/Chicago:20250722T170000
DTSTAMP:20260425T220533
CREATED:20250610T204918Z
LAST-MODIFIED:20250610T204918Z
UID:10004634-1753200000-1753203600@www.lowellpl.lib.in.us
SUMMARY:Chalk the Walk (Shelby)
DESCRIPTION:Decorate our sidewalk with your artwork!
URL:https://www.lowellpl.lib.in.us/event/chalk-the-walk-shelby/
LOCATION:Shelby Branch\, 23323 Shelby Rd\, Shelby\, IN\, 46377\, United States
CATEGORIES:Events
ATTACH;FMTTYPE=image/png:https://www.lowellpl.lib.in.us/wp-content/uploads/2025/04/chalk-the-walk-july-22nd.png
END:VEVENT
BEGIN:VEVENT
DTSTART;TZID=America/Chicago:20250722T160000
DTEND;TZID=America/Chicago:20250722T170000
DTSTAMP:20260425T220533
CREATED:20250519T210204Z
LAST-MODIFIED:20250527T180917Z
UID:10004610-1753200000-1753203600@www.lowellpl.lib.in.us
SUMMARY:Tales for Tails (Lowell)
DESCRIPTION:Tuesday’s \nJuly 1st\, 8th\, 15th\, 22nd\, 29th \nRead or just visit with a certified therapy dog \nJoin us on Tuesdays as we will be offering the opportunity for kids to read or just visit with therapy dogs. \nThis is a fun program\, where children get a chance to cozy up with a loveable pup and practice their reading skills. Kids can read to one of the therapy dogs for a few minutes or just visit with one. Some of these talented pups have pretty neat talents to share as well! Such a fun way to build confidence\, and increase the kids love of reading! \n*REGISTRATION IS REQUIRED* \nRegistration opens Monday\, June 16th \n  \n 
URL:https://www.lowellpl.lib.in.us/event/tales-for-tails-80/
LOCATION:Lowell Public Library\, 1505 E Commercial Ave\, Lowell\, IN\, 46356-2107\, United States
CATEGORIES:Events,Kids
ATTACH;FMTTYPE=image/jpeg:https://www.lowellpl.lib.in.us/wp-content/uploads/2023/05/therapy-dog.jpg
END:VEVENT
BEGIN:VEVENT
DTSTART;TZID=America/Chicago:20250722T133000
DTEND;TZID=America/Chicago:20250722T140000
DTSTAMP:20260425T220533
CREATED:20250409T163105Z
LAST-MODIFIED:20250527T180907Z
UID:10003421-1753191000-1753192800@www.lowellpl.lib.in.us
SUMMARY:Chalk the Walk (Lowell)
DESCRIPTION:Tuesday\, July 22nd \nChalk the Walk \n10:30 A.M \nOR \n1:30 P.M \nCome brighten up the sidewalks in front of the library! \n*chalk provided* \nThis is a program for children ages birth– 4th grade to enjoy with a parent/adult. \nREGISTRATION IS REQUIRED \nPlease sign up online or call \n#219-696-7704 \nREGISTRATION OPENS Monday\, July 14th \n 
URL:https://www.lowellpl.lib.in.us/event/chalk-the-walk-14/
LOCATION:Lowell Public Library\, 1505 E Commercial Ave\, Lowell\, IN\, 46356-2107\, United States
CATEGORIES:Events,Kids
ATTACH;FMTTYPE=image/png:https://www.lowellpl.lib.in.us/wp-content/uploads/2025/04/chalk-the-walk-july-22nd.png
END:VEVENT
BEGIN:VEVENT
DTSTART;TZID=America/Chicago:20250722T113000
DTEND;TZID=America/Chicago:20250722T123000
DTSTAMP:20260425T220533
CREATED:20250610T211756Z
LAST-MODIFIED:20250610T211756Z
UID:10004641-1753183800-1753187400@www.lowellpl.lib.in.us
SUMMARY:Chalk the Walk (Schneider)
DESCRIPTION:Decorate our sidewalk with your artwork!
URL:https://www.lowellpl.lib.in.us/event/chalk-the-walk-schneider/
LOCATION:Schneider Branch Library\, 24002 Parrish Ave\, Schneider\, IN\, 46376\, United States
CATEGORIES:Events
ATTACH;FMTTYPE=image/png:https://www.lowellpl.lib.in.us/wp-content/uploads/2025/04/chalk-the-walk-july-22nd.png
END:VEVENT
BEGIN:VEVENT
DTSTART;TZID=America/Chicago:20250722T103000
DTEND;TZID=America/Chicago:20250722T110000
DTSTAMP:20260425T220533
CREATED:20250409T162421Z
LAST-MODIFIED:20250527T180849Z
UID:10003420-1753180200-1753182000@www.lowellpl.lib.in.us
SUMMARY:Chalk the Walk (Lowell)
DESCRIPTION:Tuesday\, July 22nd \nChalk the Walk \n10:30 A.M \nOR \n1:30 P.M \nCome brighten up the sidewalks in front of the library! \n*chalk provided* \nThis is a program for children ages birth– 4th grade to enjoy with a parent/adult. \nREGISTRATION IS REQUIRED \nPlease sign up online or call \n#219-696-7704 \nREGISTRATION OPENS Monday\, July 14th \n 
URL:https://www.lowellpl.lib.in.us/event/chalk-the-walk-13/
LOCATION:Lowell Public Library\, 1505 E Commercial Ave\, Lowell\, IN\, 46356-2107\, United States
CATEGORIES:Events,Kids
ATTACH;FMTTYPE=image/png:https://www.lowellpl.lib.in.us/wp-content/uploads/2025/04/chalk-the-walk-july-22nd.png
END:VEVENT
BEGIN:VEVENT
DTSTART;TZID=America/Chicago:20250721T170000
DTEND;TZID=America/Chicago:20250721T180000
DTSTAMP:20260425T220533
CREATED:20250617T192134Z
LAST-MODIFIED:20250617T192134Z
UID:10004648-1753117200-1753120800@www.lowellpl.lib.in.us
SUMMARY:Christmas in July (Schneider)
DESCRIPTION:Paint a ceramic Christmas tree. Call the Schneider branch for complete details and to sign up. Pre-registration is REQUIRED! \n  \n 
URL:https://www.lowellpl.lib.in.us/event/christmas-in-july-schneider/2025-07-21/
LOCATION:Schneider Branch Library\, 24002 Parrish Ave\, Schneider\, IN\, 46376\, United States
CATEGORIES:Events
ATTACH;FMTTYPE=image/jpeg:https://www.lowellpl.lib.in.us/wp-content/uploads/2022/11/ceramic-christmas.jpeg
END:VEVENT
BEGIN:VEVENT
DTSTART;TZID=America/Chicago:20250721T080000
DTEND;TZID=America/Chicago:20250721T170000
DTSTAMP:20260425T220533
CREATED:20250610T192841Z
LAST-MODIFIED:20250610T192841Z
UID:10004620-1753084800-1753117200@www.lowellpl.lib.in.us
SUMMARY:Over 18 Game Day (Shelby)
DESCRIPTION:Get together to play cards or board games. \n 
URL:https://www.lowellpl.lib.in.us/event/over-18-game-day-shelby/2025-07-21/
LOCATION:Shelby Branch\, 23323 Shelby Rd\, Shelby\, IN\, 46377\, United States
CATEGORIES:Events
ATTACH;FMTTYPE=image/jpeg:https://www.lowellpl.lib.in.us/wp-content/uploads/2024/04/over-18-game-2.jpg
END:VEVENT
BEGIN:VEVENT
DTSTART;TZID=America/Chicago:20250719T100000
DTEND;TZID=America/Chicago:20250719T120000
DTSTAMP:20260425T220533
CREATED:20250610T195224Z
LAST-MODIFIED:20250610T195224Z
UID:10004625-1752919200-1752926400@www.lowellpl.lib.in.us
SUMMARY:Movies for Grown-Ups (Shelby)
DESCRIPTION:Enjoy a morning movie at the library!
URL:https://www.lowellpl.lib.in.us/event/movies-for-grown-ups-shelby/
LOCATION:Shelby Branch\, 23323 Shelby Rd\, Shelby\, IN\, 46377\, United States
CATEGORIES:Events
ATTACH;FMTTYPE=image/png:https://www.lowellpl.lib.in.us/wp-content/uploads/2025/01/family-movie-night-feb.png
END:VEVENT
BEGIN:VEVENT
DTSTART;TZID=America/Chicago:20250719T100000
DTEND;TZID=America/Chicago:20250719T120000
DTSTAMP:20260425T220533
CREATED:20241127T151929Z
LAST-MODIFIED:20250527T174346Z
UID:10002972-1752919200-1752926400@www.lowellpl.lib.in.us
SUMMARY:Poetry (Lowell)
DESCRIPTION:Aspiring poets can join the NW Indiana Poetry Society. Bring  your works or that of your favorite poet. \n 
URL:https://www.lowellpl.lib.in.us/event/poetry-21/2025-07-19/
LOCATION:Lowell Public Library\, 1505 E Commercial Ave\, Lowell\, IN\, 46356-2107\, United States
CATEGORIES:Events
ATTACH;FMTTYPE=image/jpeg:https://www.lowellpl.lib.in.us/wp-content/uploads/2022/01/poetry-pencil.jpg
END:VEVENT
BEGIN:VEVENT
DTSTART;TZID=America/Chicago:20250717T160000
DTEND;TZID=America/Chicago:20250717T170000
DTSTAMP:20260425T220533
CREATED:20250610T194201Z
LAST-MODIFIED:20250610T194201Z
UID:10004624-1752768000-1752771600@www.lowellpl.lib.in.us
SUMMARY:Adult Book Discussion (Shelby)
DESCRIPTION:Read\, then meet to discuss The Berry Pickers\, written by Amanda Peters. \n 
URL:https://www.lowellpl.lib.in.us/event/adult-book-discussion-shelby/
LOCATION:Shelby Branch\, 23323 Shelby Rd\, Shelby\, IN\, 46377\, United States
CATEGORIES:Events
ATTACH;FMTTYPE=image/jpeg:https://www.lowellpl.lib.in.us/wp-content/uploads/2025/06/berry-pickers.jpg
END:VEVENT
BEGIN:VEVENT
DTSTART;TZID=America/Chicago:20250717T133000
DTEND;TZID=America/Chicago:20250717T150000
DTSTAMP:20260425T220533
CREATED:20250409T161944Z
LAST-MODIFIED:20250527T180837Z
UID:10003419-1752759000-1752764400@www.lowellpl.lib.in.us
SUMMARY:Family Movie (Lowell)
DESCRIPTION:Thursday\, July 17th \nFamily movie! \n10:30 A.M \nOR \n1:30 P.M \nThis is a program for children and parents/guardians \nto enjoy together! Bring something cozy to sit on. A snack and bottled water will be provided but feel free to bring your own snack too. \nREGISTRATION IS REQUIRED \nPlease sign up online or call \n#219-696-7704 \nREGISTRATION OPENS Monday\, July 7th \n 
URL:https://www.lowellpl.lib.in.us/event/family-movie-2/
LOCATION:Lowell Public Library\, 1505 E Commercial Ave\, Lowell\, IN\, 46356-2107\, United States
CATEGORIES:Events,Kids
ATTACH;FMTTYPE=image/png:https://www.lowellpl.lib.in.us/wp-content/uploads/2025/04/moana-movie-july-17th.png
END:VEVENT
BEGIN:VEVENT
DTSTART;TZID=America/Chicago:20250717T113000
DTEND;TZID=America/Chicago:20250717T123000
DTSTAMP:20260425T220533
CREATED:20250610T212555Z
LAST-MODIFIED:20250610T212555Z
UID:10004644-1752751800-1752755400@www.lowellpl.lib.in.us
SUMMARY:Sea Creatures (Schneider)
DESCRIPTION:Make paper sea creatures.
URL:https://www.lowellpl.lib.in.us/event/sea-creatures-schneider/
LOCATION:Schneider Branch Library\, 24002 Parrish Ave\, Schneider\, IN\, 46376\, United States
CATEGORIES:Events
ATTACH;FMTTYPE=image/jpeg:https://www.lowellpl.lib.in.us/wp-content/uploads/2025/06/sea-creatures.jpg
END:VEVENT
BEGIN:VEVENT
DTSTART;TZID=America/Chicago:20250717T103000
DTEND;TZID=America/Chicago:20250717T120000
DTSTAMP:20260425T220533
CREATED:20250409T161606Z
LAST-MODIFIED:20250527T180821Z
UID:10003418-1752748200-1752753600@www.lowellpl.lib.in.us
SUMMARY:Family Movie (Lowell)
DESCRIPTION:Thursday\, July 17th \nFamily movie! \n10:30 A.M \nOR \n1:30 P.M \nThis is a program for children and parents/guardians \nto enjoy together! Bring something cozy to sit on. A snack and bottled water will be provided but feel free to bring your own snack too. \nREGISTRATION IS REQUIRED \nPlease sign up online or call \n#219-696-7704 \nREGISTRATION OPENS Monday\, July 7th \n 
URL:https://www.lowellpl.lib.in.us/event/family-movie/
LOCATION:Lowell Public Library\, 1505 E Commercial Ave\, Lowell\, IN\, 46356-2107\, United States
CATEGORIES:Events,Kids
ATTACH;FMTTYPE=image/png:https://www.lowellpl.lib.in.us/wp-content/uploads/2025/04/moana-movie-july-17th.png
END:VEVENT
BEGIN:VEVENT
DTSTART;TZID=America/Chicago:20250717T090000
DTEND;TZID=America/Chicago:20250717T120000
DTSTAMP:20260425T220533
CREATED:20250131T165606Z
LAST-MODIFIED:20251014T142700Z
UID:10003214-1752742800-1752753600@www.lowellpl.lib.in.us
SUMMARY:Knit & Crochet (Lowell)
DESCRIPTION:Meet up to knit and crochet\, and share patterns and tips.   \n 
URL:https://www.lowellpl.lib.in.us/event/knit-crochet-32/2025-07-17/
LOCATION:Lowell Public Library\, 1505 E Commercial Ave\, Lowell\, IN\, 46356-2107\, United States
CATEGORIES:Events
ATTACH;FMTTYPE=image/jpeg:https://www.lowellpl.lib.in.us/wp-content/uploads/2022/01/crochet.jpg
END:VEVENT
BEGIN:VEVENT
DTSTART;TZID=America/Chicago:20250716T163000
DTEND;TZID=America/Chicago:20250716T173000
DTSTAMP:20260425T220533
CREATED:20250617T194303Z
LAST-MODIFIED:20250617T194303Z
UID:10004652-1752683400-1752687000@www.lowellpl.lib.in.us
SUMMARY:YA Games (Schneider)
DESCRIPTION:Play indoor and outdoor games. \n 
URL:https://www.lowellpl.lib.in.us/event/ya-games-schneider/
LOCATION:Schneider Branch Library\, 24002 Parrish Ave\, Schneider\, IN\, 46376\, United States
CATEGORIES:Events
ATTACH;FMTTYPE=image/jpeg:https://www.lowellpl.lib.in.us/wp-content/uploads/2022/05/outdoor-games.jpg
END:VEVENT
BEGIN:VEVENT
DTSTART;TZID=America/Chicago:20250716T160000
DTEND;TZID=America/Chicago:20250716T170000
DTSTAMP:20260425T220533
CREATED:20250610T201805Z
LAST-MODIFIED:20250610T201805Z
UID:10004629-1752681600-1752685200@www.lowellpl.lib.in.us
SUMMARY:YA Movie (Shelby)
DESCRIPTION:Watch a water-themed movie and enjoy gummi worms. \n 
URL:https://www.lowellpl.lib.in.us/event/ya-movie-shelby/
LOCATION:Shelby Branch\, 23323 Shelby Rd\, Shelby\, IN\, 46377\, United States
ATTACH;FMTTYPE=image/jpeg:https://www.lowellpl.lib.in.us/wp-content/uploads/2023/04/movie.jpg
END:VEVENT
END:VCALENDAR