BEGIN:VCALENDAR
VERSION:2.0
PRODID:-//Lowell Public Library - Lowell, IN - ECPv6.7.0//NONSGML v1.0//EN
CALSCALE:GREGORIAN
METHOD:PUBLISH
X-ORIGINAL-URL:https://www.lowellpl.lib.in.us
X-WR-CALDESC:Events for Lowell Public Library - Lowell, IN
REFRESH-INTERVAL;VALUE=DURATION:PT1H
X-Robots-Tag:noindex
X-PUBLISHED-TTL:PT1H
BEGIN:VTIMEZONE
TZID:America/Chicago
BEGIN:DAYLIGHT
TZOFFSETFROM:-0600
TZOFFSETTO:-0500
TZNAME:CDT
DTSTART:20250309T080000
END:DAYLIGHT
BEGIN:STANDARD
TZOFFSETFROM:-0500
TZOFFSETTO:-0600
TZNAME:CST
DTSTART:20251102T070000
END:STANDARD
END:VTIMEZONE
BEGIN:VEVENT
DTSTART;TZID=America/Chicago:20250219T120000
DTEND;TZID=America/Chicago:20250219T150000
DTSTAMP:20260422T161839
CREATED:20241127T151518Z
LAST-MODIFIED:20241127T151518Z
UID:10002955-1739966400-1739977200@www.lowellpl.lib.in.us
SUMMARY:Canasta
DESCRIPTION:Join us for a fun card game\, and we will teach you how to play!
URL:https://www.lowellpl.lib.in.us/event/canasta-14/2025-02-19/
LOCATION:Lowell Public Library\, 1505 E Commercial Ave\, Lowell\, IN\, 46356-2107\, United States
CATEGORIES:Events
ATTACH;FMTTYPE=image/jpeg:https://www.lowellpl.lib.in.us/wp-content/uploads/2023/03/Canasta.jpg
END:VEVENT
BEGIN:VEVENT
DTSTART;TZID=America/Chicago:20250219T163000
DTEND;TZID=America/Chicago:20250219T173000
DTSTAMP:20260422T161839
CREATED:20250116T211041Z
LAST-MODIFIED:20250116T211041Z
UID:10003168-1739982600-1739986200@www.lowellpl.lib.in.us
SUMMARY:YA Game Night
DESCRIPTION:Bring a game or play one of ours.
URL:https://www.lowellpl.lib.in.us/event/ya-game-night-2/2025-02-19/
LOCATION:Schneider Branch Library\, 24002 Parrish Ave\, Schneider\, IN\, 46376\, United States
CATEGORIES:Events
ATTACH;FMTTYPE=image/jpeg:https://www.lowellpl.lib.in.us/wp-content/uploads/2022/02/games.jpg
END:VEVENT
BEGIN:VEVENT
DTSTART;TZID=America/Chicago:20250219T163000
DTEND;TZID=America/Chicago:20250219T173000
DTSTAMP:20260422T161839
CREATED:20250117T143803Z
LAST-MODIFIED:20250117T143803Z
UID:10003175-1739982600-1739986200@www.lowellpl.lib.in.us
SUMMARY:YA Wii Games
DESCRIPTION:Play Wii Games with your friends . Grades 5-12. Call to sign- up (required).
URL:https://www.lowellpl.lib.in.us/event/ya-wii-games-2/
LOCATION:Shelby Branch\, 23323 Shelby Rd\, Shelby\, IN\, 46377\, United States
CATEGORIES:Events
ATTACH;FMTTYPE=image/jpeg:https://www.lowellpl.lib.in.us/wp-content/uploads/2022/12/wii-remotes.jpg
END:VEVENT
BEGIN:VEVENT
DTSTART;TZID=America/Chicago:20250220T090000
DTEND;TZID=America/Chicago:20250220T120000
DTSTAMP:20260422T161839
CREATED:20250103T190808Z
LAST-MODIFIED:20250103T190808Z
UID:10003053-1740042000-1740052800@www.lowellpl.lib.in.us
SUMMARY:Knit and Crochet
DESCRIPTION:Meet up to knit and crochet\, and share patterns and tips.   \n 
URL:https://www.lowellpl.lib.in.us/event/knit-and-crochet-4/2025-02-20/
LOCATION:Lowell Public Library\, 1505 E Commercial Ave\, Lowell\, IN\, 46356-2107\, United States
ATTACH;FMTTYPE=image/jpeg:https://www.lowellpl.lib.in.us/wp-content/uploads/2022/01/crochet.jpg
END:VEVENT
BEGIN:VEVENT
DTSTART;TZID=America/Chicago:20250220T103000
DTEND;TZID=America/Chicago:20250220T110000
DTSTAMP:20260422T161839
CREATED:20250107T012457Z
LAST-MODIFIED:20250107T012457Z
UID:10003070-1740047400-1740049200@www.lowellpl.lib.in.us
SUMMARY:Story time
DESCRIPTION:Join Miss Jackie for a few stories\, group activities or a simple craft! \nSome activities may include painting or getting messy! \nThis is a free program for children ages 5 years of age and younger to enjoy with a parent or guardian. \nStory time will last about 30-40 minutes. \nLimited space. Registration is required \nPlease call or register online. Please only choose a Tuesday\, Wednesday OR Thursday session. Sign up for each session individually. Signing up for one will NOT automatically sign you up for both \n#219-696-7704 \nDates:  \nTuesday\, February 18th and 25th \nWednesday\, February 19th and 26th  \nThursday\, February 20th and 27th \n10:30 A.M \nRegistration opens Monday\, January 20th
URL:https://www.lowellpl.lib.in.us/event/story-time-49-2/
LOCATION:Lowell Public Library\, 1505 E Commercial Ave\, Lowell\, IN\, 46356-2107\, United States
CATEGORIES:Events
ATTACH;FMTTYPE=image/jpeg:https://www.lowellpl.lib.in.us/wp-content/uploads/2024/09/story-time.jpeg
END:VEVENT
BEGIN:VEVENT
DTSTART;TZID=America/Chicago:20250220T160000
DTEND;TZID=America/Chicago:20250220T170000
DTSTAMP:20260422T161839
CREATED:20250116T194207Z
LAST-MODIFIED:20250116T194207Z
UID:10003154-1740067200-1740070800@www.lowellpl.lib.in.us
SUMMARY:Adult Book Discussion
DESCRIPTION:Read\, then meet to discuss Being Henry written by Henry Winkler. \n 
URL:https://www.lowellpl.lib.in.us/event/adult-book-discussion-58/
LOCATION:Shelby Branch\, 23323 Shelby Rd\, Shelby\, IN\, 46377\, United States
CATEGORIES:Events
ATTACH;FMTTYPE=image/jpeg:https://www.lowellpl.lib.in.us/wp-content/uploads/2025/01/being-henry.jpg
END:VEVENT
BEGIN:VEVENT
DTSTART;TZID=America/Chicago:20250220T173000
DTEND;TZID=America/Chicago:20250220T190000
DTSTAMP:20260422T161839
CREATED:20250114T185505Z
LAST-MODIFIED:20250410T173012Z
UID:10003086-1740072600-1740078000@www.lowellpl.lib.in.us
SUMMARY:YA Indoor Snowball Fight
DESCRIPTION:On Thursday\, February 20\, join other YOUNG ADULTS at 5:30 for an INDOOR SNOWBALL FIGHT at the Lowell Public Library! \nThis is a great way to be up and active during these bitter cold months while staying warm and having fun with\nother friends. Water and snacks will be provided. \nNote: No actual snowballs were made or destroyed in the planning of this event.  \nThis is a free event for 5th grade—12th grade students. Please register or call 219-696-7704. \nRegistration opens on January 30. \n 
URL:https://www.lowellpl.lib.in.us/event/ya-indoor-snowball-fight/
LOCATION:IN
CATEGORIES:Events,YA/Teen
ATTACH;FMTTYPE=image/jpeg:https://www.lowellpl.lib.in.us/wp-content/uploads/2025/01/snowballs-snow-Ya0YOlA-600.jpg
END:VEVENT
BEGIN:VEVENT
DTSTART;TZID=America/Chicago:20250221T090000
DTEND;TZID=America/Chicago:20250221T120000
DTSTAMP:20260422T161839
CREATED:20250203T162532Z
LAST-MODIFIED:20250203T162847Z
UID:10003259-1740128400-1740139200@www.lowellpl.lib.in.us
SUMMARY:AARP Tax Prep
DESCRIPTION:Need help filing your taxes? AARP Tax  preparation will be held on Fridays\, Feb 7-April 4.  (no appts Feb 28 or March 28). Call for appointment. NO WALK-INS!
URL:https://www.lowellpl.lib.in.us/event/aarp-tax-prep-3/2025-02-21/
LOCATION:Lowell Public Library\, 1505 E Commercial Ave\, Lowell\, IN\, 46356-2107\, United States
CATEGORIES:Events
ATTACH;FMTTYPE=image/png:https://www.lowellpl.lib.in.us/wp-content/uploads/2021/07/aarp-tax-2.png
END:VEVENT
BEGIN:VEVENT
DTSTART;TZID=America/Chicago:20250222T090000
DTEND;TZID=America/Chicago:20250222T163000
DTSTAMP:20260422T161839
CREATED:20250103T192303Z
LAST-MODIFIED:20250219T165138Z
UID:10003057-1740214800-1740241800@www.lowellpl.lib.in.us
SUMMARY:$3 Bag Book Sale
DESCRIPTION:Get a bag of books for $3.00 a bag\, the last  Saturday of each month. You may bring your brown grocery bag or ask for one at the circulation desk. \n 
URL:https://www.lowellpl.lib.in.us/event/3-bag-book-sale-26/
LOCATION:Lowell Public Library\, 1505 E Commercial Ave\, Lowell\, IN\, 46356-2107\, United States
CATEGORIES:Events
ATTACH;FMTTYPE=image/jpeg:https://www.lowellpl.lib.in.us/wp-content/uploads/2022/04/Friends-book-sale-white.jpg
END:VEVENT
BEGIN:VEVENT
DTSTART;TZID=America/Chicago:20250222T100000
DTEND;TZID=America/Chicago:20250222T110000
DTSTAMP:20260422T161839
CREATED:20250116T193505Z
LAST-MODIFIED:20250116T193505Z
UID:10003152-1740218400-1740222000@www.lowellpl.lib.in.us
SUMMARY:Coffee & Conversation
DESCRIPTION:Stop in for a cup of coffee. Stay for a chat. \n 
URL:https://www.lowellpl.lib.in.us/event/coffee-conversation-23/2025-02-22/
LOCATION:Shelby Branch\, 23323 Shelby Rd\, Shelby\, IN\, 46377\, United States
CATEGORIES:Events
ATTACH;FMTTYPE=image/jpeg:https://www.lowellpl.lib.in.us/wp-content/uploads/2023/07/coffee-and-conversation.jpeg
END:VEVENT
BEGIN:VEVENT
DTSTART;TZID=America/Chicago:20250222T100000
DTEND;TZID=America/Chicago:20250222T160000
DTSTAMP:20260422T161839
CREATED:20250128T174326Z
LAST-MODIFIED:20250128T174326Z
UID:10003179-1740218400-1740240000@www.lowellpl.lib.in.us
SUMMARY:NWIBGA All Ages Game Day
DESCRIPTION:We have board games to share or bring your own.  Everyone is welcome.  Stay all day or just come in for a few hours!  No sign-up required.
URL:https://www.lowellpl.lib.in.us/event/nwibga-all-ages-game-day/
LOCATION:IN
CATEGORIES:Events
ATTACH;FMTTYPE=image/png:https://www.lowellpl.lib.in.us/wp-content/uploads/2023/03/NWIBGA-Logo2.png
END:VEVENT
BEGIN:VEVENT
DTSTART;TZID=America/Chicago:20250224T160000
DTEND;TZID=America/Chicago:20250224T170000
DTSTAMP:20260422T161839
CREATED:20250116T194448Z
LAST-MODIFIED:20250116T194448Z
UID:10003155-1740412800-1740416400@www.lowellpl.lib.in.us
SUMMARY:Senior Bingo
DESCRIPTION:Play for a chance to win a gift card. \n 
URL:https://www.lowellpl.lib.in.us/event/senior-bingo-33/
LOCATION:Shelby Branch\, 23323 Shelby Rd\, Shelby\, IN\, 46377\, United States
CATEGORIES:Events
ATTACH;FMTTYPE=image/gif:https://www.lowellpl.lib.in.us/wp-content/uploads/2022/01/bingo_animated.gif
END:VEVENT
BEGIN:VEVENT
DTSTART;TZID=America/Chicago:20250225T093000
DTEND;TZID=America/Chicago:20250225T123000
DTSTAMP:20260422T161839
CREATED:20250218T175720Z
LAST-MODIFIED:20250218T175720Z
UID:10003090-1740475800-1740486600@www.lowellpl.lib.in.us
SUMMARY:AARP Tax Prep
DESCRIPTION:Need help filing your taxes? AARP Tax  preparation will be held on Tuesdays\, February 4 – April 7.  Call for appointment. NO WALK-INS! \n 
URL:https://www.lowellpl.lib.in.us/event/aarp-tax-prep-2-2/2025-02-25/
LOCATION:Lowell Public Library\, 1505 E Commercial Ave\, Lowell\, IN\, 46356-2107\, United States
CATEGORIES:Events
ATTACH;FMTTYPE=image/png:https://www.lowellpl.lib.in.us/wp-content/uploads/2021/07/aarp-tax-2.png
END:VEVENT
BEGIN:VEVENT
DTSTART;TZID=America/Chicago:20250225T103000
DTEND;TZID=America/Chicago:20250225T110000
DTSTAMP:20260422T161839
CREATED:20250107T012759Z
LAST-MODIFIED:20250224T140905Z
UID:10003071-1740479400-1740481200@www.lowellpl.lib.in.us
SUMMARY:Story Time -Canceled
DESCRIPTION:Join Miss Jackie for a few stories\, group activities or a simple craft! \nSome activities may include painting or getting messy! \nThis is a free program for children ages 5 years of age and younger to enjoy with a parent or guardian. \nStory time will last about 30-40 minutes. \nLimited space. Registration is required \nPlease call or register online. Please only choose a Tuesday\, Wednesday OR Thursday session. Sign up for each session individually. Signing up for one will NOT automatically sign you up for both \n#219-696-7704 \nDates:  \nTuesday\, February 18th and 25th \nWednesday\, February 19th and 26th  \nThursday\, February 20th and 27th \n10:30 A.M \nRegistration opens Monday\, January 20th
URL:https://www.lowellpl.lib.in.us/event/story-time-50/
LOCATION:Lowell Public Library\, 1505 E Commercial Ave\, Lowell\, IN\, 46356-2107\, United States
CATEGORIES:Events
ATTACH;FMTTYPE=image/jpeg:https://www.lowellpl.lib.in.us/wp-content/uploads/2024/09/story-time.jpeg
END:VEVENT
BEGIN:VEVENT
DTSTART;TZID=America/Chicago:20250225T160000
DTEND;TZID=America/Chicago:20250225T170000
DTSTAMP:20260422T161839
CREATED:20250107T010223Z
LAST-MODIFIED:20250224T162806Z
UID:10003064-1740499200-1740502800@www.lowellpl.lib.in.us
SUMMARY:Tales for Tails- canceled
DESCRIPTION:February \nTuesdays  4 P.M—5 P.M \nRead or just visit with a certified therapy dog \nJoin us on Tuesdays as we will be offering the opportunity for kids to read or just visit with therapy dogs. \nThis is a fun program\, where children get a chance to cozy up with a loveable pup and practice their reading skills. Kids can read to one of the therapy dogs for a few minutes or just visit with one. Some of these talented pups have pretty neat talents to share as well! Such a fun way to build confidence\, and increase the kids love of reading! \n*REGISTRATION IS REQUIRED* \nRegistration opens Monday\, January 13th \n 
URL:https://www.lowellpl.lib.in.us/event/tales-for-tails-60/
LOCATION:Lowell Public Library\, 1505 E Commercial Ave\, Lowell\, IN\, 46356-2107\, United States
CATEGORIES:Events
ATTACH;FMTTYPE=image/png:https://www.lowellpl.lib.in.us/wp-content/uploads/2024/09/tales-for-tails.png
END:VEVENT
BEGIN:VEVENT
DTSTART;TZID=America/Chicago:20250225T163000
DTEND;TZID=America/Chicago:20250225T173000
DTSTAMP:20260422T161839
CREATED:20250116T202324Z
LAST-MODIFIED:20250116T202324Z
UID:10003164-1740501000-1740504600@www.lowellpl.lib.in.us
SUMMARY:Kids Independent Crafts
DESCRIPTION:Create something amazing using your imagination and our craft supplies. Call to sign-up (required) \n 
URL:https://www.lowellpl.lib.in.us/event/kids-independent-crafts-19/
LOCATION:Shelby Branch\, 23323 Shelby Rd\, Shelby\, IN\, 46377\, United States
CATEGORIES:Events
ATTACH;FMTTYPE=image/jpeg:https://www.lowellpl.lib.in.us/wp-content/uploads/2022/11/craft-supplies.jpg
END:VEVENT
BEGIN:VEVENT
DTSTART;TZID=America/Chicago:20250225T163000
DTEND;TZID=America/Chicago:20250225T173000
DTSTAMP:20260422T161839
CREATED:20250116T212747Z
LAST-MODIFIED:20250116T212747Z
UID:10003174-1740501000-1740504600@www.lowellpl.lib.in.us
SUMMARY:Kids Sun Catcher
DESCRIPTION:Make a Penguin sun catcher
URL:https://www.lowellpl.lib.in.us/event/kids-sun-catcher/
LOCATION:Schneider Branch Library\, 24002 Parrish Ave\, Schneider\, IN\, 46376\, United States
CATEGORIES:Events
ATTACH;FMTTYPE=image/jpeg:https://www.lowellpl.lib.in.us/wp-content/uploads/2025/01/penguin-sun-catcher.jpg
END:VEVENT
BEGIN:VEVENT
DTSTART;TZID=America/Chicago:20250226T103000
DTEND;TZID=America/Chicago:20250226T110000
DTSTAMP:20260422T161839
CREATED:20250107T013120Z
LAST-MODIFIED:20250225T142414Z
UID:10003072-1740565800-1740567600@www.lowellpl.lib.in.us
SUMMARY:Story Time- canceled
DESCRIPTION:Join Miss Jackie for a few stories\, group activities or a simple craft! \nSome activities may include painting or getting messy! \nThis is a free program for children ages 5 years of age and younger to enjoy with a parent or guardian. \nStory time will last about 30-40 minutes. \nLimited space. Registration is required \nPlease call or register online. Please only choose a Tuesday\, Wednesday OR Thursday session. Sign up for each session individually. Signing up for one will NOT automatically sign you up for both \n#219-696-7704 \nDates:  \nTuesday\, February 18th and 25th \nWednesday\, February 19th and 26th  \nThursday\, February 20th and 27th \n10:30 A.M \nRegistration opens Monday\, January 20th
URL:https://www.lowellpl.lib.in.us/event/36187/
LOCATION:Lowell Public Library\, 1505 E Commercial Ave\, Lowell\, IN\, 46356-2107\, United States
CATEGORIES:Events
ATTACH;FMTTYPE=image/jpeg:https://www.lowellpl.lib.in.us/wp-content/uploads/2024/09/story-time.jpeg
END:VEVENT
BEGIN:VEVENT
DTSTART;TZID=America/Chicago:20250226T163000
DTEND;TZID=America/Chicago:20250226T173000
DTSTAMP:20260422T161839
CREATED:20250116T200354Z
LAST-MODIFIED:20250116T200354Z
UID:10003159-1740587400-1740591000@www.lowellpl.lib.in.us
SUMMARY:YA Game Day
DESCRIPTION:Bring a game or play one of ours. Call the library to sign-up (required).
URL:https://www.lowellpl.lib.in.us/event/ya-game-day-7/
LOCATION:Shelby Branch\, 23323 Shelby Rd\, Shelby\, IN\, 46377\, United States
CATEGORIES:Events
ATTACH;FMTTYPE=image/jpeg:https://www.lowellpl.lib.in.us/wp-content/uploads/2022/02/games.jpg
END:VEVENT
BEGIN:VEVENT
DTSTART;TZID=America/Chicago:20250226T163000
DTEND;TZID=America/Chicago:20250226T173000
DTSTAMP:20260422T161839
CREATED:20250116T211610Z
LAST-MODIFIED:20250116T211610Z
UID:10003170-1740587400-1740591000@www.lowellpl.lib.in.us
SUMMARY:YA Canvas Art
DESCRIPTION:Create a work of art using alcohol inks on canvas. \n  \n 
URL:https://www.lowellpl.lib.in.us/event/ya-canvas-art/
LOCATION:Schneider Branch Library\, 24002 Parrish Ave\, Schneider\, IN\, 46376\, United States
CATEGORIES:Events
ATTACH;FMTTYPE=image/jpeg:https://www.lowellpl.lib.in.us/wp-content/uploads/2022/02/alcohol-art.jpeg
END:VEVENT
BEGIN:VEVENT
DTSTART;TZID=America/Chicago:20250227T090000
DTEND;TZID=America/Chicago:20250227T120000
DTSTAMP:20260422T161839
CREATED:20250103T190808Z
LAST-MODIFIED:20250103T190808Z
UID:10003054-1740646800-1740657600@www.lowellpl.lib.in.us
SUMMARY:Knit and Crochet
DESCRIPTION:Meet up to knit and crochet\, and share patterns and tips.   \n 
URL:https://www.lowellpl.lib.in.us/event/knit-and-crochet-4/2025-02-27/
LOCATION:Lowell Public Library\, 1505 E Commercial Ave\, Lowell\, IN\, 46356-2107\, United States
ATTACH;FMTTYPE=image/jpeg:https://www.lowellpl.lib.in.us/wp-content/uploads/2022/01/crochet.jpg
END:VEVENT
BEGIN:VEVENT
DTSTART;TZID=America/Chicago:20250227T103000
DTEND;TZID=America/Chicago:20250227T110000
DTSTAMP:20260422T161839
CREATED:20250107T013343Z
LAST-MODIFIED:20250226T145211Z
UID:10003073-1740652200-1740654000@www.lowellpl.lib.in.us
SUMMARY:Story Time - Canceled
DESCRIPTION:Storytime has been canceled for Thursday\, February 27. \n#219-696-7704 \nDates:  \nTuesday\, February 18th \nWednesday\, February 19th  \nThursday\, February 20th \n10:30 A.M \nRegistration opens Monday\, January 20th
URL:https://www.lowellpl.lib.in.us/event/story-time-51/
LOCATION:Lowell Public Library\, 1505 E Commercial Ave\, Lowell\, IN\, 46356-2107\, United States
CATEGORIES:Events
ATTACH;FMTTYPE=image/jpeg:https://www.lowellpl.lib.in.us/wp-content/uploads/2024/09/story-time.jpeg
END:VEVENT
BEGIN:VEVENT
DTSTART;TZID=America/Chicago:20250227T180000
DTEND;TZID=America/Chicago:20250227T190000
DTSTAMP:20260422T161839
CREATED:20250116T210140Z
LAST-MODIFIED:20250116T210546Z
UID:10003166-1740679200-1740682800@www.lowellpl.lib.in.us
SUMMARY:Adult Bingo
DESCRIPTION:Play bingo for novelty prizes/ You MUST call the library to register. \n 
URL:https://www.lowellpl.lib.in.us/event/adult-bingo-2/
LOCATION:Schneider Branch Library\, 24002 Parrish Ave\, Schneider\, IN\, 46376\, United States
CATEGORIES:Events
ATTACH;FMTTYPE=image/jpeg:https://www.lowellpl.lib.in.us/wp-content/uploads/2022/01/bunco2.jpg
END:VEVENT
BEGIN:VEVENT
DTSTART;TZID=America/Chicago:20250301T100000
DTEND;TZID=America/Chicago:20250301T110000
DTSTAMP:20260422T161839
CREATED:20250129T182409Z
LAST-MODIFIED:20250129T182409Z
UID:10003180-1740823200-1740826800@www.lowellpl.lib.in.us
SUMMARY:Dr Seuss Birthday party!
DESCRIPTION:Come celebrate Dr. Seuss’ Birthday with us!           \n Saturday\, March 1st   10:00-11:00 AM \nThe Lowell Public Library is partnering with the GFWC Lowell Woman’s club to host a party in celebration of Dr. Seuss’ Birthday! We will make a craft\, have a snack\, read a few of our favorite Dr. Seuss books\, and everyone will go home with a goodie bag! This is a program for children ages birth-4th grade. Pre– school aged children and younger must be accompanied by an adult. \nPre– registration is required.               \n Please sign up online or call #696-7704. \nRegistration opens Monday\, February 10th \n  \n  \n 
URL:https://www.lowellpl.lib.in.us/event/dr-seuss-birthday-party-3/
LOCATION:Lowell Public Library\, 1505 E Commercial Ave\, Lowell\, IN\, 46356-2107\, United States
CATEGORIES:Events
ATTACH;FMTTYPE=image/png:https://www.lowellpl.lib.in.us/wp-content/uploads/2022/02/dr-seuss.png
END:VEVENT
BEGIN:VEVENT
DTSTART;TZID=America/Chicago:20250303T160000
DTEND;TZID=America/Chicago:20250303T170000
DTSTAMP:20260422T161839
CREATED:20250211T152232Z
LAST-MODIFIED:20250211T152232Z
UID:10003270-1741017600-1741021200@www.lowellpl.lib.in.us
SUMMARY:Over 18 Game Day
DESCRIPTION:Get together to play cards or board games. \n 
URL:https://www.lowellpl.lib.in.us/event/over-18-game-day-34/2025-03-03/
LOCATION:Shelby Branch\, 23323 Shelby Rd\, Shelby\, IN\, 46377\, United States
CATEGORIES:Events
ATTACH;FMTTYPE=image/jpeg:https://www.lowellpl.lib.in.us/wp-content/uploads/2024/04/over-18-game-2.jpg
END:VEVENT
BEGIN:VEVENT
DTSTART;TZID=America/Chicago:20250303T173000
DTEND;TZID=America/Chicago:20250303T180000
DTSTAMP:20260422T161839
CREATED:20250129T183109Z
LAST-MODIFIED:20250129T183109Z
UID:10003181-1741023000-1741024800@www.lowellpl.lib.in.us
SUMMARY:Pajama Story time
DESCRIPTION:Monday\, March 3rd and 17th \n530–6 P.M \nWear your pajamas\, bring a stuffy and join miss Jackie for a few stories. We will also enjoy some flannel board activities and maybe a little relaxing yoga or we’ll play some music and get those wiggles out! \nP.J. Story time is for children ages birth–Kindergarten and will last about 30 minutes \nLimited space. \nRegistration is required \nPlease call or register online.  \n#219-696-7704 \nRegistration opens Monday\, February 10th \n 
URL:https://www.lowellpl.lib.in.us/event/pajama-story-time-2/
LOCATION:Lowell Public Library\, 1505 E Commercial Ave\, Lowell\, IN\, 46356-2107\, United States
CATEGORIES:Events
ATTACH;FMTTYPE=image/png:https://www.lowellpl.lib.in.us/wp-content/uploads/2025/01/pajama-story-time-feb.png
END:VEVENT
BEGIN:VEVENT
DTSTART;TZID=America/Chicago:20250303T173000
DTEND;TZID=America/Chicago:20250303T183000
DTSTAMP:20260422T161839
CREATED:20250219T214720Z
LAST-MODIFIED:20250219T214720Z
UID:10003290-1741023000-1741026600@www.lowellpl.lib.in.us
SUMMARY:Garden Club - Pruning
DESCRIPTION:Horticulturist and Landscape Designer Bryan McKay will offer a free talk on proper pruning techniques. Co-hosted by the library and the Lowell Garden Club. All are welcome!  \n 
URL:https://www.lowellpl.lib.in.us/event/garden-club-pruning/
LOCATION:Lowell Public Library\, 1505 E Commercial Ave\, Lowell\, IN\, 46356-2107\, United States
CATEGORIES:Events
ATTACH;FMTTYPE=image/jpeg:https://www.lowellpl.lib.in.us/wp-content/uploads/2025/02/garden-exchange-2.jpg
END:VEVENT
BEGIN:VEVENT
DTSTART;TZID=America/Chicago:20250304T093000
DTEND;TZID=America/Chicago:20250304T123000
DTSTAMP:20260422T161839
CREATED:20250218T175720Z
LAST-MODIFIED:20250218T175720Z
UID:10003091-1741080600-1741091400@www.lowellpl.lib.in.us
SUMMARY:AARP Tax Prep
DESCRIPTION:Need help filing your taxes? AARP Tax  preparation will be held on Tuesdays\, February 4 – April 7.  Call for appointment. NO WALK-INS! \n 
URL:https://www.lowellpl.lib.in.us/event/aarp-tax-prep-2-2/2025-03-04/
LOCATION:Lowell Public Library\, 1505 E Commercial Ave\, Lowell\, IN\, 46356-2107\, United States
CATEGORIES:Events
ATTACH;FMTTYPE=image/png:https://www.lowellpl.lib.in.us/wp-content/uploads/2021/07/aarp-tax-2.png
END:VEVENT
BEGIN:VEVENT
DTSTART;TZID=America/Chicago:20250304T160000
DTEND;TZID=America/Chicago:20250304T170000
DTSTAMP:20260422T161839
CREATED:20250129T183707Z
LAST-MODIFIED:20250129T183707Z
UID:10003182-1741104000-1741107600@www.lowellpl.lib.in.us
SUMMARY:Tales for Tails
DESCRIPTION:Tuesdays  4 P.M—5 P.M \nRead or just visit with a certified therapy dog \nJoin us on Tuesdays as we are offering the opportunity for kids to read or just visit with therapy dogs. \nThis is a fun program\, where children get a chance to cozy up with a loveable pup and practice their reading skills. Kids can read to one of the therapy dogs for a few minutes or just visit with one. Some of these talented pups have pretty neat talents to share as well! Such a fun way to build confidence\, and increase the kids love of reading! \n*REGISTRATION IS REQUIRED* \nRegistration opens Monday\, February 10th \n  \n 
URL:https://www.lowellpl.lib.in.us/event/tales-for-tails-54/
LOCATION:Lowell Public Library\, 1505 E Commercial Ave\, Lowell\, IN\, 46356-2107\, United States
CATEGORIES:Events
ATTACH;FMTTYPE=image/png:https://www.lowellpl.lib.in.us/wp-content/uploads/2024/09/tales-for-tails.png
END:VEVENT
BEGIN:VEVENT
DTSTART;TZID=America/Chicago:20250304T163000
DTEND;TZID=America/Chicago:20250304T173000
DTSTAMP:20260422T161839
CREATED:20250221T144149Z
LAST-MODIFIED:20250221T144149Z
UID:10003294-1741105800-1741109400@www.lowellpl.lib.in.us
SUMMARY:Kids Pot of Gold Craft
DESCRIPTION:Make a pot of gold using a paper plate\, string\, and beads. \n  \n 
URL:https://www.lowellpl.lib.in.us/event/kids-pot-of-gold-craft/
LOCATION:Shelby Branch\, 23323 Shelby Rd\, Shelby\, IN\, 46377\, United States
CATEGORIES:Events
ATTACH;FMTTYPE=image/png:https://www.lowellpl.lib.in.us/wp-content/uploads/2025/01/march-pot-of-gold.png
END:VEVENT
END:VCALENDAR