BEGIN:VCALENDAR
VERSION:2.0
PRODID:-//Lowell Public Library - Lowell, IN - ECPv6.7.0//NONSGML v1.0//EN
CALSCALE:GREGORIAN
METHOD:PUBLISH
X-WR-CALNAME:Lowell Public Library - Lowell, IN
X-ORIGINAL-URL:https://www.lowellpl.lib.in.us
X-WR-CALDESC:Events for Lowell Public Library - Lowell, IN
REFRESH-INTERVAL;VALUE=DURATION:PT1H
X-Robots-Tag:noindex
X-PUBLISHED-TTL:PT1H
BEGIN:VTIMEZONE
TZID:America/Chicago
BEGIN:DAYLIGHT
TZOFFSETFROM:-0600
TZOFFSETTO:-0500
TZNAME:CDT
DTSTART:20250309T080000
END:DAYLIGHT
BEGIN:STANDARD
TZOFFSETFROM:-0500
TZOFFSETTO:-0600
TZNAME:CST
DTSTART:20251102T070000
END:STANDARD
END:VTIMEZONE
BEGIN:VEVENT
DTSTART;TZID=America/Chicago:20250306T163000
DTEND;TZID=America/Chicago:20250306T173000
DTSTAMP:20260422T113927
CREATED:20250221T144546Z
LAST-MODIFIED:20250221T144546Z
UID:10003295-1741278600-1741282200@www.lowellpl.lib.in.us
SUMMARY:PJ Story Time
DESCRIPTION:Wear your PJ’s\, bring a stuffie\, and enjoy some stories with Miss Jackie! \n 
URL:https://www.lowellpl.lib.in.us/event/pj-story-time/
LOCATION:Shelby Branch\, 23323 Shelby Rd\, Shelby\, IN\, 46377\, United States
CATEGORIES:Events
ATTACH;FMTTYPE=image/png:https://www.lowellpl.lib.in.us/wp-content/uploads/2025/01/pajama-story-time-feb.png
END:VEVENT
BEGIN:VEVENT
DTSTART;TZID=America/Chicago:20250306T173000
DTEND;TZID=America/Chicago:20250306T190000
DTSTAMP:20260422T113927
CREATED:20241203T215906Z
LAST-MODIFIED:20241203T221415Z
UID:10002995-1741282200-1741287600@www.lowellpl.lib.in.us
SUMMARY:Simple Stamping
DESCRIPTION:Make two cards with envelopes.  A $7 fee\, payable at class\, will cover all materials. Limit 12. Pre-register .  REGISTRATION OPENS FEB 6. \n 
URL:https://www.lowellpl.lib.in.us/event/simple-stamping-33/
LOCATION:Lowell Public Library\, 1505 E Commercial Ave\, Lowell\, IN\, 46356-2107\, United States
CATEGORIES:Events
ATTACH;FMTTYPE=image/jpeg:https://www.lowellpl.lib.in.us/wp-content/uploads/2023/11/CardMaking.jpg
END:VEVENT
BEGIN:VEVENT
DTSTART;TZID=America/Chicago:20250307T090000
DTEND;TZID=America/Chicago:20250307T120000
DTSTAMP:20260422T113927
CREATED:20250203T162532Z
LAST-MODIFIED:20250203T162847Z
UID:10003261-1741338000-1741348800@www.lowellpl.lib.in.us
SUMMARY:AARP Tax Prep
DESCRIPTION:Need help filing your taxes? AARP Tax  preparation will be held on Fridays\, Feb 7-April 4.  (no appts Feb 28 or March 28). Call for appointment. NO WALK-INS!
URL:https://www.lowellpl.lib.in.us/event/aarp-tax-prep-3/2025-03-07/
LOCATION:Lowell Public Library\, 1505 E Commercial Ave\, Lowell\, IN\, 46356-2107\, United States
CATEGORIES:Events
ATTACH;FMTTYPE=image/png:https://www.lowellpl.lib.in.us/wp-content/uploads/2021/07/aarp-tax-2.png
END:VEVENT
BEGIN:VEVENT
DTSTART;TZID=America/Chicago:20250308T093000
DTEND;TZID=America/Chicago:20250308T110000
DTSTAMP:20260422T113927
CREATED:20250122T170702Z
LAST-MODIFIED:20250410T173020Z
UID:10003177-1741426200-1741431600@www.lowellpl.lib.in.us
SUMMARY:YA GAME DAY MORNING
DESCRIPTION:Back by popular demand\, we’ll be hosting a Young Adult Game Day! This will be held at the Lowell Public Library on SATURDAY\, MARCH 8TH from 9:30-11 AND AGAIN from 2:30-4. \nPlan on GETTING COMPETITIVE with some multiplayer games on a Nintendo Switch AND take a 15-MIN TURN on the VR Oculus 2.0 Headset with a variety of pre-downloaded games. \nSPACE IS LIMITED IN ORDER TO HAVE LONGER TIME USING THE OCULUS. \nThis event is designed for 5th grade – 12th grade students only.  \nDue to limited space\, please do not sign up children younger than 5th grade.  \nPLEASE ONLY SIGN UP FOR 1 PROGRAM\, MORNING OR AFTERNOON. \n  \nPRE-REGISTRATION IS REQUIRED. Register below or call 696-7704. \n 
URL:https://www.lowellpl.lib.in.us/event/ya-game-day-morning/
LOCATION:Lowell Public Library\, 1505 E Commercial Ave\, Lowell\, IN\, 46356-2107\, United States
CATEGORIES:Events,YA/Teen
ATTACH;FMTTYPE=image/jpeg:https://www.lowellpl.lib.in.us/wp-content/uploads/2025/01/video-game-day.jpg
END:VEVENT
BEGIN:VEVENT
DTSTART;TZID=America/Chicago:20250308T100000
DTEND;TZID=America/Chicago:20250308T110000
DTSTAMP:20260422T113927
CREATED:20250211T152631Z
LAST-MODIFIED:20250211T152631Z
UID:10003274-1741428000-1741431600@www.lowellpl.lib.in.us
SUMMARY:Coffee & Conversation
DESCRIPTION:Stop in for a cup of coffee. Stay for a chat. \n 
URL:https://www.lowellpl.lib.in.us/event/coffee-conversation-24/2025-03-08/
LOCATION:Shelby Branch\, 23323 Shelby Rd\, Shelby\, IN\, 46377\, United States
CATEGORIES:Events
ATTACH;FMTTYPE=image/jpeg:https://www.lowellpl.lib.in.us/wp-content/uploads/2023/07/coffee-and-conversation.jpeg
END:VEVENT
BEGIN:VEVENT
DTSTART;TZID=America/Chicago:20250308T143000
DTEND;TZID=America/Chicago:20250308T160000
DTSTAMP:20260422T113927
CREATED:20250122T171012Z
LAST-MODIFIED:20250410T173027Z
UID:10003178-1741444200-1741449600@www.lowellpl.lib.in.us
SUMMARY:YA GAME DAY AFTERNOON
DESCRIPTION:Back by popular demand\, we’ll be hosting a Young Adult Game Day! This will be held at the Lowell Public Library on SATURDAY\, MARCH 8TH from 9:30-11 AND AGAIN from 2:30-4. \nPlan on GETTING COMPETITIVE with some multiplayer games on a Nintendo Switch AND take a 15-MIN TURN on the VR Oculus 2.0 Headset with a variety of pre-downloaded games. \nSPACE IS LIMITED IN ORDER TO HAVE LONGER TIME USING THE OCULUS. \nThis event is designed for 5th grade – 12th grade students only.  \nDue to limited space\, please do not sign up children younger than 5th grade.  \nPLEASE ONLY SIGN UP FOR 1 PROGRAM\, MORNING OR AFTERNOON. \n  \nPRE-REGISTRATION IS REQUIRED. Register below or call 696-7704.
URL:https://www.lowellpl.lib.in.us/event/ya-game-day-afternoon/
LOCATION:Lowell Public Library\, 1505 E Commercial Ave\, Lowell\, IN\, 46356-2107\, United States
CATEGORIES:Events,YA/Teen
ATTACH;FMTTYPE=image/jpeg:https://www.lowellpl.lib.in.us/wp-content/uploads/2025/01/video-game-day.jpg
END:VEVENT
BEGIN:VEVENT
DTSTART;TZID=America/Chicago:20250310T130000
DTEND;TZID=America/Chicago:20250310T150000
DTSTAMP:20260422T113927
CREATED:20250131T202245Z
LAST-MODIFIED:20250131T202245Z
UID:10003254-1741611600-1741618800@www.lowellpl.lib.in.us
SUMMARY:Adult Book Club
DESCRIPTION:Read\, then meet to discuss Yellowface written by R.F. Kuang. \n  \n 
URL:https://www.lowellpl.lib.in.us/event/adult-book-club-13/
LOCATION:Lowell Public Library\, 1505 E Commercial Ave\, Lowell\, IN\, 46356-2107\, United States
CATEGORIES:Events
ATTACH;FMTTYPE=image/jpeg:https://www.lowellpl.lib.in.us/wp-content/uploads/2025/01/Yellowface.jpg
END:VEVENT
BEGIN:VEVENT
DTSTART;TZID=America/Chicago:20250310T160000
DTEND;TZID=America/Chicago:20250310T170000
DTSTAMP:20260422T113927
CREATED:20250211T152232Z
LAST-MODIFIED:20250211T152232Z
UID:10003271-1741622400-1741626000@www.lowellpl.lib.in.us
SUMMARY:Over 18 Game Day
DESCRIPTION:Get together to play cards or board games. \n 
URL:https://www.lowellpl.lib.in.us/event/over-18-game-day-34/2025-03-10/
LOCATION:Shelby Branch\, 23323 Shelby Rd\, Shelby\, IN\, 46377\, United States
CATEGORIES:Events
ATTACH;FMTTYPE=image/jpeg:https://www.lowellpl.lib.in.us/wp-content/uploads/2024/04/over-18-game-2.jpg
END:VEVENT
BEGIN:VEVENT
DTSTART;TZID=America/Chicago:20250311T093000
DTEND;TZID=America/Chicago:20250311T123000
DTSTAMP:20260422T113927
CREATED:20250218T175720Z
LAST-MODIFIED:20250218T175720Z
UID:10003092-1741685400-1741696200@www.lowellpl.lib.in.us
SUMMARY:AARP Tax Prep
DESCRIPTION:Need help filing your taxes? AARP Tax  preparation will be held on Tuesdays\, February 4 – April 7.  Call for appointment. NO WALK-INS! \n 
URL:https://www.lowellpl.lib.in.us/event/aarp-tax-prep-2-2/2025-03-11/
LOCATION:Lowell Public Library\, 1505 E Commercial Ave\, Lowell\, IN\, 46356-2107\, United States
CATEGORIES:Events
ATTACH;FMTTYPE=image/png:https://www.lowellpl.lib.in.us/wp-content/uploads/2021/07/aarp-tax-2.png
END:VEVENT
BEGIN:VEVENT
DTSTART;TZID=America/Chicago:20250311T160000
DTEND;TZID=America/Chicago:20250311T170000
DTSTAMP:20260422T113927
CREATED:20250129T184908Z
LAST-MODIFIED:20250129T184908Z
UID:10003183-1741708800-1741712400@www.lowellpl.lib.in.us
SUMMARY:Tales for Tails
DESCRIPTION:Tuesdays  4 P.M—5 P.M \nRead or just visit with a certified therapy dog \nJoin us on Tuesdays as we are offering the opportunity for kids to read or just visit with therapy dogs. \nThis is a fun program\, where children get a chance to cozy up with a loveable pup and practice their reading skills. Kids can read to one of the therapy dogs for a few minutes or just visit with one. Some of these talented pups have pretty neat talents to share as well! Such a fun way to build confidence\, and increase the kids love of reading! \n 
URL:https://www.lowellpl.lib.in.us/event/tales-for-tails-61/
LOCATION:Lowell Public Library\, 1505 E Commercial Ave\, Lowell\, IN\, 46356-2107\, United States
CATEGORIES:Events
ATTACH;FMTTYPE=image/png:https://www.lowellpl.lib.in.us/wp-content/uploads/2024/09/tales-for-tails.png
END:VEVENT
BEGIN:VEVENT
DTSTART;TZID=America/Chicago:20250311T163000
DTEND;TZID=America/Chicago:20250311T173000
DTSTAMP:20260422T113927
CREATED:20250211T170413Z
LAST-MODIFIED:20250211T170608Z
UID:10003283-1741710600-1741714200@www.lowellpl.lib.in.us
SUMMARY:Kids Game Day
DESCRIPTION:You pick what to play! \nPre-registration is required for YA/Teen programs – call the Shelby Library to sign up! \n 
URL:https://www.lowellpl.lib.in.us/event/kids-game-day-44/
LOCATION:Shelby Branch\, 23323 Shelby Rd\, Shelby\, IN\, 46377\, United States
CATEGORIES:Events
ATTACH;FMTTYPE=image/bmp:https://www.lowellpl.lib.in.us/wp-content/uploads/2022/04/game-day.bmp
END:VEVENT
BEGIN:VEVENT
DTSTART;TZID=America/Chicago:20250311T163000
DTEND;TZID=America/Chicago:20250311T173000
DTSTAMP:20260422T113927
CREATED:20250221T170636Z
LAST-MODIFIED:20250221T170636Z
UID:10003304-1741710600-1741714200@www.lowellpl.lib.in.us
SUMMARY:Kids Pot of Gold Craft
DESCRIPTION:Make a pot of gold using a paper plate\, string\, and beads. \n 
URL:https://www.lowellpl.lib.in.us/event/kids-pot-of-gold-craft-2/
LOCATION:Schneider Branch Library\, 24002 Parrish Ave\, Schneider\, IN\, 46376\, United States
CATEGORIES:Events
ATTACH;FMTTYPE=image/png:https://www.lowellpl.lib.in.us/wp-content/uploads/2025/01/march-pot-of-gold.png
END:VEVENT
BEGIN:VEVENT
DTSTART;TZID=America/Chicago:20250312T100000
DTEND;TZID=America/Chicago:20250312T120000
DTSTAMP:20260422T113927
CREATED:20250110T182138Z
LAST-MODIFIED:20250110T182138Z
UID:10003075-1741773600-1741780800@www.lowellpl.lib.in.us
SUMMARY:Drop-In Tech Help
DESCRIPTION:Do you have a question about how to use your phone\, tablet\, laptop\, or computer? Stop in during our drop-in hours and ask for Amanda—she will work with you to find the answer!   (First come\, first served) \n 
URL:https://www.lowellpl.lib.in.us/event/drop-in-tech-help-6/
LOCATION:Lowell Public Library\, 1505 E Commercial Ave\, Lowell\, IN\, 46356-2107\, United States
ATTACH;FMTTYPE=image/jpeg:https://www.lowellpl.lib.in.us/wp-content/uploads/2024/09/technology-Amanda.jpg
END:VEVENT
BEGIN:VEVENT
DTSTART;TZID=America/Chicago:20250312T163000
DTEND;TZID=America/Chicago:20250312T173000
DTSTAMP:20260422T113927
CREATED:20250211T162346Z
LAST-MODIFIED:20250211T162346Z
UID:10003280-1741797000-1741800600@www.lowellpl.lib.in.us
SUMMARY:YA Movie & Chip Tasting
DESCRIPTION:Watch a fun movie.  Celebrate National Potato Chip Day! \nPre-registration is REQUIRED for YA/Teen programs.  Call the library to sign up!
URL:https://www.lowellpl.lib.in.us/event/ya-movie-chip-tasting/
LOCATION:Shelby Branch\, 23323 Shelby Rd\, Shelby\, IN\, 46377\, United States
ATTACH;FMTTYPE=image/jpeg:https://www.lowellpl.lib.in.us/wp-content/uploads/2025/02/Potato-Chips.jpg
END:VEVENT
BEGIN:VEVENT
DTSTART;TZID=America/Chicago:20250312T163000
DTEND;TZID=America/Chicago:20250312T173000
DTSTAMP:20260422T113927
CREATED:20250221T162445Z
LAST-MODIFIED:20250221T162445Z
UID:10003301-1741797000-1741800600@www.lowellpl.lib.in.us
SUMMARY:YA/Teen Pretzels
DESCRIPTION:Make dipped pretzels for St. Patrick’s Day!
URL:https://www.lowellpl.lib.in.us/event/ya-teen-pretzels/
LOCATION:Schneider Branch Library\, 24002 Parrish Ave\, Schneider\, IN\, 46376\, United States
CATEGORIES:Events
END:VEVENT
BEGIN:VEVENT
DTSTART;TZID=America/Chicago:20250313T090000
DTEND;TZID=America/Chicago:20250313T120000
DTSTAMP:20260422T113927
CREATED:20250131T165606Z
LAST-MODIFIED:20251014T142700Z
UID:10003196-1741856400-1741867200@www.lowellpl.lib.in.us
SUMMARY:Knit & Crochet (Lowell)
DESCRIPTION:Meet up to knit and crochet\, and share patterns and tips.   \n 
URL:https://www.lowellpl.lib.in.us/event/knit-crochet-32/2025-03-13/
LOCATION:Lowell Public Library\, 1505 E Commercial Ave\, Lowell\, IN\, 46356-2107\, United States
CATEGORIES:Events
ATTACH;FMTTYPE=image/jpeg:https://www.lowellpl.lib.in.us/wp-content/uploads/2022/01/crochet.jpg
END:VEVENT
BEGIN:VEVENT
DTSTART;TZID=America/Chicago:20250313T103000
DTEND;TZID=America/Chicago:20250313T110000
DTSTAMP:20260422T113927
CREATED:20250129T185357Z
LAST-MODIFIED:20250129T185357Z
UID:10003184-1741861800-1741863600@www.lowellpl.lib.in.us
SUMMARY:Rainbow Pot of Gold
DESCRIPTION:Thursday\, March 13th \n10:30 OR 3:30 \nPractice those fine motor skills while lacing this colorful rainbow pot of gold! \nThis is a program for children Birth– 4th grade to enjoy with a parent or guardian. \nRegistration is required. \nPlease register online or call #696-7704 \nREGISTRATION OPENS Monday\, February 17th \n  \n 
URL:https://www.lowellpl.lib.in.us/event/rainbow-pot-of-gold/
LOCATION:Lowell Public Library\, 1505 E Commercial Ave\, Lowell\, IN\, 46356-2107\, United States
CATEGORIES:Events
ATTACH;FMTTYPE=image/png:https://www.lowellpl.lib.in.us/wp-content/uploads/2025/01/march-pot-of-gold.png
END:VEVENT
BEGIN:VEVENT
DTSTART;TZID=America/Chicago:20250313T153000
DTEND;TZID=America/Chicago:20250313T160000
DTSTAMP:20260422T113927
CREATED:20250129T185608Z
LAST-MODIFIED:20250129T185608Z
UID:10003185-1741879800-1741881600@www.lowellpl.lib.in.us
SUMMARY:Rainbow Pot of Gold
DESCRIPTION:Thursday\, March 13th \n10:30 OR 3:30 \nPractice those fine motor skills while lacing this colorful rainbow pot of gold! \nThis is a program for children Birth– 4th grade to enjoy with a parent or guardian. \nRegistration is required. \nPlease register online or call #696-7704 \nREGISTRATION OPENS Monday\, February 17th \n 
URL:https://www.lowellpl.lib.in.us/event/rainbow-pot-of-gold-2/
LOCATION:Lowell Public Library\, 1505 E Commercial Ave\, Lowell\, IN\, 46356-2107\, United States
CATEGORIES:Events
ATTACH;FMTTYPE=image/png:https://www.lowellpl.lib.in.us/wp-content/uploads/2025/01/march-pot-of-gold.png
END:VEVENT
BEGIN:VEVENT
DTSTART;TZID=America/Chicago:20250313T163000
DTEND;TZID=America/Chicago:20250313T173000
DTSTAMP:20260422T113927
CREATED:20250221T143436Z
LAST-MODIFIED:20250221T143436Z
UID:10003292-1741883400-1741887000@www.lowellpl.lib.in.us
SUMMARY:YA/Teens with Miss Emily
DESCRIPTION:Paint with salt! Miss Emily will bring everything you need to create an awesome project. \n 
URL:https://www.lowellpl.lib.in.us/event/ya-teens-with-miss-emily/
LOCATION:Shelby Branch\, 23323 Shelby Rd\, Shelby\, IN\, 46377\, United States
CATEGORIES:Events
ATTACH;FMTTYPE=image/jpeg:https://www.lowellpl.lib.in.us/wp-content/uploads/2025/02/salt-painting-scaled.jpg
END:VEVENT
BEGIN:VEVENT
DTSTART;TZID=America/Chicago:20250314T090000
DTEND;TZID=America/Chicago:20250314T120000
DTSTAMP:20260422T113927
CREATED:20250203T162532Z
LAST-MODIFIED:20250203T162847Z
UID:10003262-1741942800-1741953600@www.lowellpl.lib.in.us
SUMMARY:AARP Tax Prep
DESCRIPTION:Need help filing your taxes? AARP Tax  preparation will be held on Fridays\, Feb 7-April 4.  (no appts Feb 28 or March 28). Call for appointment. NO WALK-INS!
URL:https://www.lowellpl.lib.in.us/event/aarp-tax-prep-3/2025-03-14/
LOCATION:Lowell Public Library\, 1505 E Commercial Ave\, Lowell\, IN\, 46356-2107\, United States
CATEGORIES:Events
ATTACH;FMTTYPE=image/png:https://www.lowellpl.lib.in.us/wp-content/uploads/2021/07/aarp-tax-2.png
END:VEVENT
BEGIN:VEVENT
DTSTART;TZID=America/Chicago:20250315T100000
DTEND;TZID=America/Chicago:20250315T120000
DTSTAMP:20260422T113927
CREATED:20241127T151929Z
LAST-MODIFIED:20250527T174346Z
UID:10002968-1742032800-1742040000@www.lowellpl.lib.in.us
SUMMARY:Poetry (Lowell)
DESCRIPTION:Aspiring poets can join the NW Indiana Poetry Society. Bring  your works or that of your favorite poet. \n 
URL:https://www.lowellpl.lib.in.us/event/poetry-21/2025-03-15/
LOCATION:Lowell Public Library\, 1505 E Commercial Ave\, Lowell\, IN\, 46356-2107\, United States
CATEGORIES:Events
ATTACH;FMTTYPE=image/jpeg:https://www.lowellpl.lib.in.us/wp-content/uploads/2022/01/poetry-pencil.jpg
END:VEVENT
BEGIN:VEVENT
DTSTART;TZID=America/Chicago:20250315T100000
DTEND;TZID=America/Chicago:20250315T120000
DTSTAMP:20260422T113927
CREATED:20250131T201649Z
LAST-MODIFIED:20250131T201649Z
UID:10003252-1742032800-1742040000@www.lowellpl.lib.in.us
SUMMARY:Poetry
DESCRIPTION:Aspiring poets can join the NW Indiana Poetry Society. Bring your work or that of your favorite poet. \n  \n 
URL:https://www.lowellpl.lib.in.us/event/poetry-22/
LOCATION:Lowell Public Library\, 1505 E Commercial Ave\, Lowell\, IN\, 46356-2107\, United States
CATEGORIES:Events
ATTACH;FMTTYPE=image/jpeg:https://www.lowellpl.lib.in.us/wp-content/uploads/2022/01/poetry-pencil.jpg
END:VEVENT
BEGIN:VEVENT
DTSTART;TZID=America/Chicago:20250315T100000
DTEND;TZID=America/Chicago:20250315T120000
DTSTAMP:20260422T113927
CREATED:20250211T154224Z
LAST-MODIFIED:20250211T154224Z
UID:10003276-1742032800-1742040000@www.lowellpl.lib.in.us
SUMMARY:Movies for Grown-Ups
DESCRIPTION:Enjoy a morning movie at the library. \n 
URL:https://www.lowellpl.lib.in.us/event/movies-for-grown-ups-15/
LOCATION:Shelby Branch\, 23323 Shelby Rd\, Shelby\, IN\, 46377\, United States
CATEGORIES:Events
ATTACH;FMTTYPE=image/png:https://www.lowellpl.lib.in.us/wp-content/uploads/2025/01/family-movie-night-feb.png
END:VEVENT
BEGIN:VEVENT
DTSTART;TZID=America/Chicago:20250315T100000
DTEND;TZID=America/Chicago:20250315T120000
DTSTAMP:20260422T113927
CREATED:20250221T144758Z
LAST-MODIFIED:20250221T144758Z
UID:10003296-1742032800-1742040000@www.lowellpl.lib.in.us
SUMMARY:Coffee & Conversation
DESCRIPTION:Stop in for a cup of coffee! \n  \n 
URL:https://www.lowellpl.lib.in.us/event/coffee-conversation-25/
LOCATION:Schneider Branch Library\, 24002 Parrish Ave\, Schneider\, IN\, 46376\, United States
CATEGORIES:Events
ATTACH;FMTTYPE=image/jpeg:https://www.lowellpl.lib.in.us/wp-content/uploads/2023/07/coffee-and-conversation.jpeg
END:VEVENT
BEGIN:VEVENT
DTSTART;TZID=America/Chicago:20250317T160000
DTEND;TZID=America/Chicago:20250317T170000
DTSTAMP:20260422T113927
CREATED:20250211T152232Z
LAST-MODIFIED:20250211T152232Z
UID:10003272-1742227200-1742230800@www.lowellpl.lib.in.us
SUMMARY:Over 18 Game Day
DESCRIPTION:Get together to play cards or board games. \n 
URL:https://www.lowellpl.lib.in.us/event/over-18-game-day-34/2025-03-17/
LOCATION:Shelby Branch\, 23323 Shelby Rd\, Shelby\, IN\, 46377\, United States
CATEGORIES:Events
ATTACH;FMTTYPE=image/jpeg:https://www.lowellpl.lib.in.us/wp-content/uploads/2024/04/over-18-game-2.jpg
END:VEVENT
BEGIN:VEVENT
DTSTART;TZID=America/Chicago:20250317T173000
DTEND;TZID=America/Chicago:20250317T180000
DTSTAMP:20260422T113927
CREATED:20250129T204752Z
LAST-MODIFIED:20250129T204752Z
UID:10003186-1742232600-1742234400@www.lowellpl.lib.in.us
SUMMARY:Pajama Story time
DESCRIPTION:Monday\, March 3rd and 17th \n530–6 P.M \nWear your pajamas\, bring a stuffy and join miss Jackie for a few stories. We will also enjoy some flannel board activities and maybe a little relaxing yoga or we’ll play some music and get those wiggles out! \nP.J. Story time is for children ages birth–Kindergarten and will last about 30 minutes \nLimited space. \nRegistration is required \nPlease call or register online.  \n#219-696-7704 \nRegistration opens Monday\, February 10th \n 
URL:https://www.lowellpl.lib.in.us/event/pajama-story-time-3/
LOCATION:Lowell Public Library\, 1505 E Commercial Ave\, Lowell\, IN\, 46356-2107\, United States
CATEGORIES:Events
ATTACH;FMTTYPE=image/png:https://www.lowellpl.lib.in.us/wp-content/uploads/2025/01/pajama-story-time-feb.png
END:VEVENT
BEGIN:VEVENT
DTSTART;TZID=America/Chicago:20250318T093000
DTEND;TZID=America/Chicago:20250318T123000
DTSTAMP:20260422T113927
CREATED:20250218T175720Z
LAST-MODIFIED:20250218T175720Z
UID:10003288-1742290200-1742301000@www.lowellpl.lib.in.us
SUMMARY:AARP Tax Prep
DESCRIPTION:Need help filing your taxes? AARP Tax  preparation will be held on Tuesdays\, February 4 – April 7.  Call for appointment. NO WALK-INS! \n 
URL:https://www.lowellpl.lib.in.us/event/aarp-tax-prep-2-2/2025-03-18/
LOCATION:Lowell Public Library\, 1505 E Commercial Ave\, Lowell\, IN\, 46356-2107\, United States
CATEGORIES:Events
ATTACH;FMTTYPE=image/png:https://www.lowellpl.lib.in.us/wp-content/uploads/2021/07/aarp-tax-2.png
END:VEVENT
BEGIN:VEVENT
DTSTART;TZID=America/Chicago:20250318T100000
DTEND;TZID=America/Chicago:20250318T113000
DTSTAMP:20260422T113927
CREATED:20241127T152223Z
LAST-MODIFIED:20250527T174106Z
UID:10002980-1742292000-1742297400@www.lowellpl.lib.in.us
SUMMARY:Adult Coloring (Lowell)
DESCRIPTION:Join in on the fun!  Coloring helps us de-stress and stimulates brain areas related to motor skills. All supplies will be provided or you may bring your own. \n 
URL:https://www.lowellpl.lib.in.us/event/adult-coloring-35/2025-03-18/
LOCATION:Lowell Public Library\, 1505 E Commercial Ave\, Lowell\, IN\, 46356-2107\, United States
CATEGORIES:Events
ATTACH;FMTTYPE=image/jpeg:https://www.lowellpl.lib.in.us/wp-content/uploads/2022/01/coloring.jpg
END:VEVENT
BEGIN:VEVENT
DTSTART;TZID=America/Chicago:20250318T103000
DTEND;TZID=America/Chicago:20250318T110000
DTSTAMP:20260422T113927
CREATED:20250129T205155Z
LAST-MODIFIED:20250129T205155Z
UID:10003187-1742293800-1742295600@www.lowellpl.lib.in.us
SUMMARY:Story time
DESCRIPTION:Join Miss Jackie for a few stories\, group activities or a simple craft! \nSome activities may include painting or getting messy! \nThis is a free program for children ages 5 years of age and younger to enjoy with a parent or guardian. \nStory time will last about 30-40 minutes. \nLimited space. Registration is required \nPlease call or register online. Sign up for each session individually. Signing up for one will NOT automatically sign you up for both \n#219-696-7704 \nDates:  \nTuesday\, February 18th and 25th \nWednesday\, February 19th and 26th  \nThursday\, February 20th and 27th \n10:30 A.M \nPlease only choose a Tuesday\, Wednesday OR Thursday session \nRegistration opens Monday\, February 17th \n 
URL:https://www.lowellpl.lib.in.us/event/story-time-52/
LOCATION:Lowell Public Library\, 1505 E Commercial Ave\, Lowell\, IN\, 46356-2107\, United States
CATEGORIES:Events
ATTACH;FMTTYPE=image/jpeg:https://www.lowellpl.lib.in.us/wp-content/uploads/2024/09/story-time.jpeg
END:VEVENT
BEGIN:VEVENT
DTSTART;TZID=America/Chicago:20250318T160000
DTEND;TZID=America/Chicago:20250318T170000
DTSTAMP:20260422T113927
CREATED:20250129T205510Z
LAST-MODIFIED:20250129T205510Z
UID:10003188-1742313600-1742317200@www.lowellpl.lib.in.us
SUMMARY:Tales for Tails
DESCRIPTION:Tuesdays  4 P.M—5 P.M \nRead or just visit with a certified therapy dog \nJoin us on Tuesdays as we are offering the opportunity for kids to read or just visit with therapy dogs. \nThis is a fun program\, where children get a chance to cozy up with a loveable pup and practice their reading skills. Kids can read to one of the therapy dogs for a few minutes or just visit with one. Some of these talented pups have pretty neat talents to share as well! Such a fun way to build confidence\, and increase the kids love of reading! \n*REGISTRATION IS REQUIRED* \nRegistration opens Monday\, February 10th \n  \n 
URL:https://www.lowellpl.lib.in.us/event/tales-for-tails-62/
LOCATION:Lowell Public Library\, 1505 E Commercial Ave\, Lowell\, IN\, 46356-2107\, United States
CATEGORIES:Events
ATTACH;FMTTYPE=image/png:https://www.lowellpl.lib.in.us/wp-content/uploads/2024/09/tales-for-tails.png
END:VEVENT
END:VCALENDAR