BEGIN:VCALENDAR
VERSION:2.0
PRODID:-//Lowell Public Library - Lowell, IN - ECPv6.7.0//NONSGML v1.0//EN
CALSCALE:GREGORIAN
METHOD:PUBLISH
X-ORIGINAL-URL:https://www.lowellpl.lib.in.us
X-WR-CALDESC:Events for Lowell Public Library - Lowell, IN
REFRESH-INTERVAL;VALUE=DURATION:PT1H
X-Robots-Tag:noindex
X-PUBLISHED-TTL:PT1H
BEGIN:VTIMEZONE
TZID:America/Chicago
BEGIN:DAYLIGHT
TZOFFSETFROM:-0600
TZOFFSETTO:-0500
TZNAME:CDT
DTSTART:20250309T080000
END:DAYLIGHT
BEGIN:STANDARD
TZOFFSETFROM:-0500
TZOFFSETTO:-0600
TZNAME:CST
DTSTART:20251102T070000
END:STANDARD
END:VTIMEZONE
BEGIN:VEVENT
DTSTART;TZID=America/Chicago:20250319T163000
DTEND;TZID=America/Chicago:20250319T173000
DTSTAMP:20260422T063613
CREATED:20250221T150135Z
LAST-MODIFIED:20250221T150135Z
UID:10003300-1742401800-1742405400@www.lowellpl.lib.in.us
SUMMARY:YA/Teen Game Night
DESCRIPTION:Bring a game or play one of ours.
URL:https://www.lowellpl.lib.in.us/event/ya-teen-game-night-2/2025-03-19/
LOCATION:Schneider Branch Library\, 24002 Parrish Ave\, Schneider\, IN\, 46376\, United States
CATEGORIES:Events
ATTACH;FMTTYPE=image/jpeg:https://www.lowellpl.lib.in.us/wp-content/uploads/2022/02/games.jpg
END:VEVENT
BEGIN:VEVENT
DTSTART;TZID=America/Chicago:20250320T090000
DTEND;TZID=America/Chicago:20250320T120000
DTSTAMP:20260422T063613
CREATED:20250131T165606Z
LAST-MODIFIED:20251014T142700Z
UID:10003197-1742461200-1742472000@www.lowellpl.lib.in.us
SUMMARY:Knit & Crochet (Lowell)
DESCRIPTION:Meet up to knit and crochet\, and share patterns and tips.   \n 
URL:https://www.lowellpl.lib.in.us/event/knit-crochet-32/2025-03-20/
LOCATION:Lowell Public Library\, 1505 E Commercial Ave\, Lowell\, IN\, 46356-2107\, United States
CATEGORIES:Events
ATTACH;FMTTYPE=image/jpeg:https://www.lowellpl.lib.in.us/wp-content/uploads/2022/01/crochet.jpg
END:VEVENT
BEGIN:VEVENT
DTSTART;TZID=America/Chicago:20250320T103000
DTEND;TZID=America/Chicago:20250320T110000
DTSTAMP:20260422T063613
CREATED:20250129T210018Z
LAST-MODIFIED:20250318T201222Z
UID:10003190-1742466600-1742468400@www.lowellpl.lib.in.us
SUMMARY:Story time
DESCRIPTION:Join Miss Jackie for a few stories\, group activities or a simple craft! \nSome activities may include painting or getting messy! \nThis is a free program for children ages 5 years of age and younger to enjoy with a parent or guardian. \nStory time will last about 30-40 minutes. \nLimited space. Registration is required \nPlease call or register online. Sign up for each session individually. Signing up for one will NOT automatically sign you up for both \n#219-696-7704 \nDates:  \nTuesday\, February 18th and 25th \nWednesday\, February 19th and 26th  \nThursday\, February 20th and 27th \n10:30 A.M \nPlease only choose a Tuesday\, Wednesday OR Thursday session \nRegistration opens Monday\, February 17th \n 
URL:https://www.lowellpl.lib.in.us/event/story-time-54/
LOCATION:Lowell Public Library\, 1505 E Commercial Ave\, Lowell\, IN\, 46356-2107\, United States
CATEGORIES:Events
ATTACH;FMTTYPE=image/jpeg:https://www.lowellpl.lib.in.us/wp-content/uploads/2024/09/story-time.jpeg
END:VEVENT
BEGIN:VEVENT
DTSTART;TZID=America/Chicago:20250320T160000
DTEND;TZID=America/Chicago:20250320T170000
DTSTAMP:20260422T063613
CREATED:20250211T155523Z
LAST-MODIFIED:20250211T155523Z
UID:10003277-1742486400-1742490000@www.lowellpl.lib.in.us
SUMMARY:Adult Book Discussion
DESCRIPTION:Read\, then meet to discuss The Housemaid written by Freida McFadden. \n 
URL:https://www.lowellpl.lib.in.us/event/adult-book-discussion-59/
LOCATION:Shelby Branch\, 23323 Shelby Rd\, Shelby\, IN\, 46377\, United States
CATEGORIES:Events
ATTACH;FMTTYPE=image/jpeg:https://www.lowellpl.lib.in.us/wp-content/uploads/2025/02/The-Housemaid.jpg
END:VEVENT
BEGIN:VEVENT
DTSTART;TZID=America/Chicago:20250320T170000
DTEND;TZID=America/Chicago:20250320T190000
DTSTAMP:20260422T063613
CREATED:20250211T165216Z
LAST-MODIFIED:20250410T173034Z
UID:10003282-1742490000-1742497200@www.lowellpl.lib.in.us
SUMMARY:YA Sonic 3 Movie Night
DESCRIPTION:Join other teens and tweens for a YOUNG ADULT MOVIE NIGHT on Thursday\, March 20\, at 5pm. \nCome to the Lowell Public Library to see SONIC THE HEDGEHOG 3. Movie runtime is 1hr53min. \nThis is a free event for anyone 5th grade – 12th grade. Popcorn and water will be served. Wear PJs if you want\, bring a pillow and blankets to get cozy!\nPre-registration is required to help us plan for the snacks and space.  Use the QR code to register online or call 696-7704. \n 
URL:https://www.lowellpl.lib.in.us/event/ya-sonic-3-movie-night/
LOCATION:Lowell Public Library\, 1505 E Commercial Ave\, Lowell\, IN\, 46356-2107\, United States
CATEGORIES:Events,YA/Teen
ATTACH;FMTTYPE=image/jpeg:https://www.lowellpl.lib.in.us/wp-content/uploads/2025/02/sonc-3.jpg
END:VEVENT
BEGIN:VEVENT
DTSTART;TZID=America/Chicago:20250321T090000
DTEND;TZID=America/Chicago:20250321T120000
DTSTAMP:20260422T063613
CREATED:20250203T162532Z
LAST-MODIFIED:20250203T162847Z
UID:10003263-1742547600-1742558400@www.lowellpl.lib.in.us
SUMMARY:AARP Tax Prep
DESCRIPTION:Need help filing your taxes? AARP Tax  preparation will be held on Fridays\, Feb 7-April 4.  (no appts Feb 28 or March 28). Call for appointment. NO WALK-INS!
URL:https://www.lowellpl.lib.in.us/event/aarp-tax-prep-3/2025-03-21/
LOCATION:Lowell Public Library\, 1505 E Commercial Ave\, Lowell\, IN\, 46356-2107\, United States
CATEGORIES:Events
ATTACH;FMTTYPE=image/png:https://www.lowellpl.lib.in.us/wp-content/uploads/2021/07/aarp-tax-2.png
END:VEVENT
BEGIN:VEVENT
DTSTART;TZID=America/Chicago:20250322T100000
DTEND;TZID=America/Chicago:20250322T110000
DTSTAMP:20260422T063613
CREATED:20250211T152631Z
LAST-MODIFIED:20250211T152631Z
UID:10003275-1742637600-1742641200@www.lowellpl.lib.in.us
SUMMARY:Coffee & Conversation
DESCRIPTION:Stop in for a cup of coffee. Stay for a chat. \n 
URL:https://www.lowellpl.lib.in.us/event/coffee-conversation-24/2025-03-22/
LOCATION:Shelby Branch\, 23323 Shelby Rd\, Shelby\, IN\, 46377\, United States
CATEGORIES:Events
ATTACH;FMTTYPE=image/jpeg:https://www.lowellpl.lib.in.us/wp-content/uploads/2023/07/coffee-and-conversation.jpeg
END:VEVENT
BEGIN:VEVENT
DTSTART;TZID=America/Chicago:20250322T110000
DTEND;TZID=America/Chicago:20250322T130000
DTSTAMP:20260422T063613
CREATED:20250221T145258Z
LAST-MODIFIED:20250221T145258Z
UID:10003297-1742641200-1742648400@www.lowellpl.lib.in.us
SUMMARY:Adult & All Ages Craft
DESCRIPTION:Come in and work on a family-friendly craft. You MUST call the library to register. \n 
URL:https://www.lowellpl.lib.in.us/event/adult-all-ages-craft/
LOCATION:Schneider Branch Library\, 24002 Parrish Ave\, Schneider\, IN\, 46376\, United States
CATEGORIES:Events
ATTACH;FMTTYPE=image/jpeg:https://www.lowellpl.lib.in.us/wp-content/uploads/2024/02/crafting-e1708032388238.jpg
END:VEVENT
BEGIN:VEVENT
DTSTART;TZID=America/Chicago:20250324T160000
DTEND;TZID=America/Chicago:20250324T170000
DTSTAMP:20260422T063613
CREATED:20250211T161206Z
LAST-MODIFIED:20250211T161206Z
UID:10003278-1742832000-1742835600@www.lowellpl.lib.in.us
SUMMARY:Senior Bingo
DESCRIPTION:Play for a chance to win a gift card. \n 
URL:https://www.lowellpl.lib.in.us/event/senior-bingo-34/
LOCATION:Shelby Branch\, 23323 Shelby Rd\, Shelby\, IN\, 46377\, United States
CATEGORIES:Events
ATTACH;FMTTYPE=image/gif:https://www.lowellpl.lib.in.us/wp-content/uploads/2022/01/bingo_animated.gif
END:VEVENT
BEGIN:VEVENT
DTSTART;TZID=America/Chicago:20250324T180000
DTEND;TZID=America/Chicago:20250324T190000
DTSTAMP:20260422T063613
CREATED:20250221T145916Z
LAST-MODIFIED:20250221T145916Z
UID:10003298-1742839200-1742842800@www.lowellpl.lib.in.us
SUMMARY:Adult Ceramics
DESCRIPTION:Paint Peep-style bunnies.  Call the Schneider library to register. \n 
URL:https://www.lowellpl.lib.in.us/event/adult-ceramics-10/
LOCATION:Schneider Branch Library\, 24002 Parrish Ave\, Schneider\, IN\, 46376\, United States
CATEGORIES:Events
ATTACH;FMTTYPE=image/jpeg:https://www.lowellpl.lib.in.us/wp-content/uploads/2025/02/ceramic-PEEPS.jpg
END:VEVENT
BEGIN:VEVENT
DTSTART;TZID=America/Chicago:20250325T093000
DTEND;TZID=America/Chicago:20250325T123000
DTSTAMP:20260422T063613
CREATED:20250218T175720Z
LAST-MODIFIED:20250218T175720Z
UID:10003093-1742895000-1742905800@www.lowellpl.lib.in.us
SUMMARY:AARP Tax Prep
DESCRIPTION:Need help filing your taxes? AARP Tax  preparation will be held on Tuesdays\, February 4 – April 7.  Call for appointment. NO WALK-INS! \n 
URL:https://www.lowellpl.lib.in.us/event/aarp-tax-prep-2-2/2025-03-25/
LOCATION:Lowell Public Library\, 1505 E Commercial Ave\, Lowell\, IN\, 46356-2107\, United States
CATEGORIES:Events
ATTACH;FMTTYPE=image/png:https://www.lowellpl.lib.in.us/wp-content/uploads/2021/07/aarp-tax-2.png
END:VEVENT
BEGIN:VEVENT
DTSTART;TZID=America/Chicago:20250325T103000
DTEND;TZID=America/Chicago:20250325T110000
DTSTAMP:20260422T063613
CREATED:20250129T210230Z
LAST-MODIFIED:20250129T210230Z
UID:10003191-1742898600-1742900400@www.lowellpl.lib.in.us
SUMMARY:Story time
DESCRIPTION:Join Miss Jackie for a few stories\, group activities or a simple craft! \nSome activities may include painting or getting messy! \nThis is a free program for children ages 5 years of age and younger to enjoy with a parent or guardian. \nStory time will last about 30-40 minutes. \nLimited space. Registration is required \nPlease call or register online. Sign up for each session individually. Signing up for one will NOT automatically sign you up for both \n#219-696-7704 \nDates:  \nTuesday\, February 18th and 25th \nWednesday\, February 19th and 26th  \nThursday\, February 20th and 27th \n10:30 A.M \nPlease only choose a Tuesday\, Wednesday OR Thursday session \nRegistration opens Monday\, February 17th \n 
URL:https://www.lowellpl.lib.in.us/event/story-time-55/
LOCATION:Lowell Public Library\, 1505 E Commercial Ave\, Lowell\, IN\, 46356-2107\, United States
CATEGORIES:Events
ATTACH;FMTTYPE=image/jpeg:https://www.lowellpl.lib.in.us/wp-content/uploads/2024/09/story-time.jpeg
END:VEVENT
BEGIN:VEVENT
DTSTART;TZID=America/Chicago:20250325T160000
DTEND;TZID=America/Chicago:20250325T170000
DTSTAMP:20260422T063613
CREATED:20250129T212246Z
LAST-MODIFIED:20250129T212246Z
UID:10003193-1742918400-1742922000@www.lowellpl.lib.in.us
SUMMARY:Tales for Tails
DESCRIPTION:Tuesdays  4 P.M—5 P.M \nRead or just visit with a certified therapy dog \nJoin us on Tuesdays as we are offering the opportunity for kids to read or just visit with therapy dogs. \nThis is a fun program\, where children get a chance to cozy up with a loveable pup and practice their reading skills. Kids can read to one of the therapy dogs for a few minutes or just visit with one. Some of these talented pups have pretty neat talents to share as well! Such a fun way to build confidence\, and increase the kids love of reading! \n*REGISTRATION IS REQUIRED* \nRegistration opens Monday\, February 10th \n  \n 
URL:https://www.lowellpl.lib.in.us/event/tales-for-tails-64/
LOCATION:Lowell Public Library\, 1505 E Commercial Ave\, Lowell\, IN\, 46356-2107\, United States
CATEGORIES:Events
ATTACH;FMTTYPE=image/png:https://www.lowellpl.lib.in.us/wp-content/uploads/2024/09/tales-for-tails.png
END:VEVENT
BEGIN:VEVENT
DTSTART;TZID=America/Chicago:20250325T163000
DTEND;TZID=America/Chicago:20250325T173000
DTSTAMP:20260422T063613
CREATED:20250211T172124Z
LAST-MODIFIED:20250211T172124Z
UID:10003285-1742920200-1742923800@www.lowellpl.lib.in.us
SUMMARY:Kids Independent Crafts
DESCRIPTION:Create something amazing using your imagination and our craft supplies. \nPre-registration is required for YA/Teen programs – call the Shelby Library to sign-up! \n 
URL:https://www.lowellpl.lib.in.us/event/kids-independent-crafts-20/
LOCATION:Shelby Branch\, 23323 Shelby Rd\, Shelby\, IN\, 46377\, United States
CATEGORIES:Events
ATTACH;FMTTYPE=image/jpeg:https://www.lowellpl.lib.in.us/wp-content/uploads/2022/11/craft-supplies.jpg
END:VEVENT
BEGIN:VEVENT
DTSTART;TZID=America/Chicago:20250325T163000
DTEND;TZID=America/Chicago:20250325T173000
DTSTAMP:20260422T063613
CREATED:20250221T172127Z
LAST-MODIFIED:20250221T172127Z
UID:10003306-1742920200-1742923800@www.lowellpl.lib.in.us
SUMMARY:Kids Craft
DESCRIPTION:Have fun sponge painting!
URL:https://www.lowellpl.lib.in.us/event/kids-craft-76/
LOCATION:Schneider Branch Library\, 24002 Parrish Ave\, Schneider\, IN\, 46376\, United States
CATEGORIES:Events
ATTACH;FMTTYPE=image/jpeg:https://www.lowellpl.lib.in.us/wp-content/uploads/2024/01/Heart-sponge.jpg
END:VEVENT
BEGIN:VEVENT
DTSTART;TZID=America/Chicago:20250326T103000
DTEND;TZID=America/Chicago:20250326T110000
DTSTAMP:20260422T063613
CREATED:20250129T211836Z
LAST-MODIFIED:20250129T211956Z
UID:10003192-1742985000-1742986800@www.lowellpl.lib.in.us
SUMMARY:Story time
DESCRIPTION:Join Miss Jackie for a few stories\, group activities or a simple craft! \nSome activities may include painting or getting messy! \nThis is a free program for children ages 5 years of age and younger to enjoy with a parent or guardian. \nStory time will last about 30-40 minutes. \nLimited space. Registration is required \nPlease call or register online. Sign up for each session individually. Signing up for one will NOT automatically sign you up for both \n#219-696-7704 \nDates:  \nTuesday\, February 18th and 25th \nWednesday\, February 19th and 26th  \nThursday\, February 20th and 27th \n10:30 A.M \nPlease only choose a Tuesday\, Wednesday OR Thursday session \nRegistration opens Monday\, February 17th \n  \n 
URL:https://www.lowellpl.lib.in.us/event/tales-for-tails-63/
LOCATION:Lowell Public Library\, 1505 E Commercial Ave\, Lowell\, IN\, 46356-2107\, United States
CATEGORIES:Events
ATTACH;FMTTYPE=image/jpeg:https://www.lowellpl.lib.in.us/wp-content/uploads/2024/09/story-time.jpeg
END:VEVENT
BEGIN:VEVENT
DTSTART;TZID=America/Chicago:20250326T163000
DTEND;TZID=America/Chicago:20250326T173000
DTSTAMP:20260422T063613
CREATED:20250211T163051Z
LAST-MODIFIED:20250211T163051Z
UID:10003281-1743006600-1743010200@www.lowellpl.lib.in.us
SUMMARY:YA/Teen Independent Crafts
DESCRIPTION:Design your artwork using miscellaneous craft supplies.  \nPre-registration is REQUIRED for YA/Teen programs.  Call the Shelby library to sign up!
URL:https://www.lowellpl.lib.in.us/event/ya-teen-independent-crafts/
LOCATION:Shelby Branch\, 23323 Shelby Rd\, Shelby\, IN\, 46377\, United States
CATEGORIES:Events
ATTACH;FMTTYPE=image/jpeg:https://www.lowellpl.lib.in.us/wp-content/uploads/2022/01/crafts-scaled.jpg
END:VEVENT
BEGIN:VEVENT
DTSTART;TZID=America/Chicago:20250326T163000
DTEND;TZID=America/Chicago:20250326T173000
DTSTAMP:20260422T063613
CREATED:20250221T165116Z
LAST-MODIFIED:20250221T165116Z
UID:10003302-1743006600-1743010200@www.lowellpl.lib.in.us
SUMMARY:YA/Teen Craft
DESCRIPTION:Make a wire butterfly
URL:https://www.lowellpl.lib.in.us/event/ya-teen-craft-8/
LOCATION:Schneider Branch Library\, 24002 Parrish Ave\, Schneider\, IN\, 46376\, United States
CATEGORIES:Events
ATTACH;FMTTYPE=image/jpeg:https://www.lowellpl.lib.in.us/wp-content/uploads/2022/01/crafts-scaled.jpg
END:VEVENT
BEGIN:VEVENT
DTSTART;TZID=America/Chicago:20250327T090000
DTEND;TZID=America/Chicago:20250327T120000
DTSTAMP:20260422T063613
CREATED:20250131T165606Z
LAST-MODIFIED:20251014T142700Z
UID:10003198-1743066000-1743076800@www.lowellpl.lib.in.us
SUMMARY:Knit & Crochet (Lowell)
DESCRIPTION:Meet up to knit and crochet\, and share patterns and tips.   \n 
URL:https://www.lowellpl.lib.in.us/event/knit-crochet-32/2025-03-27/
LOCATION:Lowell Public Library\, 1505 E Commercial Ave\, Lowell\, IN\, 46356-2107\, United States
CATEGORIES:Events
ATTACH;FMTTYPE=image/jpeg:https://www.lowellpl.lib.in.us/wp-content/uploads/2022/01/crochet.jpg
END:VEVENT
BEGIN:VEVENT
DTSTART;TZID=America/Chicago:20250327T103000
DTEND;TZID=America/Chicago:20250327T110000
DTSTAMP:20260422T063613
CREATED:20250129T212617Z
LAST-MODIFIED:20250129T212617Z
UID:10003194-1743071400-1743073200@www.lowellpl.lib.in.us
SUMMARY:Story time
DESCRIPTION:Join Miss Jackie for a few stories\, group activities or a simple craft! \nSome activities may include painting or getting messy! \nThis is a free program for children ages 5 years of age and younger to enjoy with a parent or guardian. \nStory time will last about 30-40 minutes. \nLimited space. Registration is required \nPlease call or register online. Sign up for each session individually. Signing up for one will NOT automatically sign you up for both \n#219-696-7704 \nDates:  \nTuesday\, February 18th and 25th \nWednesday\, February 19th and 26th  \nThursday\, February 20th and 27th \n10:30 A.M \nPlease only choose a Tuesday\, Wednesday OR Thursday session \nRegistration opens Monday\, February 17th \n 
URL:https://www.lowellpl.lib.in.us/event/story-time-56/
LOCATION:Lowell Public Library\, 1505 E Commercial Ave\, Lowell\, IN\, 46356-2107\, United States
CATEGORIES:Events
ATTACH;FMTTYPE=image/jpeg:https://www.lowellpl.lib.in.us/wp-content/uploads/2024/09/story-time.jpeg
END:VEVENT
BEGIN:VEVENT
DTSTART;TZID=America/Chicago:20250329T090000
DTEND;TZID=America/Chicago:20250329T163000
DTSTAMP:20260422T063613
CREATED:20250131T201931Z
LAST-MODIFIED:20250131T201931Z
UID:10003253-1743238800-1743265800@www.lowellpl.lib.in.us
SUMMARY:$3 Bag Book Sale
DESCRIPTION:Get a bag of books for $3.00 a bag\, the last Saturday of each month. You may bring your brown grocery bag or ask for one at the circulation desk. \n  \n 
URL:https://www.lowellpl.lib.in.us/event/3-bag-book-sale-27/
LOCATION:Lowell Public Library\, 1505 E Commercial Ave\, Lowell\, IN\, 46356-2107\, United States
CATEGORIES:Events
ATTACH;FMTTYPE=image/jpeg:https://www.lowellpl.lib.in.us/wp-content/uploads/2022/04/Friends-book-sale-white.jpg
END:VEVENT
BEGIN:VEVENT
DTSTART;TZID=America/Chicago:20250331T160000
DTEND;TZID=America/Chicago:20250331T170000
DTSTAMP:20260422T063613
CREATED:20250211T152232Z
LAST-MODIFIED:20250211T152232Z
UID:10003273-1743436800-1743440400@www.lowellpl.lib.in.us
SUMMARY:Over 18 Game Day
DESCRIPTION:Get together to play cards or board games. \n 
URL:https://www.lowellpl.lib.in.us/event/over-18-game-day-34/2025-03-31/
LOCATION:Shelby Branch\, 23323 Shelby Rd\, Shelby\, IN\, 46377\, United States
CATEGORIES:Events
ATTACH;FMTTYPE=image/jpeg:https://www.lowellpl.lib.in.us/wp-content/uploads/2024/04/over-18-game-2.jpg
END:VEVENT
BEGIN:VEVENT
DTSTART;TZID=America/Chicago:20250331T160000
DTEND;TZID=America/Chicago:20250331T180000
DTSTAMP:20260422T063613
CREATED:20250218T160104Z
LAST-MODIFIED:20250227T171603Z
UID:10003287-1743436800-1743444000@www.lowellpl.lib.in.us
SUMMARY:Family Movie Night
DESCRIPTION:Wear your pajamas and bring something cozy to sit on. \nA snack and bottled water will be provided. Feel free to bring your own as well. \n**Pre-registration is required** \nRegistration opens Monday\, March 3rd \n 
URL:https://www.lowellpl.lib.in.us/event/family-movie-night-13/
LOCATION:Lowell Public Library\, 1505 E Commercial Ave\, Lowell\, IN\, 46356-2107\, United States
CATEGORIES:Events
ATTACH;FMTTYPE=image/png:https://www.lowellpl.lib.in.us/wp-content/uploads/2025/01/wild-robot.png
END:VEVENT
BEGIN:VEVENT
DTSTART;TZID=America/Chicago:20250401T093000
DTEND;TZID=America/Chicago:20250401T123000
DTSTAMP:20260422T063613
CREATED:20250218T175720Z
LAST-MODIFIED:20250218T175720Z
UID:10003094-1743499800-1743510600@www.lowellpl.lib.in.us
SUMMARY:AARP Tax Prep
DESCRIPTION:Need help filing your taxes? AARP Tax  preparation will be held on Tuesdays\, February 4 – April 7.  Call for appointment. NO WALK-INS! \n 
URL:https://www.lowellpl.lib.in.us/event/aarp-tax-prep-2-2/2025-04-01/
LOCATION:Lowell Public Library\, 1505 E Commercial Ave\, Lowell\, IN\, 46356-2107\, United States
CATEGORIES:Events
ATTACH;FMTTYPE=image/png:https://www.lowellpl.lib.in.us/wp-content/uploads/2021/07/aarp-tax-2.png
END:VEVENT
BEGIN:VEVENT
DTSTART;TZID=America/Chicago:20250401T160000
DTEND;TZID=America/Chicago:20250401T170000
DTSTAMP:20260422T063613
CREATED:20250312T144611Z
LAST-MODIFIED:20250312T144611Z
UID:10003348-1743523200-1743526800@www.lowellpl.lib.in.us
SUMMARY:Tales for Tails
DESCRIPTION:Tuesdays  4 P.M—5 P.M \nRead or just visit with a certified therapy dog \nJoin us on Tuesdays as we will be offering the opportunity for kids to read or just visit with therapy dogs. \nThis is a fun program\, where children get a chance to cozy up with a loveable pup and practice their reading skills. Kids can read to one of the therapy dogs for a few minutes or just visit with one. Some of these talented pups have pretty neat talents to share as well! Such a fun way to build confidence\, and increase the kids love of reading! \n*REGISTRATION IS REQUIRED* \nRegistration opens Monday\, March 17th \n  \n 
URL:https://www.lowellpl.lib.in.us/event/tales-for-tails-65/
LOCATION:Lowell Public Library\, 1505 E Commercial Ave\, Lowell\, IN\, 46356-2107\, United States
CATEGORIES:Events
ATTACH;FMTTYPE=image/png:https://www.lowellpl.lib.in.us/wp-content/uploads/2024/09/tales-for-tails.png
END:VEVENT
BEGIN:VEVENT
DTSTART;TZID=America/Chicago:20250401T163000
DTEND;TZID=America/Chicago:20250401T173000
DTSTAMP:20260422T063613
CREATED:20250311T151139Z
LAST-MODIFIED:20250311T151452Z
UID:10003342-1743525000-1743528600@www.lowellpl.lib.in.us
SUMMARY:Kids Craft
DESCRIPTION:Make a “dancing” bunny.
URL:https://www.lowellpl.lib.in.us/event/kids-craft-77/
LOCATION:Schneider Branch Library\, 24002 Parrish Ave\, Schneider\, IN\, 46376\, United States
CATEGORIES:Events
ATTACH;FMTTYPE=image/jpeg:https://www.lowellpl.lib.in.us/wp-content/uploads/2025/03/shy-bunny.jpg
END:VEVENT
BEGIN:VEVENT
DTSTART;TZID=America/Chicago:20250401T163000
DTEND;TZID=America/Chicago:20250401T173000
DTSTAMP:20260422T063613
CREATED:20250313T181149Z
LAST-MODIFIED:20250313T181149Z
UID:10003377-1743525000-1743528600@www.lowellpl.lib.in.us
SUMMARY:Kids Craft
DESCRIPTION:Make an Earth Day collage.  Pre-registration is required.
URL:https://www.lowellpl.lib.in.us/event/kids-craft-78/
LOCATION:Shelby Branch\, 23323 Shelby Rd\, Shelby\, IN\, 46377\, United States
CATEGORIES:Events
ATTACH;FMTTYPE=image/png:https://www.lowellpl.lib.in.us/wp-content/uploads/2025/03/earth-day-collage.png
END:VEVENT
BEGIN:VEVENT
DTSTART;TZID=America/Chicago:20250402T163000
DTEND;TZID=America/Chicago:20250402T173000
DTSTAMP:20260422T063613
CREATED:20250310T202936Z
LAST-MODIFIED:20250310T202936Z
UID:10003337-1743611400-1743615000@www.lowellpl.lib.in.us
SUMMARY:YA/Teen Craft
DESCRIPTION:Create a flower pot bunny!
URL:https://www.lowellpl.lib.in.us/event/ya-teen-craft-9/
LOCATION:Schneider Branch Library\, 24002 Parrish Ave\, Schneider\, IN\, 46376\, United States
CATEGORIES:Events
ATTACH;FMTTYPE=image/jpeg:https://www.lowellpl.lib.in.us/wp-content/uploads/2025/03/flower-pot-bunny.jpg
END:VEVENT
BEGIN:VEVENT
DTSTART;TZID=America/Chicago:20250402T163000
DTEND;TZID=America/Chicago:20250402T173000
DTSTAMP:20260422T063613
CREATED:20250313T134501Z
LAST-MODIFIED:20250313T134501Z
UID:10003368-1743611400-1743615000@www.lowellpl.lib.in.us
SUMMARY:YA Independent Craft
DESCRIPTION:Be creative using our supplies . Registration is required.
URL:https://www.lowellpl.lib.in.us/event/ya-independent-craft-3/
LOCATION:Shelby Branch\, 23323 Shelby Rd\, Shelby\, IN\, 46377\, United States
CATEGORIES:Events
ATTACH;FMTTYPE=image/jpeg:https://www.lowellpl.lib.in.us/wp-content/uploads/2022/01/crafts-scaled.jpg
END:VEVENT
BEGIN:VEVENT
DTSTART;TZID=America/Chicago:20250402T173000
DTEND;TZID=America/Chicago:20250402T190000
DTSTAMP:20260422T063613
CREATED:20250307T210310Z
LAST-MODIFIED:20250307T210310Z
UID:10003331-1743615000-1743620400@www.lowellpl.lib.in.us
SUMMARY:Friends of the Library Outing
DESCRIPTION:Meet us at Great Oaks in Cedar Lake for our spring meeting and social outing. Help plan upcoming Friends events\, fundraisers\, and projects that support and improve the library. New friends welcome! \nGreat Oaks Banquet Hall – 13109 Wicker Ave\, Cedar Lake\, IN 46303 \n 
URL:https://www.lowellpl.lib.in.us/event/friends-of-the-library-outing/
LOCATION:IN
CATEGORIES:Events
ATTACH;FMTTYPE=image/jpeg:https://www.lowellpl.lib.in.us/wp-content/uploads/2023/08/friends-of-the-library.jpg
END:VEVENT
END:VCALENDAR