BEGIN:VCALENDAR
VERSION:2.0
PRODID:-//Lowell Public Library - Lowell, IN - ECPv6.7.0//NONSGML v1.0//EN
CALSCALE:GREGORIAN
METHOD:PUBLISH
X-ORIGINAL-URL:https://www.lowellpl.lib.in.us
X-WR-CALDESC:Events for Lowell Public Library - Lowell, IN
REFRESH-INTERVAL;VALUE=DURATION:PT1H
X-Robots-Tag:noindex
X-PUBLISHED-TTL:PT1H
BEGIN:VTIMEZONE
TZID:America/Chicago
BEGIN:DAYLIGHT
TZOFFSETFROM:-0600
TZOFFSETTO:-0500
TZNAME:CDT
DTSTART:20250309T080000
END:DAYLIGHT
BEGIN:STANDARD
TZOFFSETFROM:-0500
TZOFFSETTO:-0600
TZNAME:CST
DTSTART:20251102T070000
END:STANDARD
END:VTIMEZONE
BEGIN:VEVENT
DTSTART;TZID=America/Chicago:20250410T103000
DTEND;TZID=America/Chicago:20250410T110000
DTSTAMP:20260422T003130
CREATED:20250312T145746Z
LAST-MODIFIED:20250409T145319Z
UID:10003351-1744281000-1744282800@www.lowellpl.lib.in.us
SUMMARY:Book walk
DESCRIPTION:Thursday\, April 10th \n10:30 A.M.  \nOR \n3:30 P.M. \nDance along to some music\, get some exercise and win some books! \nThis is a free program for children birth– 4th grade to enjoy with a  parent or guardian. \nRegistration is required \nPlease register online or call \n# 696– 7704 \nRegistration opens Monday\, March 17th \n  \n 
URL:https://www.lowellpl.lib.in.us/event/book-walk-13/
LOCATION:Lowell Public Library\, 1505 E Commercial Ave\, Lowell\, IN\, 46356-2107\, United States
CATEGORIES:Events,Kids
ATTACH;FMTTYPE=image/png:https://www.lowellpl.lib.in.us/wp-content/uploads/2025/03/book-walk.png
END:VEVENT
BEGIN:VEVENT
DTSTART;TZID=America/Chicago:20250410T153000
DTEND;TZID=America/Chicago:20250410T160000
DTSTAMP:20260422T003130
CREATED:20250312T150009Z
LAST-MODIFIED:20250409T145310Z
UID:10003352-1744299000-1744300800@www.lowellpl.lib.in.us
SUMMARY:Book walk
DESCRIPTION:Thursday\, April 10th \n10:30 A.M.  \nOR \n3:30 P.M. \nDance along to some music\, get some exercise and win some books! \nThis is a free program for children birth– 4th grade to enjoy with a  parent or guardian. \nRegistration is required \nPlease register online or call \n# 696– 7704 \nRegistration opens Monday\, March 17th \n  \n 
URL:https://www.lowellpl.lib.in.us/event/book-walk-14/
LOCATION:Lowell Public Library\, 1505 E Commercial Ave\, Lowell\, IN\, 46356-2107\, United States
CATEGORIES:Events,Kids
ATTACH;FMTTYPE=image/png:https://www.lowellpl.lib.in.us/wp-content/uploads/2025/03/book-walk.png
END:VEVENT
BEGIN:VEVENT
DTSTART;TZID=America/Chicago:20250410T163000
DTEND;TZID=America/Chicago:20250410T173000
DTSTAMP:20260422T003130
CREATED:20250310T201941Z
LAST-MODIFIED:20250409T212336Z
UID:10003336-1744302600-1744306200@www.lowellpl.lib.in.us
SUMMARY:YA/Teen Craft with Miss Emily
DESCRIPTION:Create a stained glass project using provided stencils or design your own. Pre-registration is required\, call the Shelby library.
URL:https://www.lowellpl.lib.in.us/event/ya-teen-craft-with-miss-emily/
LOCATION:Shelby Branch\, 23323 Shelby Rd\, Shelby\, IN\, 46377\, United States
CATEGORIES:Events,YA/Teen
ATTACH;FMTTYPE=image/jpeg:https://www.lowellpl.lib.in.us/wp-content/uploads/2022/04/glass-painting-1.jpg
END:VEVENT
BEGIN:VEVENT
DTSTART;TZID=America/Chicago:20250410T173000
DTEND;TZID=America/Chicago:20250410T190000
DTSTAMP:20260422T003130
CREATED:20241203T220632Z
LAST-MODIFIED:20250111T150802Z
UID:10002996-1744306200-1744311600@www.lowellpl.lib.in.us
SUMMARY:Simple Stamping
DESCRIPTION:Make two cards with envelopes.  A $7 fee\, payable at class\, will cover all materials. Limit 12. Pre-register. REGISTRATION OPENS MARCH 6. \n  \n 
URL:https://www.lowellpl.lib.in.us/event/simple-stamping-34/
LOCATION:Lowell Public Library\, 1505 E Commercial Ave\, Lowell\, IN\, 46356-2107\, United States
CATEGORIES:Events
ATTACH;FMTTYPE=image/jpeg:https://www.lowellpl.lib.in.us/wp-content/uploads/2023/11/CardMaking.jpg
END:VEVENT
BEGIN:VEVENT
DTSTART;TZID=America/Chicago:20250412T093000
DTEND;TZID=America/Chicago:20250412T123000
DTSTAMP:20260422T003130
CREATED:20250311T202037Z
LAST-MODIFIED:20250409T145327Z
UID:10003347-1744450200-1744461000@www.lowellpl.lib.in.us
SUMMARY:Easter Bunny visit!
DESCRIPTION:The Easter Bunny is coming for a visit! \nJoin us at the Lowell Public Library and meet the  Easter Bunny. \nColoring pages and activities in the meeting room too! \nDon’t forget to bring your camera for \nPictures! \nSaturday\, April 12th \n9:30 A.M – 12:30 P.M \nThis is a free event for children ages birth– 4th grade. \nNo registration required \nChildren must be accompanied by an adult. \n  \n  \n  \n 
URL:https://www.lowellpl.lib.in.us/event/easter-bunny-visit-2/
LOCATION:Lowell Public Library\, 1505 E Commercial Ave\, Lowell\, IN\, 46356-2107\, United States
CATEGORIES:Events,Kids
ATTACH;FMTTYPE=image/png:https://www.lowellpl.lib.in.us/wp-content/uploads/2025/03/easter-bunny.png
END:VEVENT
BEGIN:VEVENT
DTSTART;TZID=America/Chicago:20250412T100000
DTEND;TZID=America/Chicago:20250412T110000
DTSTAMP:20260422T003130
CREATED:20250312T204028Z
LAST-MODIFIED:20250312T204028Z
UID:10003364-1744452000-1744455600@www.lowellpl.lib.in.us
SUMMARY:Coffee & Conversation
DESCRIPTION:Stop in for a cup of coffee. Stay for a chat. \n 
URL:https://www.lowellpl.lib.in.us/event/coffee-conversation-26/2025-04-12/
LOCATION:Shelby Branch\, 23323 Shelby Rd\, Shelby\, IN\, 46377\, United States
CATEGORIES:Events
ATTACH;FMTTYPE=image/jpeg:https://www.lowellpl.lib.in.us/wp-content/uploads/2023/07/coffee-and-conversation.jpeg
END:VEVENT
BEGIN:VEVENT
DTSTART;TZID=America/Chicago:20250412T140000
DTEND;TZID=America/Chicago:20250412T160000
DTSTAMP:20260422T003130
CREATED:20250307T200806Z
LAST-MODIFIED:20250307T201945Z
UID:10003318-1744466400-1744473600@www.lowellpl.lib.in.us
SUMMARY:Donations Wanted
DESCRIPTION:Are you planning to declutter your home? We would love to take your donations! You can drop off items starting 2:00 PM on Saturday\, April 12\, until noon on Wednesday\, April 23. Please note that drop-offs are not allowed after 7 PM from Monday to Thursday\, or after 4 PM on Fridays and Saturdays. \nWe welcome items that are in good\, clean\, and working condition.  Items accepted include crafts\, artwork\, DVDs\, music\, toys and games\, baby and children’s clothing\, kitchen items\,  seasonal décor\, electronics\, office supplies\, and more!  We do not accept adult clothing\, undergarments\, kids’ furniture or strollers.  More details are on our Rummage Sale flyer. \n This event is the Friends’ largest fundraiser of the year\, and with your support\, we hope to make it a great success. Please consider donating to help keep Lowell Public Library programming the best it can be!           \n 
URL:https://www.lowellpl.lib.in.us/event/donations-wanted-2/2025-04-12/
LOCATION:Lowell Public Library\, 1505 E Commercial Ave\, Lowell\, IN\, 46356-2107\, United States
CATEGORIES:Events
ATTACH;FMTTYPE=image/jpeg:https://www.lowellpl.lib.in.us/wp-content/uploads/2022/03/donations2.jpg
END:VEVENT
BEGIN:VEVENT
DTSTART;TZID=America/Chicago:20250414T090000
DTEND;TZID=America/Chicago:20250414T190000
DTSTAMP:20260422T003130
CREATED:20250307T200806Z
LAST-MODIFIED:20250307T201945Z
UID:10003319-1744621200-1744657200@www.lowellpl.lib.in.us
SUMMARY:Donations Wanted
DESCRIPTION:Are you planning to declutter your home? We would love to take your donations! You can drop off items starting 2:00 PM on Saturday\, April 12\, until noon on Wednesday\, April 23. Please note that drop-offs are not allowed after 7 PM from Monday to Thursday\, or after 4 PM on Fridays and Saturdays. \nWe welcome items that are in good\, clean\, and working condition.  Items accepted include crafts\, artwork\, DVDs\, music\, toys and games\, baby and children’s clothing\, kitchen items\,  seasonal décor\, electronics\, office supplies\, and more!  We do not accept adult clothing\, undergarments\, kids’ furniture or strollers.  More details are on our Rummage Sale flyer. \n This event is the Friends’ largest fundraiser of the year\, and with your support\, we hope to make it a great success. Please consider donating to help keep Lowell Public Library programming the best it can be!           \n 
URL:https://www.lowellpl.lib.in.us/event/donations-wanted-2/2025-04-14/
LOCATION:Lowell Public Library\, 1505 E Commercial Ave\, Lowell\, IN\, 46356-2107\, United States
CATEGORIES:Events
ATTACH;FMTTYPE=image/jpeg:https://www.lowellpl.lib.in.us/wp-content/uploads/2022/03/donations2.jpg
END:VEVENT
BEGIN:VEVENT
DTSTART;TZID=America/Chicago:20250414T130000
DTEND;TZID=America/Chicago:20250414T150000
DTSTAMP:20260422T003130
CREATED:20250307T211509Z
LAST-MODIFIED:20250307T211509Z
UID:10003334-1744635600-1744642800@www.lowellpl.lib.in.us
SUMMARY:Book Club
DESCRIPTION:Read\, then meet to discuss Shadow Divers written by Robert Kurson. \n 
URL:https://www.lowellpl.lib.in.us/event/book-club-5/
LOCATION:Lowell Public Library\, 1505 E Commercial Ave\, Lowell\, IN\, 46356-2107\, United States
CATEGORIES:Events
ATTACH;FMTTYPE=image/jpeg:https://www.lowellpl.lib.in.us/wp-content/uploads/2025/03/shadow-divers.jpg
END:VEVENT
BEGIN:VEVENT
DTSTART;TZID=America/Chicago:20250414T160000
DTEND;TZID=America/Chicago:20250414T170000
DTSTAMP:20260422T003130
CREATED:20250312T203403Z
LAST-MODIFIED:20250312T203403Z
UID:10003362-1744646400-1744650000@www.lowellpl.lib.in.us
SUMMARY:Over 18 Game Day
DESCRIPTION:Get together to play cards or board games. \n 
URL:https://www.lowellpl.lib.in.us/event/over-18-game-day-35/2025-04-14/
LOCATION:Shelby Branch\, 23323 Shelby Rd\, Shelby\, IN\, 46377\, United States
CATEGORIES:Events
ATTACH;FMTTYPE=image/jpeg:https://www.lowellpl.lib.in.us/wp-content/uploads/2024/04/over-18-game-2.jpg
END:VEVENT
BEGIN:VEVENT
DTSTART;TZID=America/Chicago:20250414T180000
DTEND;TZID=America/Chicago:20250414T190000
DTSTAMP:20260422T003130
CREATED:20250319T191535Z
LAST-MODIFIED:20250319T191535Z
UID:10003380-1744653600-1744657200@www.lowellpl.lib.in.us
SUMMARY:Adult Ceramics
DESCRIPTION:There will be a variety of  spring-themed pieces to choose from on the 7th.  Finish up your project on the 14th. You MUST sign-up ahead of time to attend. Call the library at 552-1000. \n  \n 
URL:https://www.lowellpl.lib.in.us/event/adult-ceramics-11/2025-04-14/
LOCATION:Schneider Branch Library\, 24002 Parrish Ave\, Schneider\, IN\, 46376\, United States
CATEGORIES:Events
ATTACH;FMTTYPE=image/jpeg:https://www.lowellpl.lib.in.us/wp-content/uploads/2024/01/ceramic.jpg
END:VEVENT
BEGIN:VEVENT
DTSTART;TZID=America/Chicago:20250415T090000
DTEND;TZID=America/Chicago:20250415T190000
DTSTAMP:20260422T003130
CREATED:20250307T200806Z
LAST-MODIFIED:20250307T201945Z
UID:10003320-1744707600-1744743600@www.lowellpl.lib.in.us
SUMMARY:Donations Wanted
DESCRIPTION:Are you planning to declutter your home? We would love to take your donations! You can drop off items starting 2:00 PM on Saturday\, April 12\, until noon on Wednesday\, April 23. Please note that drop-offs are not allowed after 7 PM from Monday to Thursday\, or after 4 PM on Fridays and Saturdays. \nWe welcome items that are in good\, clean\, and working condition.  Items accepted include crafts\, artwork\, DVDs\, music\, toys and games\, baby and children’s clothing\, kitchen items\,  seasonal décor\, electronics\, office supplies\, and more!  We do not accept adult clothing\, undergarments\, kids’ furniture or strollers.  More details are on our Rummage Sale flyer. \n This event is the Friends’ largest fundraiser of the year\, and with your support\, we hope to make it a great success. Please consider donating to help keep Lowell Public Library programming the best it can be!           \n 
URL:https://www.lowellpl.lib.in.us/event/donations-wanted-2/2025-04-15/
LOCATION:Lowell Public Library\, 1505 E Commercial Ave\, Lowell\, IN\, 46356-2107\, United States
CATEGORIES:Events
ATTACH;FMTTYPE=image/jpeg:https://www.lowellpl.lib.in.us/wp-content/uploads/2022/03/donations2.jpg
END:VEVENT
BEGIN:VEVENT
DTSTART;TZID=America/Chicago:20250415T100000
DTEND;TZID=America/Chicago:20250415T113000
DTSTAMP:20260422T003130
CREATED:20241127T152223Z
LAST-MODIFIED:20250527T174106Z
UID:10002981-1744711200-1744716600@www.lowellpl.lib.in.us
SUMMARY:Adult Coloring (Lowell)
DESCRIPTION:Join in on the fun!  Coloring helps us de-stress and stimulates brain areas related to motor skills. All supplies will be provided or you may bring your own. \n 
URL:https://www.lowellpl.lib.in.us/event/adult-coloring-35/2025-04-15/
LOCATION:Lowell Public Library\, 1505 E Commercial Ave\, Lowell\, IN\, 46356-2107\, United States
CATEGORIES:Events
ATTACH;FMTTYPE=image/jpeg:https://www.lowellpl.lib.in.us/wp-content/uploads/2022/01/coloring.jpg
END:VEVENT
BEGIN:VEVENT
DTSTART;TZID=America/Chicago:20250415T103000
DTEND;TZID=America/Chicago:20250415T110000
DTSTAMP:20260422T003130
CREATED:20250312T150343Z
LAST-MODIFIED:20250409T212519Z
UID:10003353-1744713000-1744714800@www.lowellpl.lib.in.us
SUMMARY:Story time
DESCRIPTION:Join Miss Jackie for a few stories\, group activities or a simple craft! \nSome activities may include painting or getting messy! \nThis is a free program for children ages 5 years of age and younger to enjoy with a parent or guardian. \nStory time will last about 30-40 minutes. \nLimited space. Registration is required \nPlease call or register online. Sign up for each session individually. Signing up for one will NOT automatically sign you up for both \n#219-696-7704 \nDates: ONLY 1 WEEK THIS MONTH IN THE KIDS AREA \nTuesday\, April 15th \nWednesday\, April 16th \nThursday\, April 17th \n10:30 A.M \nPlease only choose a Tuesday\, Wednesday OR Thursday session \nRegistration opens Monday\, March 24th \n 
URL:https://www.lowellpl.lib.in.us/event/story-time-57/
LOCATION:Lowell Public Library\, 1505 E Commercial Ave\, Lowell\, IN\, 46356-2107\, United States
CATEGORIES:Events,Kids
ATTACH;FMTTYPE=image/jpeg:https://www.lowellpl.lib.in.us/wp-content/uploads/2024/09/story-time.jpeg
END:VEVENT
BEGIN:VEVENT
DTSTART;TZID=America/Chicago:20250415T160000
DTEND;TZID=America/Chicago:20250415T170000
DTSTAMP:20260422T003130
CREATED:20250312T152014Z
LAST-MODIFIED:20250415T195535Z
UID:10003354-1744732800-1744736400@www.lowellpl.lib.in.us
SUMMARY:Tales for Tails
DESCRIPTION:Tuesdays  4 P.M—5 P.M \nRead or just visit with a certified therapy dog \nJoin us on Tuesdays as we will be offering the opportunity for kids to read or just visit with therapy dogs. \nThis is a fun program\, where children get a chance to cozy up with a loveable pup and practice their reading skills. Kids can read to one of the therapy dogs for a few minutes or just visit with one. Some of these talented pups have pretty neat talents to share as well! Such a fun way to build confidence\, and increase the kids love of reading! \n*REGISTRATION IS REQUIRED* \nRegistration opens Monday\, March 17th \n  \n 
URL:https://www.lowellpl.lib.in.us/event/tales-for-tails-67/
LOCATION:Lowell Public Library\, 1505 E Commercial Ave\, Lowell\, IN\, 46356-2107\, United States
CATEGORIES:Events,Kids
ATTACH;FMTTYPE=image/png:https://www.lowellpl.lib.in.us/wp-content/uploads/2024/09/tales-for-tails.png
END:VEVENT
BEGIN:VEVENT
DTSTART;TZID=America/Chicago:20250415T163000
DTEND;TZID=America/Chicago:20250415T173000
DTSTAMP:20260422T003130
CREATED:20250311T153646Z
LAST-MODIFIED:20250409T212602Z
UID:10003344-1744734600-1744738200@www.lowellpl.lib.in.us
SUMMARY:Kids Egg Craft
DESCRIPTION:Join us to make this fun paper “Hatching Egg” craft
URL:https://www.lowellpl.lib.in.us/event/kids-egg-craft/
LOCATION:Schneider Branch Library\, 24002 Parrish Ave\, Schneider\, IN\, 46376\, United States
CATEGORIES:Events,Kids
ATTACH;FMTTYPE=image/jpeg:https://www.lowellpl.lib.in.us/wp-content/uploads/2025/03/hatching-chick.jpg
END:VEVENT
BEGIN:VEVENT
DTSTART;TZID=America/Chicago:20250415T163000
DTEND;TZID=America/Chicago:20250415T173000
DTSTAMP:20260422T003130
CREATED:20250313T141716Z
LAST-MODIFIED:20250409T212637Z
UID:10003373-1744734600-1744738200@www.lowellpl.lib.in.us
SUMMARY:Kids Independent Craft
DESCRIPTION:Make something amazing using your imagination and our craft supplies. Registration is required. \n 
URL:https://www.lowellpl.lib.in.us/event/kids-independent-craft-4/
LOCATION:Shelby Branch\, 23323 Shelby Rd\, Shelby\, IN\, 46377\, United States
CATEGORIES:Events,Kids
ATTACH;FMTTYPE=image/jpeg:https://www.lowellpl.lib.in.us/wp-content/uploads/2022/11/craft-supplies.jpg
END:VEVENT
BEGIN:VEVENT
DTSTART;TZID=America/Chicago:20250415T180000
DTEND;TZID=America/Chicago:20250415T190000
DTSTAMP:20260422T003130
CREATED:20250307T211714Z
LAST-MODIFIED:20250307T211714Z
UID:10003335-1744740000-1744743600@www.lowellpl.lib.in.us
SUMMARY:Library Board Meets
DESCRIPTION:The regular meeting of the Lowell Public Library Board of Trustees will be held. \n 
URL:https://www.lowellpl.lib.in.us/event/library-board-meets-38/
LOCATION:Lowell Public Library\, 1505 E Commercial Ave\, Lowell\, IN\, 46356-2107\, United States
CATEGORIES:Events
ATTACH;FMTTYPE=image/jpeg:https://www.lowellpl.lib.in.us/wp-content/uploads/2022/01/board-meeting-3.jpg
END:VEVENT
BEGIN:VEVENT
DTSTART;TZID=America/Chicago:20250416T090000
DTEND;TZID=America/Chicago:20250416T190000
DTSTAMP:20260422T003130
CREATED:20250307T200806Z
LAST-MODIFIED:20250307T201945Z
UID:10003321-1744794000-1744830000@www.lowellpl.lib.in.us
SUMMARY:Donations Wanted
DESCRIPTION:Are you planning to declutter your home? We would love to take your donations! You can drop off items starting 2:00 PM on Saturday\, April 12\, until noon on Wednesday\, April 23. Please note that drop-offs are not allowed after 7 PM from Monday to Thursday\, or after 4 PM on Fridays and Saturdays. \nWe welcome items that are in good\, clean\, and working condition.  Items accepted include crafts\, artwork\, DVDs\, music\, toys and games\, baby and children’s clothing\, kitchen items\,  seasonal décor\, electronics\, office supplies\, and more!  We do not accept adult clothing\, undergarments\, kids’ furniture or strollers.  More details are on our Rummage Sale flyer. \n This event is the Friends’ largest fundraiser of the year\, and with your support\, we hope to make it a great success. Please consider donating to help keep Lowell Public Library programming the best it can be!           \n 
URL:https://www.lowellpl.lib.in.us/event/donations-wanted-2/2025-04-16/
LOCATION:Lowell Public Library\, 1505 E Commercial Ave\, Lowell\, IN\, 46356-2107\, United States
CATEGORIES:Events
ATTACH;FMTTYPE=image/jpeg:https://www.lowellpl.lib.in.us/wp-content/uploads/2022/03/donations2.jpg
END:VEVENT
BEGIN:VEVENT
DTSTART;TZID=America/Chicago:20250416T103000
DTEND;TZID=America/Chicago:20250416T110000
DTSTAMP:20260422T003130
CREATED:20250312T152227Z
LAST-MODIFIED:20250409T212733Z
UID:10003355-1744799400-1744801200@www.lowellpl.lib.in.us
SUMMARY:Story time
DESCRIPTION:Join Miss Jackie for a few stories\, group activities or a simple craft! \nSome activities may include painting or getting messy! \nThis is a free program for children ages 5 years of age and younger to enjoy with a parent or guardian. \nStory time will last about 30-40 minutes. \nLimited space. Registration is required \nPlease call or register online. Sign up for each session individually. Signing up for one will NOT automatically sign you up for both \n#219-696-7704 \nDates: ONLY 1 WEEK THIS MONTH IN THE KIDS AREA \nTuesday\, April 15th \nWednesday\, April 16th \nThursday\, April 17th \n10:30 A.M \nPlease only choose a Tuesday\, Wednesday OR Thursday session \nRegistration opens Monday\, March 24th \n 
URL:https://www.lowellpl.lib.in.us/event/story-time-58/
LOCATION:Lowell Public Library\, 1505 E Commercial Ave\, Lowell\, IN\, 46356-2107\, United States
CATEGORIES:Events,Kids
ATTACH;FMTTYPE=image/jpeg:https://www.lowellpl.lib.in.us/wp-content/uploads/2024/09/story-time.jpeg
END:VEVENT
BEGIN:VEVENT
DTSTART;TZID=America/Chicago:20250416T120000
DTEND;TZID=America/Chicago:20250416T150000
DTSTAMP:20260422T003130
CREATED:20241127T151518Z
LAST-MODIFIED:20241127T151518Z
UID:10002957-1744804800-1744815600@www.lowellpl.lib.in.us
SUMMARY:Canasta
DESCRIPTION:Join us for a fun card game\, and we will teach you how to play!
URL:https://www.lowellpl.lib.in.us/event/canasta-14/2025-04-16/
LOCATION:Lowell Public Library\, 1505 E Commercial Ave\, Lowell\, IN\, 46356-2107\, United States
CATEGORIES:Events
ATTACH;FMTTYPE=image/jpeg:https://www.lowellpl.lib.in.us/wp-content/uploads/2023/03/Canasta.jpg
END:VEVENT
BEGIN:VEVENT
DTSTART;TZID=America/Chicago:20250416T163000
DTEND;TZID=America/Chicago:20250416T173000
DTSTAMP:20260422T003130
CREATED:20250310T203353Z
LAST-MODIFIED:20250409T212829Z
UID:10003340-1744821000-1744824600@www.lowellpl.lib.in.us
SUMMARY:YA/Teen Independent Craft
DESCRIPTION:Choose your craft using our supplies. \n 
URL:https://www.lowellpl.lib.in.us/event/ya-teen-independent-craft/
LOCATION:Schneider Branch Library\, 24002 Parrish Ave\, Schneider\, IN\, 46376\, United States
CATEGORIES:Events,YA/Teen
ATTACH;FMTTYPE=image/jpeg:https://www.lowellpl.lib.in.us/wp-content/uploads/2022/01/crafts-scaled.jpg
END:VEVENT
BEGIN:VEVENT
DTSTART;TZID=America/Chicago:20250416T163000
DTEND;TZID=America/Chicago:20250416T173000
DTSTAMP:20260422T003130
CREATED:20250313T135424Z
LAST-MODIFIED:20250409T212800Z
UID:10003370-1744821000-1744824600@www.lowellpl.lib.in.us
SUMMARY:YA Coloring
DESCRIPTION:Color with markers or colored pencils. Pre-registration is required.
URL:https://www.lowellpl.lib.in.us/event/ya-coloring/
LOCATION:Shelby Branch\, 23323 Shelby Rd\, Shelby\, IN\, 46377\, United States
CATEGORIES:Events,YA/Teen
ATTACH;FMTTYPE=image/jpeg:https://www.lowellpl.lib.in.us/wp-content/uploads/2022/01/coloring2.jpg
END:VEVENT
BEGIN:VEVENT
DTSTART;TZID=America/Chicago:20250417T090000
DTEND;TZID=America/Chicago:20250417T120000
DTSTAMP:20260422T003130
CREATED:20250131T165606Z
LAST-MODIFIED:20251014T142700Z
UID:10003201-1744880400-1744891200@www.lowellpl.lib.in.us
SUMMARY:Knit & Crochet (Lowell)
DESCRIPTION:Meet up to knit and crochet\, and share patterns and tips.   \n 
URL:https://www.lowellpl.lib.in.us/event/knit-crochet-32/2025-04-17/
LOCATION:Lowell Public Library\, 1505 E Commercial Ave\, Lowell\, IN\, 46356-2107\, United States
CATEGORIES:Events
ATTACH;FMTTYPE=image/jpeg:https://www.lowellpl.lib.in.us/wp-content/uploads/2022/01/crochet.jpg
END:VEVENT
BEGIN:VEVENT
DTSTART;TZID=America/Chicago:20250417T090000
DTEND;TZID=America/Chicago:20250417T190000
DTSTAMP:20260422T003130
CREATED:20250307T200806Z
LAST-MODIFIED:20250307T201945Z
UID:10003322-1744880400-1744916400@www.lowellpl.lib.in.us
SUMMARY:Donations Wanted
DESCRIPTION:Are you planning to declutter your home? We would love to take your donations! You can drop off items starting 2:00 PM on Saturday\, April 12\, until noon on Wednesday\, April 23. Please note that drop-offs are not allowed after 7 PM from Monday to Thursday\, or after 4 PM on Fridays and Saturdays. \nWe welcome items that are in good\, clean\, and working condition.  Items accepted include crafts\, artwork\, DVDs\, music\, toys and games\, baby and children’s clothing\, kitchen items\,  seasonal décor\, electronics\, office supplies\, and more!  We do not accept adult clothing\, undergarments\, kids’ furniture or strollers.  More details are on our Rummage Sale flyer. \n This event is the Friends’ largest fundraiser of the year\, and with your support\, we hope to make it a great success. Please consider donating to help keep Lowell Public Library programming the best it can be!           \n 
URL:https://www.lowellpl.lib.in.us/event/donations-wanted-2/2025-04-17/
LOCATION:Lowell Public Library\, 1505 E Commercial Ave\, Lowell\, IN\, 46356-2107\, United States
CATEGORIES:Events
ATTACH;FMTTYPE=image/jpeg:https://www.lowellpl.lib.in.us/wp-content/uploads/2022/03/donations2.jpg
END:VEVENT
BEGIN:VEVENT
DTSTART;TZID=America/Chicago:20250417T103000
DTEND;TZID=America/Chicago:20250417T110000
DTSTAMP:20260422T003130
CREATED:20250312T153323Z
LAST-MODIFIED:20250416T171537Z
UID:10003356-1744885800-1744887600@www.lowellpl.lib.in.us
SUMMARY:Story time
DESCRIPTION:Join Miss Jackie for a few stories\, group activities or a simple craft! \nSome activities may include painting or getting messy! \nThis is a free program for children ages 5 years of age and younger to enjoy with a parent or guardian. \nStory time will last about 30-40 minutes. \nLimited space. Registration is required \nPlease call or register online. Sign up for each session individually. Signing up for one will NOT automatically sign you up for both \n#219-696-7704 \nDates: ONLY 1 WEEK THIS MONTH IN THE KIDS AREA \nTuesday\, April 15th \nWednesday\, April 16th \nThursday\, April 17th \n10:30 A.M \nPlease only choose a Tuesday\, Wednesday OR Thursday session \nRegistration opens Monday\, March 24th \n 
URL:https://www.lowellpl.lib.in.us/event/story-time-59/
LOCATION:Lowell Public Library\, 1505 E Commercial Ave\, Lowell\, IN\, 46356-2107\, United States
CATEGORIES:Events,Kids
ATTACH;FMTTYPE=image/jpeg:https://www.lowellpl.lib.in.us/wp-content/uploads/2024/09/story-time.jpeg
END:VEVENT
BEGIN:VEVENT
DTSTART;TZID=America/Chicago:20250417T160000
DTEND;TZID=America/Chicago:20250417T170000
DTSTAMP:20260422T003130
CREATED:20250312T204844Z
LAST-MODIFIED:20250312T205215Z
UID:10003366-1744905600-1744909200@www.lowellpl.lib.in.us
SUMMARY:Adult Book Discussion
DESCRIPTION:Read\, then meet to discuss The Women written by Kristin Hannah. \n 
URL:https://www.lowellpl.lib.in.us/event/adult-book-discussion-60/
LOCATION:Shelby Branch\, 23323 Shelby Rd\, Shelby\, IN\, 46377\, United States
CATEGORIES:Events
ATTACH;FMTTYPE=image/jpeg:https://www.lowellpl.lib.in.us/wp-content/uploads/2025/03/women.jpg
END:VEVENT
BEGIN:VEVENT
DTSTART;TZID=America/Chicago:20250417T173000
DTEND;TZID=America/Chicago:20250417T190000
DTSTAMP:20260422T003130
CREATED:20250304T174507Z
LAST-MODIFIED:20250409T213002Z
UID:10003308-1744911000-1744916400@www.lowellpl.lib.in.us
SUMMARY:YA MUSIC BINGO
DESCRIPTION:Teens\, come to Lowell Public Library on Thursday\, April 17 at 5:30pm to play a newer form of bingo\,\nMUSIC BINGO! \nInstead of listening for letters and numbers to be called\, sit back and listen to clips of current popular songs. Sing along if you want to!\nIf that song is on your card\, mark it off. Five in a row is a BINGO! \nWe’ll be playing based on different genre including pop\, country\, and rock. Winners will get their pick of prizes. \nThis is a free program open to 5TH —12TH GRADE students. \nRegistration is required. Sign up below or call 219-696-7704. \nRegistration opens March 20.
URL:https://www.lowellpl.lib.in.us/event/ya-music-bingo/
LOCATION:Lowell Public Library\, 1505 E Commercial Ave\, Lowell\, IN\, 46356-2107\, United States
CATEGORIES:Events,YA/Teen
ATTACH;FMTTYPE=image/jpeg:https://www.lowellpl.lib.in.us/wp-content/uploads/2025/03/MUSIC-BINGO-FOR-EVENTS-PAGE.jpg
END:VEVENT
BEGIN:VEVENT
DTSTART;TZID=America/Chicago:20250418T090000
DTEND;TZID=America/Chicago:20250418T170000
DTSTAMP:20260422T003130
CREATED:20250307T155620Z
LAST-MODIFIED:20250307T155620Z
UID:10003317-1744966800-1744995600@www.lowellpl.lib.in.us
SUMMARY:Library Closed
DESCRIPTION:The library will be closed in observance of Good Friday
URL:https://www.lowellpl.lib.in.us/event/library-closed-7/
LOCATION:Lowell Public Library\, 1505 E Commercial Ave\, Lowell\, IN\, 46356-2107\, United States
CATEGORIES:Events
ATTACH;FMTTYPE=image/jpeg:https://www.lowellpl.lib.in.us/wp-content/uploads/2022/04/GFClosed.jpg
END:VEVENT
BEGIN:VEVENT
DTSTART;TZID=America/Chicago:20250419T090000
DTEND;TZID=America/Chicago:20250419T160000
DTSTAMP:20260422T003130
CREATED:20250307T200806Z
LAST-MODIFIED:20250307T201945Z
UID:10003324-1745053200-1745078400@www.lowellpl.lib.in.us
SUMMARY:Donations Wanted
DESCRIPTION:Are you planning to declutter your home? We would love to take your donations! You can drop off items starting 2:00 PM on Saturday\, April 12\, until noon on Wednesday\, April 23. Please note that drop-offs are not allowed after 7 PM from Monday to Thursday\, or after 4 PM on Fridays and Saturdays. \nWe welcome items that are in good\, clean\, and working condition.  Items accepted include crafts\, artwork\, DVDs\, music\, toys and games\, baby and children’s clothing\, kitchen items\,  seasonal décor\, electronics\, office supplies\, and more!  We do not accept adult clothing\, undergarments\, kids’ furniture or strollers.  More details are on our Rummage Sale flyer. \n This event is the Friends’ largest fundraiser of the year\, and with your support\, we hope to make it a great success. Please consider donating to help keep Lowell Public Library programming the best it can be!           \n 
URL:https://www.lowellpl.lib.in.us/event/donations-wanted-2/2025-04-19/
LOCATION:Lowell Public Library\, 1505 E Commercial Ave\, Lowell\, IN\, 46356-2107\, United States
CATEGORIES:Events
ATTACH;FMTTYPE=image/jpeg:https://www.lowellpl.lib.in.us/wp-content/uploads/2022/03/donations2.jpg
END:VEVENT
END:VCALENDAR