BEGIN:VCALENDAR
VERSION:2.0
PRODID:-//Lowell Public Library - Lowell, IN - ECPv6.7.0//NONSGML v1.0//EN
CALSCALE:GREGORIAN
METHOD:PUBLISH
X-ORIGINAL-URL:https://www.lowellpl.lib.in.us
X-WR-CALDESC:Events for Lowell Public Library - Lowell, IN
REFRESH-INTERVAL;VALUE=DURATION:PT1H
X-Robots-Tag:noindex
X-PUBLISHED-TTL:PT1H
BEGIN:VTIMEZONE
TZID:America/Chicago
BEGIN:DAYLIGHT
TZOFFSETFROM:-0600
TZOFFSETTO:-0500
TZNAME:CDT
DTSTART:20250309T080000
END:DAYLIGHT
BEGIN:STANDARD
TZOFFSETFROM:-0500
TZOFFSETTO:-0600
TZNAME:CST
DTSTART:20251102T070000
END:STANDARD
END:VTIMEZONE
BEGIN:VEVENT
DTSTART;TZID=America/Chicago:20250428T153000
DTEND;TZID=America/Chicago:20250428T170000
DTSTAMP:20260421T163228
CREATED:20250312T153824Z
LAST-MODIFIED:20250409T213408Z
UID:10003358-1745854200-1745859600@www.lowellpl.lib.in.us
SUMMARY:Lego Hex bug club
DESCRIPTION:Lego fun with Hexbugs! \nCome to the Library for some afterschool fun. \nSee what kind of maze you can create with Legos and watch the Hexbugs make their way through your creation! \nThis is a free program for children ages 5-12 \nMondays 7th and 28th 3:30– 5 P.M \nRegistration is required \nPlease call or sign up online \nRegistration opens on Monday\, March 17th \n  \n  \n 
URL:https://www.lowellpl.lib.in.us/event/lego-hex-bug-club-4/
LOCATION:Lowell Public Library\, 1505 E Commercial Ave\, Lowell\, IN\, 46356-2107\, United States
CATEGORIES:Events,Kids
ATTACH;FMTTYPE=image/png:https://www.lowellpl.lib.in.us/wp-content/uploads/2024/08/Oct-lego-club.png
END:VEVENT
BEGIN:VEVENT
DTSTART;TZID=America/Chicago:20250428T160000
DTEND;TZID=America/Chicago:20250428T170000
DTSTAMP:20260421T163228
CREATED:20250312T204957Z
LAST-MODIFIED:20250312T204957Z
UID:10003367-1745856000-1745859600@www.lowellpl.lib.in.us
SUMMARY:Senior Bingo
DESCRIPTION:Play for a chance to win a gift card. \n 
URL:https://www.lowellpl.lib.in.us/event/senior-bingo-35/
LOCATION:Shelby Branch\, 23323 Shelby Rd\, Shelby\, IN\, 46377\, United States
CATEGORIES:Events
ATTACH;FMTTYPE=image/gif:https://www.lowellpl.lib.in.us/wp-content/uploads/2022/01/bingo_animated.gif
END:VEVENT
BEGIN:VEVENT
DTSTART;TZID=America/Chicago:20250429T160000
DTEND;TZID=America/Chicago:20250429T170000
DTSTAMP:20260421T163228
CREATED:20250312T154335Z
LAST-MODIFIED:20250409T213423Z
UID:10003359-1745942400-1745946000@www.lowellpl.lib.in.us
SUMMARY:Tales for Tails
DESCRIPTION:Tuesdays  4 P.M—5 P.M \nRead or just visit with a certified therapy dog \nJoin us on Tuesdays as we will be offering the opportunity for kids to read or just visit with therapy dogs. \nThis is a fun program\, where children get a chance to cozy up with a loveable pup and practice their reading skills. Kids can read to one of the therapy dogs for a few minutes or just visit with one. Some of these talented pups have pretty neat talents to share as well! Such a fun way to build confidence\, and increase the kids love of reading! \n*REGISTRATION IS REQUIRED* \nRegistration opens Monday\, March 17th \n  \n 
URL:https://www.lowellpl.lib.in.us/event/tales-for-tails-69/
LOCATION:Lowell Public Library\, 1505 E Commercial Ave\, Lowell\, IN\, 46356-2107\, United States
CATEGORIES:Events,Kids
ATTACH;FMTTYPE=image/png:https://www.lowellpl.lib.in.us/wp-content/uploads/2024/09/tales-for-tails.png
END:VEVENT
BEGIN:VEVENT
DTSTART;TZID=America/Chicago:20250429T163000
DTEND;TZID=America/Chicago:20250429T173000
DTSTAMP:20260421T163228
CREATED:20250311T154948Z
LAST-MODIFIED:20250409T213453Z
UID:10003346-1745944200-1745947800@www.lowellpl.lib.in.us
SUMMARY:Kids Paper Craft
DESCRIPTION:Create an April Showers art piece using paper and cotton swabs
URL:https://www.lowellpl.lib.in.us/event/kids-paper-craft-2/
LOCATION:Schneider Branch Library\, 24002 Parrish Ave\, Schneider\, IN\, 46376\, United States
CATEGORIES:Events,Kids
ATTACH;FMTTYPE=image/jpeg:https://www.lowellpl.lib.in.us/wp-content/uploads/2025/03/rainclouds.jpg
END:VEVENT
BEGIN:VEVENT
DTSTART;TZID=America/Chicago:20250429T163000
DTEND;TZID=America/Chicago:20250429T173000
DTSTAMP:20260421T163228
CREATED:20250313T142312Z
LAST-MODIFIED:20250409T213438Z
UID:10003375-1745944200-1745947800@www.lowellpl.lib.in.us
SUMMARY:Kids Glass Painting
DESCRIPTION:Paint designs on glass. Pre- registration is required.
URL:https://www.lowellpl.lib.in.us/event/kids-glass-painting-2/
LOCATION:Shelby Branch\, 23323 Shelby Rd\, Shelby\, IN\, 46377\, United States
CATEGORIES:Kids
ATTACH;FMTTYPE=image/jpeg:https://www.lowellpl.lib.in.us/wp-content/uploads/2022/04/Glass-painting.jpg
END:VEVENT
BEGIN:VEVENT
DTSTART;TZID=America/Chicago:20250430T163000
DTEND;TZID=America/Chicago:20250430T173000
DTSTAMP:20260421T163228
CREATED:20250310T203555Z
LAST-MODIFIED:20250409T213510Z
UID:10003341-1746030600-1746034200@www.lowellpl.lib.in.us
SUMMARY:YA/Teen Bean Bag Tournament
DESCRIPTION:Compete in our friendly tournament. \n 
URL:https://www.lowellpl.lib.in.us/event/ya-teen-bean-bag-tournament/
LOCATION:Schneider Branch Library\, 24002 Parrish Ave\, Schneider\, IN\, 46376\, United States
CATEGORIES:Events,YA/Teen
ATTACH;FMTTYPE=image/jpeg:https://www.lowellpl.lib.in.us/wp-content/uploads/2022/04/bean-bag.jpg
END:VEVENT
BEGIN:VEVENT
DTSTART;TZID=America/Chicago:20250501T090000
DTEND;TZID=America/Chicago:20250501T120000
DTSTAMP:20260421T163228
CREATED:20250131T165606Z
LAST-MODIFIED:20251014T142700Z
UID:10003203-1746090000-1746100800@www.lowellpl.lib.in.us
SUMMARY:Knit & Crochet (Lowell)
DESCRIPTION:Meet up to knit and crochet\, and share patterns and tips.   \n 
URL:https://www.lowellpl.lib.in.us/event/knit-crochet-32/2025-05-01/
LOCATION:Lowell Public Library\, 1505 E Commercial Ave\, Lowell\, IN\, 46356-2107\, United States
CATEGORIES:Events
ATTACH;FMTTYPE=image/jpeg:https://www.lowellpl.lib.in.us/wp-content/uploads/2022/01/crochet.jpg
END:VEVENT
BEGIN:VEVENT
DTSTART;TZID=America/Chicago:20250501T110000
DTEND;TZID=America/Chicago:20250501T120000
DTSTAMP:20260421T163228
CREATED:20250408T191928Z
LAST-MODIFIED:20250408T191928Z
UID:10003399-1746097200-1746100800@www.lowellpl.lib.in.us
SUMMARY:Senior Social Birdhouses
DESCRIPTION:It’s our last get-together until September.  Join us to paint a birdhouse as home decor or hang it outside for the birds. Limit of 25. You must pre-register.  \n 
URL:https://www.lowellpl.lib.in.us/event/senior-social-birdhouses/
LOCATION:Lowell Public Library\, 1505 E Commercial Ave\, Lowell\, IN\, 46356-2107\, United States
CATEGORIES:Events
ATTACH;FMTTYPE=image/jpeg:https://www.lowellpl.lib.in.us/wp-content/uploads/2025/04/paint-party.jpg
END:VEVENT
BEGIN:VEVENT
DTSTART;TZID=America/Chicago:20250501T173000
DTEND;TZID=America/Chicago:20250501T190000
DTSTAMP:20260421T163228
CREATED:20241203T223916Z
LAST-MODIFIED:20241203T224647Z
UID:10002997-1746120600-1746126000@www.lowellpl.lib.in.us
SUMMARY:Simple Stamping
DESCRIPTION:Make two cards with envelopes.  A $7 fee\, payable at class\, will cover all materials. Limit 12. Pre-register. REGISTRATION OPENS April 3 \n  \n 
URL:https://www.lowellpl.lib.in.us/event/simple-stamping-35/
LOCATION:Lowell Public Library\, 1505 E Commercial Ave\, Lowell\, IN\, 46356-2107\, United States
CATEGORIES:Events
ATTACH;FMTTYPE=image/jpeg:https://www.lowellpl.lib.in.us/wp-content/uploads/2023/11/CardMaking.jpg
END:VEVENT
BEGIN:VEVENT
DTSTART;TZID=America/Chicago:20250501T173000
DTEND;TZID=America/Chicago:20250501T190000
DTSTAMP:20260421T163228
CREATED:20250306T223027Z
LAST-MODIFIED:20250410T191706Z
UID:10003309-1746120600-1746126000@www.lowellpl.lib.in.us
SUMMARY:YA Soap
DESCRIPTION:Make your own SOAP! \nMother’s Day this year is Sunday\, May 11. Join other young adults at the Lowell Public Library on Thursday\, May 1 from 5:30-7pm to make a few little soap bars to bring home. Customize 3 different soaps with a variety of colors and even add a special scent. \nWe’ll be using an aloe soap base to make these one of a kind\, thoughtful\, practical gifts. Give them to a mother\, grandmother\, special teacher (next week is also teacher appreciation week)\, or choose to keep them for yourself. \nThis is a free program for students in 5th grade through 12th grade.  \nPre-registration is required to ensure adequate supplies. Register below or call 219-696-7704 to sign up. \n  \nRegistration opens Thursday\, April 10th. \n 
URL:https://www.lowellpl.lib.in.us/event/ya-soap/
LOCATION:Lowell Public Library\, 1505 E Commercial Ave\, Lowell\, IN\, 46356-2107\, United States
CATEGORIES:Events,YA/Teen
ATTACH;FMTTYPE=image/jpeg:https://www.lowellpl.lib.in.us/wp-content/uploads/2025/03/soap-e1741300395328.jpg
END:VEVENT
BEGIN:VEVENT
DTSTART;TZID=America/Chicago:20250502T103000
DTEND;TZID=America/Chicago:20250502T120000
DTSTAMP:20260421T163228
CREATED:20250307T153303Z
LAST-MODIFIED:20250307T153303Z
UID:10003310-1746181800-1746187200@www.lowellpl.lib.in.us
SUMMARY:Oral History Workshop
DESCRIPTION:Oral History Workshop with Author Samuel Love \nFridays: May 2-June 6\, 10:30-12 PM \nThis workshop series will teach the process and skills for conducting historical interviews.  Record life stories of yourself\, family members\, friends\, and acquaintances\, preserving history for future generations to read. Co-sponsored by the Three Creeks Historical Association and the library.  Attendance at each workshop is advised but not mandatory.  Pre-register for each session SEPARATELY at our website.  (Signing up for one session DOES NOT sign you up for the entire series)
URL:https://www.lowellpl.lib.in.us/event/oral-history-workshop/
LOCATION:Lowell Public Library\, 1505 E Commercial Ave\, Lowell\, IN\, 46356-2107\, United States
CATEGORIES:Events
ATTACH;FMTTYPE=image/jpeg:https://www.lowellpl.lib.in.us/wp-content/uploads/2025/03/oral-history.jpg
END:VEVENT
BEGIN:VEVENT
DTSTART;TZID=America/Chicago:20250505T090000
DTEND;TZID=America/Chicago:20250508T200000
DTSTAMP:20260421T163228
CREATED:20250402T172820Z
LAST-MODIFIED:20250402T174623Z
UID:10003384-1746435600-1746734400@www.lowellpl.lib.in.us
SUMMARY:Student Art Exhibit
DESCRIPTION: 45th ANNUAL STUDENT ART EXHIBIT \n The Friends of the Lowell Library invite you to witness the creativity and imagination of elementary grade students from the Tri-Creek area. The library will host an art exhibition from May 5 to May 10\,  showcasing a wide range of artworks created by the young artists in acrylics\, 3D\, watercolors\, chalks\, and computer graphics. \n 
URL:https://www.lowellpl.lib.in.us/event/student-art-exhibit-3/2025-05-05/
LOCATION:Lowell Public Library\, 1505 E Commercial Ave\, Lowell\, IN\, 46356-2107\, United States
CATEGORIES:Events
ATTACH;FMTTYPE=image/jpeg:https://www.lowellpl.lib.in.us/wp-content/uploads/2024/04/art-exhibit-3.jpg
END:VEVENT
BEGIN:VEVENT
DTSTART;TZID=America/Chicago:20250505T160000
DTEND;TZID=America/Chicago:20250505T170000
DTSTAMP:20260421T163228
CREATED:20250409T194812Z
LAST-MODIFIED:20250409T194812Z
UID:10003424-1746460800-1746464400@www.lowellpl.lib.in.us
SUMMARY:Over 18 Game Days
DESCRIPTION:Get together to play cards or board games. \n 
URL:https://www.lowellpl.lib.in.us/event/over-18-game-days-2/2025-05-05/
LOCATION:Shelby Branch\, 23323 Shelby Rd\, Shelby\, IN\, 46377\, United States
CATEGORIES:Events
ATTACH;FMTTYPE=image/jpeg:https://www.lowellpl.lib.in.us/wp-content/uploads/2024/04/over-18-game-2.jpg
END:VEVENT
BEGIN:VEVENT
DTSTART;TZID=America/Chicago:20250506T160000
DTEND;TZID=America/Chicago:20250506T170000
DTSTAMP:20260421T163228
CREATED:20250408T151704Z
LAST-MODIFIED:20250408T151704Z
UID:10003392-1746547200-1746550800@www.lowellpl.lib.in.us
SUMMARY:Tales for Tails
DESCRIPTION:Tuesday’s \nMay 6th\, 20th and 27th 4 P.M—5 P.M \nRead or just visit with a certified therapy dog \nJoin us on Tuesdays as we will be offering the opportunity for kids to read or just visit with therapy dogs. \nThis is a fun program\, where children get a chance to cozy up with a loveable pup and practice their reading skills. Kids can read to one of the therapy dogs for a few minutes or just visit with one. Some of these talented pups have pretty neat talents to share as well! Such a fun way to build confidence\, and increase the kids love of reading! \n*REGISTRATION IS REQUIRED* \nRegistration opens Monday\, April 21st \n  \n 
URL:https://www.lowellpl.lib.in.us/event/tales-for-tails-70/
LOCATION:Lowell Public Library\, 1505 E Commercial Ave\, Lowell\, IN\, 46356-2107\, United States
CATEGORIES:Events
ATTACH;FMTTYPE=image/jpeg:https://www.lowellpl.lib.in.us/wp-content/uploads/2023/05/therapy-dog.jpg
END:VEVENT
BEGIN:VEVENT
DTSTART;TZID=America/Chicago:20250506T163000
DTEND;TZID=America/Chicago:20250506T173000
DTSTAMP:20260421T163228
CREATED:20250409T202528Z
LAST-MODIFIED:20250409T202528Z
UID:10003436-1746549000-1746552600@www.lowellpl.lib.in.us
SUMMARY:Kids Independent Craft
DESCRIPTION:Make something amazing using your imagination and our craft supplies. \nYou must pre-register by calling the library. \n 
URL:https://www.lowellpl.lib.in.us/event/kids-independent-craft-5/
LOCATION:Shelby Branch\, 23323 Shelby Rd\, Shelby\, IN\, 46377\, United States
CATEGORIES:Events
ATTACH;FMTTYPE=image/jpeg:https://www.lowellpl.lib.in.us/wp-content/uploads/2022/11/craft-supplies.jpg
END:VEVENT
BEGIN:VEVENT
DTSTART;TZID=America/Chicago:20250506T163000
DTEND;TZID=America/Chicago:20250506T173000
DTSTAMP:20260421T163228
CREATED:20250412T141353Z
LAST-MODIFIED:20250412T141353Z
UID:10003446-1746549000-1746552600@www.lowellpl.lib.in.us
SUMMARY:Kids Craft
DESCRIPTION:Make a paper flower basket
URL:https://www.lowellpl.lib.in.us/event/kids-craft-80/
LOCATION:Schneider Branch Library\, 24002 Parrish Ave\, Schneider\, IN\, 46376\, United States
CATEGORIES:Events
ATTACH;FMTTYPE=image/jpeg:https://www.lowellpl.lib.in.us/wp-content/uploads/2025/04/paper-flower-basket-e1744467156682.jpg
END:VEVENT
BEGIN:VEVENT
DTSTART;TZID=America/Chicago:20250507T163000
DTEND;TZID=America/Chicago:20250507T173000
DTSTAMP:20260421T163228
CREATED:20250409T200144Z
LAST-MODIFIED:20250409T200144Z
UID:10003431-1746635400-1746639000@www.lowellpl.lib.in.us
SUMMARY:YA Independent Craft
DESCRIPTION:Be creative with our supplies. \n 
URL:https://www.lowellpl.lib.in.us/event/ya-independent-craft-4/
LOCATION:Shelby Branch\, 23323 Shelby Rd\, Shelby\, IN\, 46377\, United States
CATEGORIES:Events
ATTACH;FMTTYPE=image/jpeg:https://www.lowellpl.lib.in.us/wp-content/uploads/2022/01/crafts-scaled.jpg
END:VEVENT
BEGIN:VEVENT
DTSTART;TZID=America/Chicago:20250507T163000
DTEND;TZID=America/Chicago:20250507T173000
DTSTAMP:20260421T163228
CREATED:20250411T214346Z
LAST-MODIFIED:20250411T214346Z
UID:10003443-1746635400-1746639000@www.lowellpl.lib.in.us
SUMMARY:YA/Teen Craft
DESCRIPTION:Make a string art flower jar.  (grades 5-12)
URL:https://www.lowellpl.lib.in.us/event/ya-teen-craft-10/
LOCATION:Schneider Branch Library\, 24002 Parrish Ave\, Schneider\, IN\, 46376\, United States
CATEGORIES:Events
ATTACH;FMTTYPE=image/jpeg:https://www.lowellpl.lib.in.us/wp-content/uploads/2025/04/String-art-flower-jar.jpg
END:VEVENT
BEGIN:VEVENT
DTSTART;TZID=America/Chicago:20250507T180000
DTEND;TZID=America/Chicago:20250507T190000
DTSTAMP:20260421T163228
CREATED:20250402T174226Z
LAST-MODIFIED:20250402T174226Z
UID:10003386-1746640800-1746644400@www.lowellpl.lib.in.us
SUMMARY:Art Reception
DESCRIPTION:A special reception will be held on Wednesday\, May 7\, at 6:00 PM to honor the young artists and their families participating in our art exhibit. During the reception\, Friends members will offer refreshments\, and children from grades K-4 who attend the event can participate in a drawing for a chance to win art supplies.  \n 
URL:https://www.lowellpl.lib.in.us/event/art-reception-2/
LOCATION:Lowell Public Library\, 1505 E Commercial Ave\, Lowell\, IN\, 46356-2107\, United States
CATEGORIES:Events
ATTACH;FMTTYPE=image/jpeg:https://www.lowellpl.lib.in.us/wp-content/uploads/2024/04/art-exhibit-3.jpg
END:VEVENT
BEGIN:VEVENT
DTSTART;TZID=America/Chicago:20250508T090000
DTEND;TZID=America/Chicago:20250508T120000
DTSTAMP:20260421T163228
CREATED:20250131T165606Z
LAST-MODIFIED:20251014T142700Z
UID:10003204-1746694800-1746705600@www.lowellpl.lib.in.us
SUMMARY:Knit & Crochet (Lowell)
DESCRIPTION:Meet up to knit and crochet\, and share patterns and tips.   \n 
URL:https://www.lowellpl.lib.in.us/event/knit-crochet-32/2025-05-08/
LOCATION:Lowell Public Library\, 1505 E Commercial Ave\, Lowell\, IN\, 46356-2107\, United States
CATEGORIES:Events
ATTACH;FMTTYPE=image/jpeg:https://www.lowellpl.lib.in.us/wp-content/uploads/2022/01/crochet.jpg
END:VEVENT
BEGIN:VEVENT
DTSTART;TZID=America/Chicago:20250508T163000
DTEND;TZID=America/Chicago:20250508T173000
DTSTAMP:20260421T163228
CREATED:20250409T201107Z
LAST-MODIFIED:20250409T201107Z
UID:10003432-1746721800-1746725400@www.lowellpl.lib.in.us
SUMMARY:YA with Miss Emily
DESCRIPTION:Make soap with your choice of color and scent.  You MUST Pre-register.
URL:https://www.lowellpl.lib.in.us/event/ya-with-miss-emily-3/
LOCATION:Shelby Branch\, 23323 Shelby Rd\, Shelby\, IN\, 46377\, United States
CATEGORIES:Events
ATTACH;FMTTYPE=image/jpeg:https://www.lowellpl.lib.in.us/wp-content/uploads/2025/03/soap-e1741300395328.jpg
END:VEVENT
BEGIN:VEVENT
DTSTART;TZID=America/Chicago:20250509T090000
DTEND;TZID=America/Chicago:20250509T170000
DTSTAMP:20260421T163228
CREATED:20250307T155348Z
LAST-MODIFIED:20250307T155348Z
UID:10003316-1746781200-1746810000@www.lowellpl.lib.in.us
SUMMARY:Library Closed
DESCRIPTION:
URL:https://www.lowellpl.lib.in.us/event/library-closed-6/
LOCATION:Lowell Public Library\, 1505 E Commercial Ave\, Lowell\, IN\, 46356-2107\, United States
CATEGORIES:Events
ATTACH;FMTTYPE=image/png:https://www.lowellpl.lib.in.us/wp-content/uploads/2022/08/closed.png
END:VEVENT
BEGIN:VEVENT
DTSTART;TZID=America/Chicago:20250509T103000
DTEND;TZID=America/Chicago:20250509T120000
DTSTAMP:20260421T163228
CREATED:20250307T153646Z
LAST-MODIFIED:20250307T153646Z
UID:10003311-1746786600-1746792000@www.lowellpl.lib.in.us
SUMMARY:Oral History Workshop
DESCRIPTION:Oral History Workshop with Author Samuel Love \nFridays: May 2-June 6\, 10:30-12 PM \nThis workshop series will teach the process and skills for conducting historical interviews.  Record life stories of yourself\, family members\, friends\, and acquaintances\, preserving history for future generations to read. Co-sponsored by the Three Creeks Historical Association and the library.  Attendance at each workshop is advised but not mandatory.  Pre-register for each session SEPARATELY at our website.  (Signing up for one session DOES NOT sign you up for the entire series)
URL:https://www.lowellpl.lib.in.us/event/oral-history-workshop-2/
LOCATION:Lowell Public Library\, 1505 E Commercial Ave\, Lowell\, IN\, 46356-2107\, United States
CATEGORIES:Events
ATTACH;FMTTYPE=image/jpeg:https://www.lowellpl.lib.in.us/wp-content/uploads/2025/03/oral-history.jpg
END:VEVENT
BEGIN:VEVENT
DTSTART;TZID=America/Chicago:20250510T090000
DTEND;TZID=America/Chicago:20250510T170000
DTSTAMP:20260421T163228
CREATED:20250402T172820Z
LAST-MODIFIED:20250402T174623Z
UID:10003387-1746867600-1746896400@www.lowellpl.lib.in.us
SUMMARY:Student Art Exhibit
DESCRIPTION: 45th ANNUAL STUDENT ART EXHIBIT \n The Friends of the Lowell Library invite you to witness the creativity and imagination of elementary grade students from the Tri-Creek area. The library will host an art exhibition from May 5 to May 10\,  showcasing a wide range of artworks created by the young artists in acrylics\, 3D\, watercolors\, chalks\, and computer graphics. \n 
URL:https://www.lowellpl.lib.in.us/event/student-art-exhibit-3/2025-05-10/
LOCATION:Lowell Public Library\, 1505 E Commercial Ave\, Lowell\, IN\, 46356-2107\, United States
CATEGORIES:Events
ATTACH;FMTTYPE=image/jpeg:https://www.lowellpl.lib.in.us/wp-content/uploads/2024/04/art-exhibit-3.jpg
END:VEVENT
BEGIN:VEVENT
DTSTART;TZID=America/Chicago:20250510T100000
DTEND;TZID=America/Chicago:20250510T110000
DTSTAMP:20260421T163228
CREATED:20250409T195427Z
LAST-MODIFIED:20250409T195427Z
UID:10003428-1746871200-1746874800@www.lowellpl.lib.in.us
SUMMARY:Coffee & Conversation
DESCRIPTION:Stop in for a cup of coffee. Stay for a chat. \n 
URL:https://www.lowellpl.lib.in.us/event/coffee-conversation-27/2025-05-10/
LOCATION:Shelby Branch\, 23323 Shelby Rd\, Shelby\, IN\, 46377\, United States
CATEGORIES:Events
ATTACH;FMTTYPE=image/jpeg:https://www.lowellpl.lib.in.us/wp-content/uploads/2023/07/coffee-and-conversation.jpeg
END:VEVENT
BEGIN:VEVENT
DTSTART;TZID=America/Chicago:20250512T130000
DTEND;TZID=America/Chicago:20250512T150000
DTSTAMP:20260421T163228
CREATED:20250404T185950Z
LAST-MODIFIED:20250404T185950Z
UID:10003388-1747054800-1747062000@www.lowellpl.lib.in.us
SUMMARY:Adult Book Club
DESCRIPTION:Read\, then meet to discuss Under the Southern Sky written by Kristy Woodson Harvey. \n 
URL:https://www.lowellpl.lib.in.us/event/adult-book-club-14/
LOCATION:Lowell Public Library\, 1505 E Commercial Ave\, Lowell\, IN\, 46356-2107\, United States
CATEGORIES:Events
ATTACH;FMTTYPE=image/jpeg:https://www.lowellpl.lib.in.us/wp-content/uploads/2025/04/Under-the-Souther-Sky.jpg
END:VEVENT
BEGIN:VEVENT
DTSTART;TZID=America/Chicago:20250512T160000
DTEND;TZID=America/Chicago:20250512T170000
DTSTAMP:20260421T163228
CREATED:20250409T194812Z
LAST-MODIFIED:20250409T194812Z
UID:10003425-1747065600-1747069200@www.lowellpl.lib.in.us
SUMMARY:Over 18 Game Days
DESCRIPTION:Get together to play cards or board games. \n 
URL:https://www.lowellpl.lib.in.us/event/over-18-game-days-2/2025-05-12/
LOCATION:Shelby Branch\, 23323 Shelby Rd\, Shelby\, IN\, 46377\, United States
CATEGORIES:Events
ATTACH;FMTTYPE=image/jpeg:https://www.lowellpl.lib.in.us/wp-content/uploads/2024/04/over-18-game-2.jpg
END:VEVENT
BEGIN:VEVENT
DTSTART;TZID=America/Chicago:20250512T180000
DTEND;TZID=America/Chicago:20250512T190000
DTSTAMP:20260421T163228
CREATED:20250411T213647Z
LAST-MODIFIED:20250411T213647Z
UID:10003441-1747072800-1747076400@www.lowellpl.lib.in.us
SUMMARY:Adult Ceramics
DESCRIPTION:Paint a Highland Cow.  You MUST sign up by calling the Schneider Branch BEFORE you can attend.
URL:https://www.lowellpl.lib.in.us/event/adult-ceramics-12/
LOCATION:Schneider Branch Library\, 24002 Parrish Ave\, Schneider\, IN\, 46376\, United States
CATEGORIES:Events
ATTACH;FMTTYPE=image/jpeg:https://www.lowellpl.lib.in.us/wp-content/uploads/2025/04/Highland-Cow-2.jpg
END:VEVENT
BEGIN:VEVENT
DTSTART;TZID=America/Chicago:20250513T163000
DTEND;TZID=America/Chicago:20250513T173000
DTSTAMP:20260421T163228
CREATED:20250409T203002Z
LAST-MODIFIED:20250409T203002Z
UID:10003437-1747153800-1747157400@www.lowellpl.lib.in.us
SUMMARY:Kids Game Day
DESCRIPTION:Play board games with your friends.  You must pre-register by calling the library.
URL:https://www.lowellpl.lib.in.us/event/kids-game-day-46/
LOCATION:Shelby Branch\, 23323 Shelby Rd\, Shelby\, IN\, 46377\, United States
CATEGORIES:Events
ATTACH;FMTTYPE=image/bmp:https://www.lowellpl.lib.in.us/wp-content/uploads/2022/04/game-day.bmp
END:VEVENT
BEGIN:VEVENT
DTSTART;TZID=America/Chicago:20250513T163000
DTEND;TZID=America/Chicago:20250513T173000
DTSTAMP:20260421T163228
CREATED:20250412T141849Z
LAST-MODIFIED:20250412T141849Z
UID:10003447-1747153800-1747157400@www.lowellpl.lib.in.us
SUMMARY:Kids Craft
DESCRIPTION:Make a bird feeder using craft sticks. \n 
URL:https://www.lowellpl.lib.in.us/event/kids-craft-81/
LOCATION:Schneider Branch Library\, 24002 Parrish Ave\, Schneider\, IN\, 46376\, United States
CATEGORIES:Events
ATTACH;FMTTYPE=image/jpeg:https://www.lowellpl.lib.in.us/wp-content/uploads/2025/04/Craft-Stick-Bird-Feeder-e1744467466863.jpg
END:VEVENT
END:VCALENDAR