BEGIN:VCALENDAR
VERSION:2.0
PRODID:-//Lowell Public Library - Lowell, IN - ECPv6.7.0//NONSGML v1.0//EN
CALSCALE:GREGORIAN
METHOD:PUBLISH
X-WR-CALNAME:Lowell Public Library - Lowell, IN
X-ORIGINAL-URL:https://www.lowellpl.lib.in.us
X-WR-CALDESC:Events for Lowell Public Library - Lowell, IN
REFRESH-INTERVAL;VALUE=DURATION:PT1H
X-Robots-Tag:noindex
X-PUBLISHED-TTL:PT1H
BEGIN:VTIMEZONE
TZID:America/Chicago
BEGIN:DAYLIGHT
TZOFFSETFROM:-0600
TZOFFSETTO:-0500
TZNAME:CDT
DTSTART:20250309T080000
END:DAYLIGHT
BEGIN:STANDARD
TZOFFSETFROM:-0500
TZOFFSETTO:-0600
TZNAME:CST
DTSTART:20251102T070000
END:STANDARD
END:VTIMEZONE
BEGIN:VEVENT
DTSTART;TZID=America/Chicago:20250510T100000
DTEND;TZID=America/Chicago:20250510T110000
DTSTAMP:20260421T132710
CREATED:20250409T195427Z
LAST-MODIFIED:20250409T195427Z
UID:10003428-1746871200-1746874800@www.lowellpl.lib.in.us
SUMMARY:Coffee & Conversation
DESCRIPTION:Stop in for a cup of coffee. Stay for a chat. \n 
URL:https://www.lowellpl.lib.in.us/event/coffee-conversation-27/2025-05-10/
LOCATION:Shelby Branch\, 23323 Shelby Rd\, Shelby\, IN\, 46377\, United States
CATEGORIES:Events
ATTACH;FMTTYPE=image/jpeg:https://www.lowellpl.lib.in.us/wp-content/uploads/2023/07/coffee-and-conversation.jpeg
END:VEVENT
BEGIN:VEVENT
DTSTART;TZID=America/Chicago:20250512T130000
DTEND;TZID=America/Chicago:20250512T150000
DTSTAMP:20260421T132710
CREATED:20250404T185950Z
LAST-MODIFIED:20250404T185950Z
UID:10003388-1747054800-1747062000@www.lowellpl.lib.in.us
SUMMARY:Adult Book Club
DESCRIPTION:Read\, then meet to discuss Under the Southern Sky written by Kristy Woodson Harvey. \n 
URL:https://www.lowellpl.lib.in.us/event/adult-book-club-14/
LOCATION:Lowell Public Library\, 1505 E Commercial Ave\, Lowell\, IN\, 46356-2107\, United States
CATEGORIES:Events
ATTACH;FMTTYPE=image/jpeg:https://www.lowellpl.lib.in.us/wp-content/uploads/2025/04/Under-the-Souther-Sky.jpg
END:VEVENT
BEGIN:VEVENT
DTSTART;TZID=America/Chicago:20250512T160000
DTEND;TZID=America/Chicago:20250512T170000
DTSTAMP:20260421T132710
CREATED:20250409T194812Z
LAST-MODIFIED:20250409T194812Z
UID:10003425-1747065600-1747069200@www.lowellpl.lib.in.us
SUMMARY:Over 18 Game Days
DESCRIPTION:Get together to play cards or board games. \n 
URL:https://www.lowellpl.lib.in.us/event/over-18-game-days-2/2025-05-12/
LOCATION:Shelby Branch\, 23323 Shelby Rd\, Shelby\, IN\, 46377\, United States
CATEGORIES:Events
ATTACH;FMTTYPE=image/jpeg:https://www.lowellpl.lib.in.us/wp-content/uploads/2024/04/over-18-game-2.jpg
END:VEVENT
BEGIN:VEVENT
DTSTART;TZID=America/Chicago:20250512T180000
DTEND;TZID=America/Chicago:20250512T190000
DTSTAMP:20260421T132710
CREATED:20250411T213647Z
LAST-MODIFIED:20250411T213647Z
UID:10003441-1747072800-1747076400@www.lowellpl.lib.in.us
SUMMARY:Adult Ceramics
DESCRIPTION:Paint a Highland Cow.  You MUST sign up by calling the Schneider Branch BEFORE you can attend.
URL:https://www.lowellpl.lib.in.us/event/adult-ceramics-12/
LOCATION:Schneider Branch Library\, 24002 Parrish Ave\, Schneider\, IN\, 46376\, United States
CATEGORIES:Events
ATTACH;FMTTYPE=image/jpeg:https://www.lowellpl.lib.in.us/wp-content/uploads/2025/04/Highland-Cow-2.jpg
END:VEVENT
BEGIN:VEVENT
DTSTART;TZID=America/Chicago:20250513T163000
DTEND;TZID=America/Chicago:20250513T173000
DTSTAMP:20260421T132710
CREATED:20250409T203002Z
LAST-MODIFIED:20250409T203002Z
UID:10003437-1747153800-1747157400@www.lowellpl.lib.in.us
SUMMARY:Kids Game Day
DESCRIPTION:Play board games with your friends.  You must pre-register by calling the library.
URL:https://www.lowellpl.lib.in.us/event/kids-game-day-46/
LOCATION:Shelby Branch\, 23323 Shelby Rd\, Shelby\, IN\, 46377\, United States
CATEGORIES:Events
ATTACH;FMTTYPE=image/bmp:https://www.lowellpl.lib.in.us/wp-content/uploads/2022/04/game-day.bmp
END:VEVENT
BEGIN:VEVENT
DTSTART;TZID=America/Chicago:20250513T163000
DTEND;TZID=America/Chicago:20250513T173000
DTSTAMP:20260421T132710
CREATED:20250412T141849Z
LAST-MODIFIED:20250412T141849Z
UID:10003447-1747153800-1747157400@www.lowellpl.lib.in.us
SUMMARY:Kids Craft
DESCRIPTION:Make a bird feeder using craft sticks. \n 
URL:https://www.lowellpl.lib.in.us/event/kids-craft-81/
LOCATION:Schneider Branch Library\, 24002 Parrish Ave\, Schneider\, IN\, 46376\, United States
CATEGORIES:Events
ATTACH;FMTTYPE=image/jpeg:https://www.lowellpl.lib.in.us/wp-content/uploads/2025/04/Craft-Stick-Bird-Feeder-e1744467466863.jpg
END:VEVENT
BEGIN:VEVENT
DTSTART;TZID=America/Chicago:20250514T100000
DTEND;TZID=America/Chicago:20250514T120000
DTSTAMP:20260421T132710
CREATED:20250110T182256Z
LAST-MODIFIED:20250110T182256Z
UID:10003077-1747216800-1747224000@www.lowellpl.lib.in.us
SUMMARY:Drop-In Tech Help
DESCRIPTION:Do you have a question about how to use your phone\, tablet\, laptop\, or computer? Stop in during our drop-in hours and ask for Amanda—she will work with you to find the answer!   (First come\, first served) \n 
URL:https://www.lowellpl.lib.in.us/event/drop-in-tech-help-8/
LOCATION:Lowell Public Library\, 1505 E Commercial Ave\, Lowell\, IN\, 46356-2107\, United States
ATTACH;FMTTYPE=image/jpeg:https://www.lowellpl.lib.in.us/wp-content/uploads/2024/09/technology-Amanda.jpg
END:VEVENT
BEGIN:VEVENT
DTSTART;TZID=America/Chicago:20250514T163000
DTEND;TZID=America/Chicago:20250514T173000
DTSTAMP:20260421T132710
CREATED:20250409T201452Z
LAST-MODIFIED:20250409T201452Z
UID:10003433-1747240200-1747243800@www.lowellpl.lib.in.us
SUMMARY:YA Movie
DESCRIPTION:Watch a fun movie.  Enjoy chocolate chip cookies!  May 15th is National Chocolate Chip Cookie Day! You must pre-register.
URL:https://www.lowellpl.lib.in.us/event/ya-movie-3/
LOCATION:Shelby Branch\, 23323 Shelby Rd\, Shelby\, IN\, 46377\, United States
CATEGORIES:Events
ATTACH;FMTTYPE=image/png:https://www.lowellpl.lib.in.us/wp-content/uploads/2025/01/family-movie-night-feb.png
END:VEVENT
BEGIN:VEVENT
DTSTART;TZID=America/Chicago:20250514T163000
DTEND;TZID=America/Chicago:20250514T173000
DTSTAMP:20260421T132710
CREATED:20250411T214942Z
LAST-MODIFIED:20250411T214942Z
UID:10003444-1747240200-1747243800@www.lowellpl.lib.in.us
SUMMARY:YA/Teen Pizza
DESCRIPTION:Enjoy a slice of pizza and stay around for a chat.
URL:https://www.lowellpl.lib.in.us/event/ya-teen-pizza-2/
LOCATION:Schneider Branch Library\, 24002 Parrish Ave\, Schneider\, IN\, 46376\, United States
CATEGORIES:Events
ATTACH;FMTTYPE=image/jpeg:https://www.lowellpl.lib.in.us/wp-content/uploads/2022/03/pizza.jpg
END:VEVENT
BEGIN:VEVENT
DTSTART;TZID=America/Chicago:20250514T173000
DTEND;TZID=America/Chicago:20250514T190000
DTSTAMP:20260421T132710
CREATED:20250318T144342Z
LAST-MODIFIED:20250410T173101Z
UID:10003378-1747243800-1747249200@www.lowellpl.lib.in.us
SUMMARY:YA Campfire
DESCRIPTION:On WEDNESDAY\, MAY 14TH\, join other Young Adults in learning the ins and outs of fire safety\, building a campfire\, maintaining a campfire\, and properly extinguishing a campfire using water. \nOf course\, who could resist roasting marshmallows\, making s’mores\, and listening to spooky stories while sitting around a fire?! We’ll be hearing from a local author and storyteller from Crown Point while enjoying our tasty treats. \nThis program WILL BE OUTSIDE\, please dress for the weather. If rain is forecast\, we’ll make a decision ahead of time whether to continue on or reschedule for the following WEDNESDAY\, MAY 21. \nWe will be meeting at 5:30 to go over fire safety\, collect supplies and build our structure. Please pick your child up by 7pm. \n  \nThis is a free program for students 5th grade through 12th grade. For safety reasons\, please DO NOT sign up younger children. \nRegistration is required. \nRegistration opens on April 23. \n 
URL:https://www.lowellpl.lib.in.us/event/ya-campfire/
LOCATION:Lowell Public Library\, 1505 E Commercial Ave\, Lowell\, IN\, 46356-2107\, United States
CATEGORIES:Events,YA/Teen
ATTACH;FMTTYPE=image/webp:https://www.lowellpl.lib.in.us/wp-content/uploads/2025/03/roasting-marshmallows-outside-camp-tent-260nw-2493352639-e1742308964133.webp
END:VEVENT
BEGIN:VEVENT
DTSTART;TZID=America/Chicago:20250515T090000
DTEND;TZID=America/Chicago:20250515T120000
DTSTAMP:20260421T132710
CREATED:20250131T165606Z
LAST-MODIFIED:20251014T142700Z
UID:10003205-1747299600-1747310400@www.lowellpl.lib.in.us
SUMMARY:Knit & Crochet (Lowell)
DESCRIPTION:Meet up to knit and crochet\, and share patterns and tips.   \n 
URL:https://www.lowellpl.lib.in.us/event/knit-crochet-32/2025-05-15/
LOCATION:Lowell Public Library\, 1505 E Commercial Ave\, Lowell\, IN\, 46356-2107\, United States
CATEGORIES:Events
ATTACH;FMTTYPE=image/jpeg:https://www.lowellpl.lib.in.us/wp-content/uploads/2022/01/crochet.jpg
END:VEVENT
BEGIN:VEVENT
DTSTART;TZID=America/Chicago:20250515T160000
DTEND;TZID=America/Chicago:20250515T170000
DTSTAMP:20260421T132710
CREATED:20250409T195754Z
LAST-MODIFIED:20250409T195913Z
UID:10003430-1747324800-1747328400@www.lowellpl.lib.in.us
SUMMARY:Adult Book Discussion
DESCRIPTION:Read\, then meet to discuss The Housemaid\, written by Freida McFadden. \n 
URL:https://www.lowellpl.lib.in.us/event/adult-book-discussion-61/
LOCATION:Shelby Branch\, 23323 Shelby Rd\, Shelby\, IN\, 46377\, United States
CATEGORIES:Events
ATTACH;FMTTYPE=image/jpeg:https://www.lowellpl.lib.in.us/wp-content/uploads/2025/02/The-Housemaid.jpg
END:VEVENT
BEGIN:VEVENT
DTSTART;TZID=America/Chicago:20250516T103000
DTEND;TZID=America/Chicago:20250516T120000
DTSTAMP:20260421T132710
CREATED:20250307T154214Z
LAST-MODIFIED:20250307T154214Z
UID:10003312-1747391400-1747396800@www.lowellpl.lib.in.us
SUMMARY:Oral History Workshop
DESCRIPTION:Oral History Workshop with Author Samuel Love \nFridays: May 2-June 6\, 10:30-12 PM \nThis workshop series will teach the process and skills for conducting historical interviews.  Record life stories of yourself\, family members\, friends\, and acquaintances\, preserving history for future generations to read. Co-sponsored by the Three Creeks Historical Association and the library.  Attendance at each workshop is advised but not mandatory.  Pre-register for each session SEPARATELY at our website.  (Signing up for one session DOES NOT sign you up for the entire series)
URL:https://www.lowellpl.lib.in.us/event/oral-history-workshop-3/
LOCATION:Lowell Public Library\, 1505 E Commercial Ave\, Lowell\, IN\, 46356-2107\, United States
CATEGORIES:Events
ATTACH;FMTTYPE=image/jpeg:https://www.lowellpl.lib.in.us/wp-content/uploads/2025/03/oral-history.jpg
END:VEVENT
BEGIN:VEVENT
DTSTART;TZID=America/Chicago:20250517T100000
DTEND;TZID=America/Chicago:20250517T120000
DTSTAMP:20260421T132710
CREATED:20241127T151929Z
LAST-MODIFIED:20250527T174346Z
UID:10002970-1747476000-1747483200@www.lowellpl.lib.in.us
SUMMARY:Poetry (Lowell)
DESCRIPTION:Aspiring poets can join the NW Indiana Poetry Society. Bring  your works or that of your favorite poet. \n 
URL:https://www.lowellpl.lib.in.us/event/poetry-21/2025-05-17/
LOCATION:Lowell Public Library\, 1505 E Commercial Ave\, Lowell\, IN\, 46356-2107\, United States
CATEGORIES:Events
ATTACH;FMTTYPE=image/jpeg:https://www.lowellpl.lib.in.us/wp-content/uploads/2022/01/poetry-pencil.jpg
END:VEVENT
BEGIN:VEVENT
DTSTART;TZID=America/Chicago:20250517T100000
DTEND;TZID=America/Chicago:20250517T120000
DTSTAMP:20260421T132710
CREATED:20250409T195230Z
LAST-MODIFIED:20250409T195230Z
UID:10003427-1747476000-1747483200@www.lowellpl.lib.in.us
SUMMARY:Movies for Grown-Ups
DESCRIPTION:Enjoy a morning movie at the library. Title to be determined. \n 
URL:https://www.lowellpl.lib.in.us/event/movies-for-grown-ups-17/
LOCATION:Shelby Branch\, 23323 Shelby Rd\, Shelby\, IN\, 46377\, United States
CATEGORIES:Events
ATTACH;FMTTYPE=image/jpeg:https://www.lowellpl.lib.in.us/wp-content/uploads/2023/01/movie-2.jpg
END:VEVENT
BEGIN:VEVENT
DTSTART;TZID=America/Chicago:20250519T160000
DTEND;TZID=America/Chicago:20250519T170000
DTSTAMP:20260421T132710
CREATED:20250409T194812Z
LAST-MODIFIED:20250409T194812Z
UID:10003426-1747670400-1747674000@www.lowellpl.lib.in.us
SUMMARY:Over 18 Game Days
DESCRIPTION:Get together to play cards or board games. \n 
URL:https://www.lowellpl.lib.in.us/event/over-18-game-days-2/2025-05-19/
LOCATION:Shelby Branch\, 23323 Shelby Rd\, Shelby\, IN\, 46377\, United States
CATEGORIES:Events
ATTACH;FMTTYPE=image/jpeg:https://www.lowellpl.lib.in.us/wp-content/uploads/2024/04/over-18-game-2.jpg
END:VEVENT
BEGIN:VEVENT
DTSTART;TZID=America/Chicago:20250520T100000
DTEND;TZID=America/Chicago:20250520T113000
DTSTAMP:20260421T132710
CREATED:20241127T152223Z
LAST-MODIFIED:20250527T174106Z
UID:10002982-1747735200-1747740600@www.lowellpl.lib.in.us
SUMMARY:Adult Coloring (Lowell)
DESCRIPTION:Join in on the fun!  Coloring helps us de-stress and stimulates brain areas related to motor skills. All supplies will be provided or you may bring your own. \n 
URL:https://www.lowellpl.lib.in.us/event/adult-coloring-35/2025-05-20/
LOCATION:Lowell Public Library\, 1505 E Commercial Ave\, Lowell\, IN\, 46356-2107\, United States
CATEGORIES:Events
ATTACH;FMTTYPE=image/jpeg:https://www.lowellpl.lib.in.us/wp-content/uploads/2022/01/coloring.jpg
END:VEVENT
BEGIN:VEVENT
DTSTART;TZID=America/Chicago:20250520T160000
DTEND;TZID=America/Chicago:20250520T170000
DTSTAMP:20260421T132710
CREATED:20250408T151921Z
LAST-MODIFIED:20250408T151921Z
UID:10003393-1747756800-1747760400@www.lowellpl.lib.in.us
SUMMARY:Tales for Tails
DESCRIPTION:Tuesday’s \nMay 6th\, 20th and 27th 4 P.M—5 P.M \nRead or just visit with a certified therapy dog \nJoin us on Tuesdays as we will be offering the opportunity for kids to read or just visit with therapy dogs. \nThis is a fun program\, where children get a chance to cozy up with a loveable pup and practice their reading skills. Kids can read to one of the therapy dogs for a few minutes or just visit with one. Some of these talented pups have pretty neat talents to share as well! Such a fun way to build confidence\, and increase the kids love of reading! \n*REGISTRATION IS REQUIRED* \nRegistration opens Monday\, April 21st \n 
URL:https://www.lowellpl.lib.in.us/event/tales-for-tails-71/
LOCATION:Lowell Public Library\, 1505 E Commercial Ave\, Lowell\, IN\, 46356-2107\, United States
CATEGORIES:Events
ATTACH;FMTTYPE=image/jpeg:https://www.lowellpl.lib.in.us/wp-content/uploads/2023/05/therapy-dog.jpg
END:VEVENT
BEGIN:VEVENT
DTSTART;TZID=America/Chicago:20250520T163000
DTEND;TZID=America/Chicago:20250520T173000
DTSTAMP:20260421T132710
CREATED:20250409T203242Z
LAST-MODIFIED:20250409T203242Z
UID:10003438-1747758600-1747762200@www.lowellpl.lib.in.us
SUMMARY:Kids Craft
DESCRIPTION:Celebrate Amelia Earhart Day by creating and coloring paper airplanes.  You must pre-register by calling the library. \n 
URL:https://www.lowellpl.lib.in.us/event/kids-craft-79/
LOCATION:Shelby Branch\, 23323 Shelby Rd\, Shelby\, IN\, 46377\, United States
CATEGORIES:Events
ATTACH;FMTTYPE=image/png:https://www.lowellpl.lib.in.us/wp-content/uploads/2023/07/paper-airplane.png
END:VEVENT
BEGIN:VEVENT
DTSTART;TZID=America/Chicago:20250520T163000
DTEND;TZID=America/Chicago:20250520T173000
DTSTAMP:20260421T132710
CREATED:20250412T142752Z
LAST-MODIFIED:20250412T142752Z
UID:10003448-1747758600-1747762200@www.lowellpl.lib.in.us
SUMMARY:Kids Pick-A-Craft
DESCRIPTION:Choose a craft using supplies we have on hand.
URL:https://www.lowellpl.lib.in.us/event/kids-pick-a-craft-2/
LOCATION:Schneider Branch Library\, 24002 Parrish Ave\, Schneider\, IN\, 46376\, United States
CATEGORIES:Events
ATTACH;FMTTYPE=image/jpeg:https://www.lowellpl.lib.in.us/wp-content/uploads/2022/11/craft-supplies.jpg
END:VEVENT
BEGIN:VEVENT
DTSTART;TZID=America/Chicago:20250520T180000
DTEND;TZID=America/Chicago:20250520T190000
DTSTAMP:20260421T132710
CREATED:20250404T194805Z
LAST-MODIFIED:20250404T194805Z
UID:10003390-1747764000-1747767600@www.lowellpl.lib.in.us
SUMMARY:Library Board Meets
DESCRIPTION:The regular meeting of the Lowell Public Library Board of Trustees will be held. \n  \n 
URL:https://www.lowellpl.lib.in.us/event/library-board-meets-39/
LOCATION:Lowell Public Library\, 1505 E Commercial Ave\, Lowell\, IN\, 46356-2107\, United States
CATEGORIES:Events
ATTACH;FMTTYPE=image/jpeg:https://www.lowellpl.lib.in.us/wp-content/uploads/2022/01/board-meeting-3.jpg
END:VEVENT
BEGIN:VEVENT
DTSTART;TZID=America/Chicago:20250521T163000
DTEND;TZID=America/Chicago:20250521T173000
DTSTAMP:20260421T132710
CREATED:20250409T201749Z
LAST-MODIFIED:20250409T201749Z
UID:10003434-1747845000-1747848600@www.lowellpl.lib.in.us
SUMMARY:YA Craft
DESCRIPTION:Paint a wood star- patriotic style!  You must pre-register by calling the library.
URL:https://www.lowellpl.lib.in.us/event/ya-craft-2/
LOCATION:Shelby Branch\, 23323 Shelby Rd\, Shelby\, IN\, 46377\, United States
CATEGORIES:Events
ATTACH;FMTTYPE=image/jpeg:https://www.lowellpl.lib.in.us/wp-content/uploads/2025/04/Patriotic-Wood-Star.jpg
END:VEVENT
BEGIN:VEVENT
DTSTART;TZID=America/Chicago:20250521T163000
DTEND;TZID=America/Chicago:20250521T173000
DTSTAMP:20260421T132710
CREATED:20250412T141009Z
LAST-MODIFIED:20250412T141009Z
UID:10003445-1747845000-1747848600@www.lowellpl.lib.in.us
SUMMARY:YA/Teen Game Day
DESCRIPTION:Play board games with your friends.
URL:https://www.lowellpl.lib.in.us/event/ya-teen-game-day-9/
LOCATION:Schneider Branch Library\, 24002 Parrish Ave\, Schneider\, IN\, 46376\, United States
CATEGORIES:Events
ATTACH;FMTTYPE=image/jpeg:https://www.lowellpl.lib.in.us/wp-content/uploads/2022/02/games.jpg
END:VEVENT
BEGIN:VEVENT
DTSTART;TZID=America/Chicago:20250522T090000
DTEND;TZID=America/Chicago:20250522T120000
DTSTAMP:20260421T132710
CREATED:20250131T165606Z
LAST-MODIFIED:20251014T142700Z
UID:10003206-1747904400-1747915200@www.lowellpl.lib.in.us
SUMMARY:Knit & Crochet (Lowell)
DESCRIPTION:Meet up to knit and crochet\, and share patterns and tips.   \n 
URL:https://www.lowellpl.lib.in.us/event/knit-crochet-32/2025-05-22/
LOCATION:Lowell Public Library\, 1505 E Commercial Ave\, Lowell\, IN\, 46356-2107\, United States
CATEGORIES:Events
ATTACH;FMTTYPE=image/jpeg:https://www.lowellpl.lib.in.us/wp-content/uploads/2022/01/crochet.jpg
END:VEVENT
BEGIN:VEVENT
DTSTART;TZID=America/Chicago:20250523T103000
DTEND;TZID=America/Chicago:20250523T120000
DTSTAMP:20260421T132710
CREATED:20250307T154506Z
LAST-MODIFIED:20250307T154506Z
UID:10003313-1747996200-1748001600@www.lowellpl.lib.in.us
SUMMARY:Oral History Workshop
DESCRIPTION:Oral History Workshop with Author Samuel Love \nFridays: May 2-June 6\, 10:30-12 PM \nThis workshop series will teach the process and skills for conducting historical interviews.  Record life stories of yourself\, family members\, friends\, and acquaintances\, preserving history for future generations to read. Co-sponsored by the Three Creeks Historical Association and the library.  Attendance at each workshop is advised but not mandatory.  Pre-register for each session SEPARATELY at our website.  (Signing up for one session DOES NOT sign you up for the entire series)
URL:https://www.lowellpl.lib.in.us/event/oral-history-workshop-4/
LOCATION:Lowell Public Library\, 1505 E Commercial Ave\, Lowell\, IN\, 46356-2107\, United States
CATEGORIES:Events
ATTACH;FMTTYPE=image/jpeg:https://www.lowellpl.lib.in.us/wp-content/uploads/2025/03/oral-history.jpg
END:VEVENT
BEGIN:VEVENT
DTSTART;TZID=America/Chicago:20250524T100000
DTEND;TZID=America/Chicago:20250524T110000
DTSTAMP:20260421T132710
CREATED:20250409T195427Z
LAST-MODIFIED:20250409T195427Z
UID:10003429-1748080800-1748084400@www.lowellpl.lib.in.us
SUMMARY:Coffee & Conversation
DESCRIPTION:Stop in for a cup of coffee. Stay for a chat. \n 
URL:https://www.lowellpl.lib.in.us/event/coffee-conversation-27/2025-05-24/
LOCATION:Shelby Branch\, 23323 Shelby Rd\, Shelby\, IN\, 46377\, United States
CATEGORIES:Events
ATTACH;FMTTYPE=image/jpeg:https://www.lowellpl.lib.in.us/wp-content/uploads/2023/07/coffee-and-conversation.jpeg
END:VEVENT
BEGIN:VEVENT
DTSTART;TZID=America/Chicago:20250524T100000
DTEND;TZID=America/Chicago:20250524T120000
DTSTAMP:20260421T132710
CREATED:20250411T214003Z
LAST-MODIFIED:20250415T204845Z
UID:10003442-1748080800-1748088000@www.lowellpl.lib.in.us
SUMMARY:Garden Series
DESCRIPTION:We will be giving away daylilies. Learn how to plant and care for them. Please sign up so we know how many to expect. \n 
URL:https://www.lowellpl.lib.in.us/event/garden-series-2/
LOCATION:Schneider Branch Library\, 24002 Parrish Ave\, Schneider\, IN\, 46376\, United States
CATEGORIES:Events
ATTACH;FMTTYPE=image/png:https://www.lowellpl.lib.in.us/wp-content/uploads/2025/04/Garden-Club.png
END:VEVENT
BEGIN:VEVENT
DTSTART;TZID=America/Chicago:20250526T090000
DTEND;TZID=America/Chicago:20250526T200000
DTSTAMP:20260421T132710
CREATED:20250402T172408Z
LAST-MODIFIED:20250402T172408Z
UID:10003383-1748250000-1748289600@www.lowellpl.lib.in.us
SUMMARY:Library Closed
DESCRIPTION:The Lowell\, Schneider and Shelby libraries will be closed all day in observance of Memorial Day.
URL:https://www.lowellpl.lib.in.us/event/library-closed-8/
LOCATION:IN
CATEGORIES:Events
ATTACH;FMTTYPE=image/jpeg:https://www.lowellpl.lib.in.us/wp-content/uploads/2023/01/memorial-day.jpg
END:VEVENT
BEGIN:VEVENT
DTSTART;TZID=America/Chicago:20250527T160000
DTEND;TZID=America/Chicago:20250527T170000
DTSTAMP:20260421T132710
CREATED:20250408T152313Z
LAST-MODIFIED:20250527T172741Z
UID:10003394-1748361600-1748365200@www.lowellpl.lib.in.us
SUMMARY:Tales for Tails (Lowell)
DESCRIPTION:Tuesday’s \nMay 6th\, 20th and 27th 4 P.M—5 P.M \nRead or just visit with a certified therapy dog \nJoin us on Tuesdays as we will be offering the opportunity for kids to read or just visit with therapy dogs. \nThis is a fun program\, where children get a chance to cozy up with a loveable pup and practice their reading skills. Kids can read to one of the therapy dogs for a few minutes or just visit with one. Some of these talented pups have pretty neat talents to share as well! Such a fun way to build confidence\, and increase the kids love of reading! \n*REGISTRATION IS REQUIRED* \nRegistration opens Monday\, April 21st \n  \n 
URL:https://www.lowellpl.lib.in.us/event/tales-for-tails-72/
LOCATION:Lowell Public Library\, 1505 E Commercial Ave\, Lowell\, IN\, 46356-2107\, United States
CATEGORIES:Events
ATTACH;FMTTYPE=image/jpeg:https://www.lowellpl.lib.in.us/wp-content/uploads/2023/05/therapy-dog.jpg
END:VEVENT
BEGIN:VEVENT
DTSTART;TZID=America/Chicago:20250527T163000
DTEND;TZID=America/Chicago:20250527T173000
DTSTAMP:20260421T132710
CREATED:20250409T203504Z
LAST-MODIFIED:20250527T172804Z
UID:10003439-1748363400-1748367000@www.lowellpl.lib.in.us
SUMMARY:Kids Wii Games (Shelby)
DESCRIPTION:Play a variety of Wii games with your friends.  You must pre-register by calling the library.
URL:https://www.lowellpl.lib.in.us/event/kids-wii-games-2/
LOCATION:Shelby Branch\, 23323 Shelby Rd\, Shelby\, IN\, 46377\, United States
CATEGORIES:Events
ATTACH;FMTTYPE=image/jpeg:https://www.lowellpl.lib.in.us/wp-content/uploads/2022/12/wii-remotes.jpg
END:VEVENT
END:VCALENDAR