BEGIN:VCALENDAR
VERSION:2.0
PRODID:-//Lowell Public Library - Lowell, IN - ECPv6.7.0//NONSGML v1.0//EN
CALSCALE:GREGORIAN
METHOD:PUBLISH
X-WR-CALNAME:Lowell Public Library - Lowell, IN
X-ORIGINAL-URL:https://www.lowellpl.lib.in.us
X-WR-CALDESC:Events for Lowell Public Library - Lowell, IN
REFRESH-INTERVAL;VALUE=DURATION:PT1H
X-Robots-Tag:noindex
X-PUBLISHED-TTL:PT1H
BEGIN:VTIMEZONE
TZID:America/Chicago
BEGIN:DAYLIGHT
TZOFFSETFROM:-0600
TZOFFSETTO:-0500
TZNAME:CDT
DTSTART:20250309T080000
END:DAYLIGHT
BEGIN:STANDARD
TZOFFSETFROM:-0500
TZOFFSETTO:-0600
TZNAME:CST
DTSTART:20251102T070000
END:STANDARD
END:VTIMEZONE
BEGIN:VEVENT
DTSTART;TZID=America/Chicago:20250610T103000
DTEND;TZID=America/Chicago:20250610T110000
DTSTAMP:20260421T163052
CREATED:20250408T154333Z
LAST-MODIFIED:20250527T173433Z
UID:10003395-1749551400-1749553200@www.lowellpl.lib.in.us
SUMMARY:Paper Plate Jellyfish (Lowell)
DESCRIPTION:Tuesday\, June 10th \nPaper Plate Jellyfish! \n10:30 A.M \nOR \n1:30 P.M \nJoin Miss Jackie to make an adorable jellyfish! \nThis is a program for children ages birth– 4th grade \nto enjoy with a parent/adult. \nREGISTRATION IS REQUIRED \nPlease sign up online or call \n#219-696-7704 \nREGISTRATION OPENS Monday\, May 27th \n 
URL:https://www.lowellpl.lib.in.us/event/paper-plate-jellyfish/
LOCATION:Lowell Public Library\, 1505 E Commercial Ave\, Lowell\, IN\, 46356-2107\, United States
CATEGORIES:Events,Kids
ATTACH;FMTTYPE=image/png:https://www.lowellpl.lib.in.us/wp-content/uploads/2025/04/jellyfish.png
END:VEVENT
BEGIN:VEVENT
DTSTART;TZID=America/Chicago:20250610T113000
DTEND;TZID=America/Chicago:20250610T123000
DTSTAMP:20260421T163052
CREATED:20250512T194523Z
LAST-MODIFIED:20250527T173452Z
UID:10004594-1749555000-1749558600@www.lowellpl.lib.in.us
SUMMARY:Paper Plate Jellyfish (Schneider)
DESCRIPTION:Make an adorable jellyfish! This is a program for children ages birth– 4th grade to enjoy with a parent/adult.
URL:https://www.lowellpl.lib.in.us/event/paper-plate-jellyfish-4/
LOCATION:Schneider Branch Library\, 24002 Parrish Ave\, Schneider\, IN\, 46376\, United States
CATEGORIES:Events
ATTACH;FMTTYPE=image/png:https://www.lowellpl.lib.in.us/wp-content/uploads/2025/04/jellyfish.png
END:VEVENT
BEGIN:VEVENT
DTSTART;TZID=America/Chicago:20250610T133000
DTEND;TZID=America/Chicago:20250610T140000
DTSTAMP:20260421T163052
CREATED:20250408T154550Z
LAST-MODIFIED:20250527T173514Z
UID:10003396-1749562200-1749564000@www.lowellpl.lib.in.us
SUMMARY:Paper Plate Jellyfish (Lowell)
DESCRIPTION:Tuesday\, June 10th \nPaper Plate Jellyfish! \n10:30 A.M \nOR \n1:30 P.M \nJoin Miss Jackie to make an adorable jellyfish! \nThis is a program for children ages birth– 4th grade \nto enjoy with a parent/adult. \nREGISTRATION IS REQUIRED \nPlease sign up online or call \n#219-696-7704 \nREGISTRATION OPENS Monday\, May 27th \n 
URL:https://www.lowellpl.lib.in.us/event/paper-plate-jellyfish-2/
LOCATION:Lowell Public Library\, 1505 E Commercial Ave\, Lowell\, IN\, 46356-2107\, United States
CATEGORIES:Events,Kids
ATTACH;FMTTYPE=image/png:https://www.lowellpl.lib.in.us/wp-content/uploads/2025/04/jellyfish.png
END:VEVENT
BEGIN:VEVENT
DTSTART;TZID=America/Chicago:20250610T160000
DTEND;TZID=America/Chicago:20250610T170000
DTSTAMP:20260421T163052
CREATED:20250506T230847Z
LAST-MODIFIED:20250527T173536Z
UID:10004583-1749571200-1749574800@www.lowellpl.lib.in.us
SUMMARY:Paper Plate Jellyfish (Shelby)
DESCRIPTION:Make an adorable jellyfish! This is a program for children ages birth– 4th grade to enjoy with a parent/adult.
URL:https://www.lowellpl.lib.in.us/event/paper-plate-jellyfish-3/
LOCATION:Shelby Branch\, 23323 Shelby Rd\, Shelby\, IN\, 46377\, United States
ATTACH;FMTTYPE=image/png:https://www.lowellpl.lib.in.us/wp-content/uploads/2025/04/jellyfish.png
END:VEVENT
BEGIN:VEVENT
DTSTART;TZID=America/Chicago:20250610T160000
DTEND;TZID=America/Chicago:20250610T170000
DTSTAMP:20260421T163052
CREATED:20250519T203516Z
LAST-MODIFIED:20250527T173550Z
UID:10004604-1749571200-1749574800@www.lowellpl.lib.in.us
SUMMARY:Tales for Tails (Lowell)
DESCRIPTION:Tuesday’s \nJune 3rd\, 10th\, 17th\, 24th \nRead or just visit with a certified therapy dog \nJoin us on Tuesdays as we will be offering the opportunity for kids to read or just visit with therapy dogs. \nThis is a fun program\, where children get a chance to cozy up with a loveable pup and practice their reading skills. Kids can read to one of the therapy dogs for a few minutes or just visit with one. Some of these talented pups have pretty neat talents to share as well! Such a fun way to build confidence\, and increase the kids love of reading! \n*REGISTRATION IS REQUIRED* \nRegistration opens Tuesday\, May 19th \n  \n 
URL:https://www.lowellpl.lib.in.us/event/tales-for-tails-74/
LOCATION:Lowell Public Library\, 1505 E Commercial Ave\, Lowell\, IN\, 46356-2107\, United States
CATEGORIES:Events,Kids
ATTACH;FMTTYPE=image/jpeg:https://www.lowellpl.lib.in.us/wp-content/uploads/2023/05/therapy-dog.jpg
END:VEVENT
BEGIN:VEVENT
DTSTART;TZID=America/Chicago:20250611T090000
DTEND;TZID=America/Chicago:20250611T193000
DTSTAMP:20260421T163052
CREATED:20250505T181716Z
LAST-MODIFIED:20250527T173906Z
UID:10004566-1749632400-1749670200@www.lowellpl.lib.in.us
SUMMARY:Scholastic Book Fair (Lowell)
DESCRIPTION:The Friends of the Lowell Public Library will hold their annual summer Scholastic Book Fair June 9-13. Proceeds from the book fair are used to purchase books and prizes for library programs.   \n Shop online June 9-22 at  https://www.scholastic.com/bf/lowellpubliclibrary.  Families can choose from thousands of books and orders will ship direct to home\, with free standard shipping on book-only purchases over $25. \n 
URL:https://www.lowellpl.lib.in.us/event/scholastic-book-fair-8/2025-06-11/
LOCATION:Lowell Public Library\, 1505 E Commercial Ave\, Lowell\, IN\, 46356-2107\, United States
ATTACH;FMTTYPE=image/jpeg:https://www.lowellpl.lib.in.us/wp-content/uploads/2022/04/Book20Fair203.jpg
END:VEVENT
BEGIN:VEVENT
DTSTART;TZID=America/Chicago:20250611T100000
DTEND;TZID=America/Chicago:20250611T120000
DTSTAMP:20260421T163052
CREATED:20250110T182321Z
LAST-MODIFIED:20250527T173609Z
UID:10003078-1749636000-1749643200@www.lowellpl.lib.in.us
SUMMARY:Drop-In Tech Help (Lowell)
DESCRIPTION:Do you have a question about how to use your phone\, tablet\, laptop\, or computer? Stop in during our drop-in hours and ask for Amanda—she will work with you to find the answer!   (First come\, first served) \n 
URL:https://www.lowellpl.lib.in.us/event/drop-in-tech-help-9/
LOCATION:Lowell Public Library\, 1505 E Commercial Ave\, Lowell\, IN\, 46356-2107\, United States
ATTACH;FMTTYPE=image/jpeg:https://www.lowellpl.lib.in.us/wp-content/uploads/2024/09/technology-Amanda.jpg
END:VEVENT
BEGIN:VEVENT
DTSTART;TZID=America/Chicago:20250611T130000
DTEND;TZID=America/Chicago:20250611T143000
DTSTAMP:20260421T163052
CREATED:20250421T170405Z
LAST-MODIFIED:20250527T171031Z
UID:10003451-1749646800-1749652200@www.lowellpl.lib.in.us
SUMMARY:YA Summer Kickball (Lowell)
DESCRIPTION:Who wants to play kickball? \nJoin other teens & tweens for an epic game of kickball on WEDNESDAY\, June 11th at 1pm. \nUltimate frisbee is our backup plan if we don’t have enough players\, so if you want to play kickball\, bring some friends! \nDon’t forget to wear athletic shoes! \nThis is free event students starting 5th grade through 12th grade. Pre-registration is required. \nRegistration opens on June 4th.
URL:https://www.lowellpl.lib.in.us/event/ya-summer-kickball/
LOCATION:Lowell Public Library\, 1505 E Commercial Ave\, Lowell\, IN\, 46356-2107\, United States
CATEGORIES:Events,YA/Teen
ATTACH;FMTTYPE=image/jpeg:https://www.lowellpl.lib.in.us/wp-content/uploads/2025/04/kickball-IMAGE.jpg
END:VEVENT
BEGIN:VEVENT
DTSTART;TZID=America/Chicago:20250611T160000
DTEND;TZID=America/Chicago:20250611T170000
DTSTAMP:20260421T163052
CREATED:20250506T225452Z
LAST-MODIFIED:20250527T171114Z
UID:10004580-1749657600-1749661200@www.lowellpl.lib.in.us
SUMMARY:YA Key Rack (Shelby)
DESCRIPTION:Make a key rack. Sand down the wood\, drill holes for hooks\, stain\, and take it home! Miss Emily will bring everything you need. \n 
URL:https://www.lowellpl.lib.in.us/event/ya-key-rack/
LOCATION:Shelby Branch\, 23323 Shelby Rd\, Shelby\, IN\, 46377\, United States
ATTACH;FMTTYPE=image/jpeg:https://www.lowellpl.lib.in.us/wp-content/uploads/2025/04/image001.jpg
END:VEVENT
BEGIN:VEVENT
DTSTART;TZID=America/Chicago:20250611T160000
DTEND;TZID=America/Chicago:20250611T170000
DTSTAMP:20260421T163052
CREATED:20250512T193846Z
LAST-MODIFIED:20250527T171051Z
UID:10004592-1749657600-1749661200@www.lowellpl.lib.in.us
SUMMARY:YA Water Wars (Schneider)
DESCRIPTION:Engage in various water fights.  Snacks will be provided.   \n 
URL:https://www.lowellpl.lib.in.us/event/ya-water-wars-2/
LOCATION:Schneider Branch Library\, 24002 Parrish Ave\, Schneider\, IN\, 46376\, United States
CATEGORIES:Events
ATTACH;FMTTYPE=image/jpeg:https://www.lowellpl.lib.in.us/wp-content/uploads/2022/05/water-balloons.jpg
END:VEVENT
BEGIN:VEVENT
DTSTART;TZID=America/Chicago:20250612T090000
DTEND;TZID=America/Chicago:20250612T120000
DTSTAMP:20260421T163052
CREATED:20250131T165606Z
LAST-MODIFIED:20251014T142700Z
UID:10003209-1749718800-1749729600@www.lowellpl.lib.in.us
SUMMARY:Knit & Crochet (Lowell)
DESCRIPTION:Meet up to knit and crochet\, and share patterns and tips.   \n 
URL:https://www.lowellpl.lib.in.us/event/knit-crochet-32/2025-06-12/
LOCATION:Lowell Public Library\, 1505 E Commercial Ave\, Lowell\, IN\, 46356-2107\, United States
CATEGORIES:Events
ATTACH;FMTTYPE=image/jpeg:https://www.lowellpl.lib.in.us/wp-content/uploads/2022/01/crochet.jpg
END:VEVENT
BEGIN:VEVENT
DTSTART;TZID=America/Chicago:20250612T090000
DTEND;TZID=America/Chicago:20250612T193000
DTSTAMP:20260421T163052
CREATED:20250505T181716Z
LAST-MODIFIED:20250527T173906Z
UID:10004567-1749718800-1749756600@www.lowellpl.lib.in.us
SUMMARY:Scholastic Book Fair (Lowell)
DESCRIPTION:The Friends of the Lowell Public Library will hold their annual summer Scholastic Book Fair June 9-13. Proceeds from the book fair are used to purchase books and prizes for library programs.   \n Shop online June 9-22 at  https://www.scholastic.com/bf/lowellpubliclibrary.  Families can choose from thousands of books and orders will ship direct to home\, with free standard shipping on book-only purchases over $25. \n 
URL:https://www.lowellpl.lib.in.us/event/scholastic-book-fair-8/2025-06-12/
LOCATION:Lowell Public Library\, 1505 E Commercial Ave\, Lowell\, IN\, 46356-2107\, United States
ATTACH;FMTTYPE=image/jpeg:https://www.lowellpl.lib.in.us/wp-content/uploads/2022/04/Book20Fair203.jpg
END:VEVENT
BEGIN:VEVENT
DTSTART;TZID=America/Chicago:20250612T103000
DTEND;TZID=America/Chicago:20250612T110000
DTSTAMP:20260421T163052
CREATED:20250410T143654Z
LAST-MODIFIED:20250527T173642Z
UID:10003440-1749724200-1749726000@www.lowellpl.lib.in.us
SUMMARY:Painted Treasure Box (Lowell)
DESCRIPTION:Thursday\, June 12th \nTreasure chest \n10:30 A.M \nOR \n1:30 P.M \nJoin Miss Jackie to make this cool treasure chest \n(treasure not included!) \nThis is a program for children ages birth– 4th grade \nto enjoy with a parent/adult. \nREGISTRATION IS REQUIRED \nPlease sign up online or call \n#219-696-7704 \nREGISTRATION OPENS Tuesday\, May 27th \n 
URL:https://www.lowellpl.lib.in.us/event/painted-treasure-box-3/
LOCATION:Lowell Public Library\, 1505 E Commercial Ave\, Lowell\, IN\, 46356-2107\, United States
CATEGORIES:Events,Kids
ATTACH;FMTTYPE=image/png:https://www.lowellpl.lib.in.us/wp-content/uploads/2025/04/treasure-chest-june-12th.png
END:VEVENT
BEGIN:VEVENT
DTSTART;TZID=America/Chicago:20250612T113000
DTEND;TZID=America/Chicago:20250612T123000
DTSTAMP:20260421T163052
CREATED:20250512T195306Z
LAST-MODIFIED:20250527T173655Z
UID:10004597-1749727800-1749731400@www.lowellpl.lib.in.us
SUMMARY:Painted Treasure Box (Schneider)
DESCRIPTION:Make this cool treasure chest (treasure not included!). This is a program for children ages birth– 4th grade to enjoy with a parent/adult.
URL:https://www.lowellpl.lib.in.us/event/painted-treasure-box-4/
LOCATION:Schneider Branch Library\, 24002 Parrish Ave\, Schneider\, IN\, 46376\, United States
CATEGORIES:Events
ATTACH;FMTTYPE=image/png:https://www.lowellpl.lib.in.us/wp-content/uploads/2025/04/treasure-chest-june-12th.png
END:VEVENT
BEGIN:VEVENT
DTSTART;TZID=America/Chicago:20250612T133000
DTEND;TZID=America/Chicago:20250612T140000
DTSTAMP:20260421T163052
CREATED:20250408T162208Z
LAST-MODIFIED:20250527T173718Z
UID:10003398-1749735000-1749736800@www.lowellpl.lib.in.us
SUMMARY:Painted Treasure Box (Lowell)
DESCRIPTION:Thursday\, June 12th \nTreasure chest \n10:30 A.M \nOR \n1:30 P.M \nJoin Miss Jackie to make this cool treasure chest \n(treasure not included!) \nThis is a program for children ages birth– 4th grade \nto enjoy with a parent/adult. \nREGISTRATION IS REQUIRED \nPlease sign up online or call \n#219-696-7704 \nREGISTRATION OPENS Tuesday\, May 27th \n 
URL:https://www.lowellpl.lib.in.us/event/painted-treasure-box-2/
LOCATION:Lowell Public Library\, 1505 E Commercial Ave\, Lowell\, IN\, 46356-2107\, United States
CATEGORIES:Events,Kids
ATTACH;FMTTYPE=image/png:https://www.lowellpl.lib.in.us/wp-content/uploads/2025/04/treasure-chest-june-12th.png
END:VEVENT
BEGIN:VEVENT
DTSTART;TZID=America/Chicago:20250612T160000
DTEND;TZID=America/Chicago:20250612T170000
DTSTAMP:20260421T163052
CREATED:20250506T231837Z
LAST-MODIFIED:20250527T173734Z
UID:10004586-1749744000-1749747600@www.lowellpl.lib.in.us
SUMMARY:Painted Treasure Box (Shelby)
DESCRIPTION:Make this cool treasure chest (treasure not included!). This is a program for children ages birth– 4th grade to enjoy with a parent/adult.
URL:https://www.lowellpl.lib.in.us/event/painted-treasure-box/
LOCATION:Shelby Branch\, 23323 Shelby Rd\, Shelby\, IN\, 46377\, United States
CATEGORIES:Events
ATTACH;FMTTYPE=image/png:https://www.lowellpl.lib.in.us/wp-content/uploads/2025/04/treasure-chest-june-12th.png
END:VEVENT
BEGIN:VEVENT
DTSTART;TZID=America/Chicago:20250613T090000
DTEND;TZID=America/Chicago:20250613T163000
DTSTAMP:20260421T163052
CREATED:20250505T181716Z
LAST-MODIFIED:20250527T173906Z
UID:10004568-1749805200-1749832200@www.lowellpl.lib.in.us
SUMMARY:Scholastic Book Fair (Lowell)
DESCRIPTION:The Friends of the Lowell Public Library will hold their annual summer Scholastic Book Fair June 9-13. Proceeds from the book fair are used to purchase books and prizes for library programs.   \n Shop online June 9-22 at  https://www.scholastic.com/bf/lowellpubliclibrary.  Families can choose from thousands of books and orders will ship direct to home\, with free standard shipping on book-only purchases over $25. \n 
URL:https://www.lowellpl.lib.in.us/event/scholastic-book-fair-8/2025-06-13/
LOCATION:Lowell Public Library\, 1505 E Commercial Ave\, Lowell\, IN\, 46356-2107\, United States
ATTACH;FMTTYPE=image/jpeg:https://www.lowellpl.lib.in.us/wp-content/uploads/2022/04/Book20Fair203.jpg
END:VEVENT
BEGIN:VEVENT
DTSTART;TZID=America/Chicago:20250614T100000
DTEND;TZID=America/Chicago:20250614T110000
DTSTAMP:20260421T163052
CREATED:20250506T224145Z
LAST-MODIFIED:20250527T173756Z
UID:10004575-1749895200-1749898800@www.lowellpl.lib.in.us
SUMMARY:Coffee and Conversation (Shelby)
DESCRIPTION:Stop in for a cup of coffee. Stay for a chat. \n 
URL:https://www.lowellpl.lib.in.us/event/coffee-and-conversation-8/2025-06-14/
LOCATION:Shelby Branch\, 23323 Shelby Rd\, Shelby\, IN\, 46377\, United States
CATEGORIES:Adult,Events
ATTACH;FMTTYPE=image/jpeg:https://www.lowellpl.lib.in.us/wp-content/uploads/2023/07/coffee-and-conversation.jpeg
END:VEVENT
BEGIN:VEVENT
DTSTART;TZID=America/Chicago:20250616T160000
DTEND;TZID=America/Chicago:20250616T170000
DTSTAMP:20260421T163052
CREATED:20250506T222530Z
LAST-MODIFIED:20250527T173314Z
UID:10004573-1750089600-1750093200@www.lowellpl.lib.in.us
SUMMARY:Over 18 Game Day (Shelby)
DESCRIPTION:Get together to play cards or board games. \n 
URL:https://www.lowellpl.lib.in.us/event/over-18-game-day-36/2025-06-16/
LOCATION:Shelby Branch\, 23323 Shelby Rd\, Shelby\, IN\, 46377\, United States
CATEGORIES:Adult,Events
ATTACH;FMTTYPE=image/jpeg:https://www.lowellpl.lib.in.us/wp-content/uploads/2024/04/over-18-game-2.jpg
END:VEVENT
BEGIN:VEVENT
DTSTART;TZID=America/Chicago:20250617T100000
DTEND;TZID=America/Chicago:20250617T113000
DTSTAMP:20260421T163052
CREATED:20241127T152223Z
LAST-MODIFIED:20250527T174106Z
UID:10002983-1750154400-1750159800@www.lowellpl.lib.in.us
SUMMARY:Adult Coloring (Lowell)
DESCRIPTION:Join in on the fun!  Coloring helps us de-stress and stimulates brain areas related to motor skills. All supplies will be provided or you may bring your own. \n 
URL:https://www.lowellpl.lib.in.us/event/adult-coloring-35/2025-06-17/
LOCATION:Lowell Public Library\, 1505 E Commercial Ave\, Lowell\, IN\, 46356-2107\, United States
CATEGORIES:Events
ATTACH;FMTTYPE=image/jpeg:https://www.lowellpl.lib.in.us/wp-content/uploads/2022/01/coloring.jpg
END:VEVENT
BEGIN:VEVENT
DTSTART;TZID=America/Chicago:20250617T103000
DTEND;TZID=America/Chicago:20250617T110000
DTSTAMP:20260421T163052
CREATED:20250409T140249Z
LAST-MODIFIED:20250527T174124Z
UID:10003400-1750156200-1750158000@www.lowellpl.lib.in.us
SUMMARY:Shark Headband (Lowell)
DESCRIPTION:Tuesday\, June 17th \nShark headband \n10:30 A.M \nOR \n1:30 P.M \nJoin Miss Jackie to make this fun shark headband \nThis is a program for children ages birth– 4th grade \nto enjoy with a parent/adult. \nREGISTRATION IS REQUIRED \nPlease sign up online or call \n#219-696-7704 \nREGISTRATION OPENS Monday\, June 9th \n 
URL:https://www.lowellpl.lib.in.us/event/shark-headband/
LOCATION:Lowell Public Library\, 1505 E Commercial Ave\, Lowell\, IN\, 46356-2107\, United States
CATEGORIES:Events,Kids
ATTACH;FMTTYPE=image/png:https://www.lowellpl.lib.in.us/wp-content/uploads/2025/04/shark-headband-june-17th.png
END:VEVENT
BEGIN:VEVENT
DTSTART;TZID=America/Chicago:20250617T113000
DTEND;TZID=America/Chicago:20250617T123000
DTSTAMP:20260421T163052
CREATED:20250512T194651Z
LAST-MODIFIED:20250527T182137Z
UID:10004595-1750159800-1750163400@www.lowellpl.lib.in.us
SUMMARY:Shark Headband (Schneider)
DESCRIPTION:Make this fun shark headband. This program allows children ages birth– 4th grade to enjoy with a parent/adult.
URL:https://www.lowellpl.lib.in.us/event/shark-headband-4/
LOCATION:Schneider Branch Library\, 24002 Parrish Ave\, Schneider\, IN\, 46376\, United States
CATEGORIES:Events
ATTACH;FMTTYPE=image/png:https://www.lowellpl.lib.in.us/wp-content/uploads/2025/04/shark-headband-june-17th.png
END:VEVENT
BEGIN:VEVENT
DTSTART;TZID=America/Chicago:20250617T133000
DTEND;TZID=America/Chicago:20250617T140000
DTSTAMP:20260421T163052
CREATED:20250409T140550Z
LAST-MODIFIED:20250527T174140Z
UID:10003401-1750167000-1750168800@www.lowellpl.lib.in.us
SUMMARY:Shark Headband (Lowell)
DESCRIPTION:Tuesday\, June 17th \nShark headband \n10:30 A.M \nOR \n1:30 P.M \nJoin Miss Jackie to make this fun shark headband \nThis is a program for children ages birth– 4th grade \nto enjoy with a parent/adult. \nREGISTRATION IS REQUIRED \nPlease sign up online or call \n#219-696-7704 \nREGISTRATION OPENS Monday\, June 9th \n 
URL:https://www.lowellpl.lib.in.us/event/shark-headband-2/
LOCATION:Lowell Public Library\, 1505 E Commercial Ave\, Lowell\, IN\, 46356-2107\, United States
CATEGORIES:Events,Kids
ATTACH;FMTTYPE=image/png:https://www.lowellpl.lib.in.us/wp-content/uploads/2025/04/shark-headband-june-17th.png
END:VEVENT
BEGIN:VEVENT
DTSTART;TZID=America/Chicago:20250617T160000
DTEND;TZID=America/Chicago:20250617T170000
DTSTAMP:20260421T163052
CREATED:20250506T231127Z
LAST-MODIFIED:20250527T174205Z
UID:10004584-1750176000-1750179600@www.lowellpl.lib.in.us
SUMMARY:Shark Headband (Shelby)
DESCRIPTION:Make this fun shark headband. This program allows children ages birth– 4th grade to enjoy with a parent/adult.
URL:https://www.lowellpl.lib.in.us/event/shark-headband-3/
LOCATION:Shelby Branch\, 23323 Shelby Rd\, Shelby\, IN\, 46377\, United States
CATEGORIES:Events
ATTACH;FMTTYPE=image/png:https://www.lowellpl.lib.in.us/wp-content/uploads/2025/04/shark-headband-june-17th.png
END:VEVENT
BEGIN:VEVENT
DTSTART;TZID=America/Chicago:20250617T160000
DTEND;TZID=America/Chicago:20250617T170000
DTSTAMP:20260421T163052
CREATED:20250519T203738Z
LAST-MODIFIED:20250527T174153Z
UID:10004605-1750176000-1750179600@www.lowellpl.lib.in.us
SUMMARY:Tales for Tails (Lowell)
DESCRIPTION:Tuesday’s \nJune 3rd\, 10th\, 17th\, 24th \nRead or just visit with a certified therapy dog \nJoin us on Tuesdays as we will be offering the opportunity for kids to read or just visit with therapy dogs. \nThis is a fun program\, where children get a chance to cozy up with a loveable pup and practice their reading skills. Kids can read to one of the therapy dogs for a few minutes or just visit with one. Some of these talented pups have pretty neat talents to share as well! Such a fun way to build confidence\, and increase the kids love of reading! \n*REGISTRATION IS REQUIRED* \nRegistration opens Monday\, May 19th \n  \n 
URL:https://www.lowellpl.lib.in.us/event/tales-for-tails-75/
LOCATION:Lowell Public Library\, 1505 E Commercial Ave\, Lowell\, IN\, 46356-2107\, United States
CATEGORIES:Events,Kids
ATTACH;FMTTYPE=image/jpeg:https://www.lowellpl.lib.in.us/wp-content/uploads/2023/05/therapy-dog.jpg
END:VEVENT
BEGIN:VEVENT
DTSTART;TZID=America/Chicago:20250617T180000
DTEND;TZID=America/Chicago:20250617T190000
DTSTAMP:20260421T163052
CREATED:20250507T174450Z
LAST-MODIFIED:20250527T174221Z
UID:10004588-1750183200-1750186800@www.lowellpl.lib.in.us
SUMMARY:Library Board Meets (Schneider)
DESCRIPTION:The regular meeting of the Lowell Public Library Board of Trustees will be held at the Schneider Branch. \n 
URL:https://www.lowellpl.lib.in.us/event/library-board-meets-40/
LOCATION:Schneider Branch Library\, 24002 Parrish Ave\, Schneider\, IN\, 46376\, United States
CATEGORIES:Events
ATTACH;FMTTYPE=image/jpeg:https://www.lowellpl.lib.in.us/wp-content/uploads/2022/01/board-meeting-3.jpg
END:VEVENT
BEGIN:VEVENT
DTSTART;TZID=America/Chicago:20250618T100000
DTEND;TZID=America/Chicago:20250618T113000
DTSTAMP:20260421T163052
CREATED:20250421T181239Z
LAST-MODIFIED:20250527T171957Z
UID:10003452-1750240800-1750246200@www.lowellpl.lib.in.us
SUMMARY:YA Summer Switch Games AM (Lowell)
DESCRIPTION:Help us “break-in” our new Nintendo Switch by joining in on some Mario Kart races on WEDNESDAY\, June 18th at the Lowell Public Library. \nOr choose another multi-player Switch game to play with the group. \n  \nOnly 4 people per program so we’ll host a MORNING and an AFTERNOON program. \nSign up here for the morning session from 10-11:30. \n  \nThis is a free event for students starting 5th grade – 12th grade. Pre-registration is required. PLEASE ONLY SIGN UP FOR 1 SESSION. \nRegistration opens on June 11th.
URL:https://www.lowellpl.lib.in.us/event/ya-summer-switch-games-am/
LOCATION:Lowell Public Library\, 1505 E Commercial Ave\, Lowell\, IN\, 46356-2107\, United States
CATEGORIES:Events,YA/Teen
ATTACH;FMTTYPE=image/jpeg:https://www.lowellpl.lib.in.us/wp-content/uploads/2025/04/mario-kart.jpg
END:VEVENT
BEGIN:VEVENT
DTSTART;TZID=America/Chicago:20250618T130000
DTEND;TZID=America/Chicago:20250618T143000
DTSTAMP:20260421T163052
CREATED:20250421T181641Z
LAST-MODIFIED:20250527T172015Z
UID:10003453-1750251600-1750257000@www.lowellpl.lib.in.us
SUMMARY:YA Summer Switch Games PM (Lowell)
DESCRIPTION:Help us “break-in” our new Nintendo Switch by joining in on some Mario Kart races on WEDNESDAY\, June 18th at the Lowell Public Library. \nOr choose another multi-player Switch game to play with the group. \n  \nOnly 4 people per program so we’ll host a MORNING and an AFTERNOON program. \nSign up here for the afternoon session from 1-2:30. \n  \nThis is a free event for students starting 5th grade – 12th grade. Pre-registration is required. PLEASE ONLY SIGN UP FOR 1 SESSION. \nRegistration opens on June 11th.
URL:https://www.lowellpl.lib.in.us/event/ya-summer-switch-games-pm/
LOCATION:Lowell Public Library\, 1505 E Commercial Ave\, Lowell\, IN\, 46356-2107\, United States
CATEGORIES:Events,YA/Teen
ATTACH;FMTTYPE=image/jpeg:https://www.lowellpl.lib.in.us/wp-content/uploads/2025/04/mario-kart.jpg
END:VEVENT
BEGIN:VEVENT
DTSTART;TZID=America/Chicago:20250618T160000
DTEND;TZID=America/Chicago:20250618T170000
DTSTAMP:20260421T163052
CREATED:20250506T225829Z
LAST-MODIFIED:20250527T172119Z
UID:10004581-1750262400-1750266000@www.lowellpl.lib.in.us
SUMMARY:YA Bean Bags (Shelby)
DESCRIPTION:Face off against your fellow teens to see who the bean bag champion is! \n 
URL:https://www.lowellpl.lib.in.us/event/ya-bean-bags/
LOCATION:Shelby Branch\, 23323 Shelby Rd\, Shelby\, IN\, 46377\, United States
CATEGORIES:Events
END:VEVENT
BEGIN:VEVENT
DTSTART;TZID=America/Chicago:20250618T160000
DTEND;TZID=America/Chicago:20250618T170000
DTSTAMP:20260421T163052
CREATED:20250513T213147Z
LAST-MODIFIED:20250527T172103Z
UID:10004601-1750262400-1750266000@www.lowellpl.lib.in.us
SUMMARY:Young Adult Tie-Dye (Schneider)
DESCRIPTION:Tie-dye a shirt (shirts will be provided) For grades 5-12!
URL:https://www.lowellpl.lib.in.us/event/young-adult-tie-dye-2/
LOCATION:Schneider Branch Library\, 24002 Parrish Ave\, Schneider\, IN\, 46376\, United States
CATEGORIES:Events
ATTACH;FMTTYPE=image/jpeg:https://www.lowellpl.lib.in.us/wp-content/uploads/2022/05/tie-dye.jpg
END:VEVENT
END:VCALENDAR