BEGIN:VCALENDAR
VERSION:2.0
PRODID:-//Lowell Public Library - Lowell, IN - ECPv6.7.0//NONSGML v1.0//EN
CALSCALE:GREGORIAN
METHOD:PUBLISH
X-WR-CALNAME:Lowell Public Library - Lowell, IN
X-ORIGINAL-URL:https://www.lowellpl.lib.in.us
X-WR-CALDESC:Events for Lowell Public Library - Lowell, IN
REFRESH-INTERVAL;VALUE=DURATION:PT1H
X-Robots-Tag:noindex
X-PUBLISHED-TTL:PT1H
BEGIN:VTIMEZONE
TZID:America/Chicago
BEGIN:DAYLIGHT
TZOFFSETFROM:-0600
TZOFFSETTO:-0500
TZNAME:CDT
DTSTART:20250309T080000
END:DAYLIGHT
BEGIN:STANDARD
TZOFFSETFROM:-0500
TZOFFSETTO:-0600
TZNAME:CST
DTSTART:20251102T070000
END:STANDARD
END:VTIMEZONE
BEGIN:VEVENT
DTSTART;TZID=America/Chicago:20250617T160000
DTEND;TZID=America/Chicago:20250617T170000
DTSTAMP:20260421T194052
CREATED:20250519T203738Z
LAST-MODIFIED:20250527T174153Z
UID:10004605-1750176000-1750179600@www.lowellpl.lib.in.us
SUMMARY:Tales for Tails (Lowell)
DESCRIPTION:Tuesday’s \nJune 3rd\, 10th\, 17th\, 24th \nRead or just visit with a certified therapy dog \nJoin us on Tuesdays as we will be offering the opportunity for kids to read or just visit with therapy dogs. \nThis is a fun program\, where children get a chance to cozy up with a loveable pup and practice their reading skills. Kids can read to one of the therapy dogs for a few minutes or just visit with one. Some of these talented pups have pretty neat talents to share as well! Such a fun way to build confidence\, and increase the kids love of reading! \n*REGISTRATION IS REQUIRED* \nRegistration opens Monday\, May 19th \n  \n 
URL:https://www.lowellpl.lib.in.us/event/tales-for-tails-75/
LOCATION:Lowell Public Library\, 1505 E Commercial Ave\, Lowell\, IN\, 46356-2107\, United States
CATEGORIES:Events,Kids
ATTACH;FMTTYPE=image/jpeg:https://www.lowellpl.lib.in.us/wp-content/uploads/2023/05/therapy-dog.jpg
END:VEVENT
BEGIN:VEVENT
DTSTART;TZID=America/Chicago:20250617T180000
DTEND;TZID=America/Chicago:20250617T190000
DTSTAMP:20260421T194052
CREATED:20250507T174450Z
LAST-MODIFIED:20250527T174221Z
UID:10004588-1750183200-1750186800@www.lowellpl.lib.in.us
SUMMARY:Library Board Meets (Schneider)
DESCRIPTION:The regular meeting of the Lowell Public Library Board of Trustees will be held at the Schneider Branch. \n 
URL:https://www.lowellpl.lib.in.us/event/library-board-meets-40/
LOCATION:Schneider Branch Library\, 24002 Parrish Ave\, Schneider\, IN\, 46376\, United States
CATEGORIES:Events
ATTACH;FMTTYPE=image/jpeg:https://www.lowellpl.lib.in.us/wp-content/uploads/2022/01/board-meeting-3.jpg
END:VEVENT
BEGIN:VEVENT
DTSTART;TZID=America/Chicago:20250618T100000
DTEND;TZID=America/Chicago:20250618T113000
DTSTAMP:20260421T194052
CREATED:20250421T181239Z
LAST-MODIFIED:20250527T171957Z
UID:10003452-1750240800-1750246200@www.lowellpl.lib.in.us
SUMMARY:YA Summer Switch Games AM (Lowell)
DESCRIPTION:Help us “break-in” our new Nintendo Switch by joining in on some Mario Kart races on WEDNESDAY\, June 18th at the Lowell Public Library. \nOr choose another multi-player Switch game to play with the group. \n  \nOnly 4 people per program so we’ll host a MORNING and an AFTERNOON program. \nSign up here for the morning session from 10-11:30. \n  \nThis is a free event for students starting 5th grade – 12th grade. Pre-registration is required. PLEASE ONLY SIGN UP FOR 1 SESSION. \nRegistration opens on June 11th.
URL:https://www.lowellpl.lib.in.us/event/ya-summer-switch-games-am/
LOCATION:Lowell Public Library\, 1505 E Commercial Ave\, Lowell\, IN\, 46356-2107\, United States
CATEGORIES:Events,YA/Teen
ATTACH;FMTTYPE=image/jpeg:https://www.lowellpl.lib.in.us/wp-content/uploads/2025/04/mario-kart.jpg
END:VEVENT
BEGIN:VEVENT
DTSTART;TZID=America/Chicago:20250618T130000
DTEND;TZID=America/Chicago:20250618T143000
DTSTAMP:20260421T194052
CREATED:20250421T181641Z
LAST-MODIFIED:20250527T172015Z
UID:10003453-1750251600-1750257000@www.lowellpl.lib.in.us
SUMMARY:YA Summer Switch Games PM (Lowell)
DESCRIPTION:Help us “break-in” our new Nintendo Switch by joining in on some Mario Kart races on WEDNESDAY\, June 18th at the Lowell Public Library. \nOr choose another multi-player Switch game to play with the group. \n  \nOnly 4 people per program so we’ll host a MORNING and an AFTERNOON program. \nSign up here for the afternoon session from 1-2:30. \n  \nThis is a free event for students starting 5th grade – 12th grade. Pre-registration is required. PLEASE ONLY SIGN UP FOR 1 SESSION. \nRegistration opens on June 11th.
URL:https://www.lowellpl.lib.in.us/event/ya-summer-switch-games-pm/
LOCATION:Lowell Public Library\, 1505 E Commercial Ave\, Lowell\, IN\, 46356-2107\, United States
CATEGORIES:Events,YA/Teen
ATTACH;FMTTYPE=image/jpeg:https://www.lowellpl.lib.in.us/wp-content/uploads/2025/04/mario-kart.jpg
END:VEVENT
BEGIN:VEVENT
DTSTART;TZID=America/Chicago:20250618T160000
DTEND;TZID=America/Chicago:20250618T170000
DTSTAMP:20260421T194052
CREATED:20250506T225829Z
LAST-MODIFIED:20250527T172119Z
UID:10004581-1750262400-1750266000@www.lowellpl.lib.in.us
SUMMARY:YA Bean Bags (Shelby)
DESCRIPTION:Face off against your fellow teens to see who the bean bag champion is! \n 
URL:https://www.lowellpl.lib.in.us/event/ya-bean-bags/
LOCATION:Shelby Branch\, 23323 Shelby Rd\, Shelby\, IN\, 46377\, United States
CATEGORIES:Events
END:VEVENT
BEGIN:VEVENT
DTSTART;TZID=America/Chicago:20250618T160000
DTEND;TZID=America/Chicago:20250618T170000
DTSTAMP:20260421T194052
CREATED:20250513T213147Z
LAST-MODIFIED:20250527T172103Z
UID:10004601-1750262400-1750266000@www.lowellpl.lib.in.us
SUMMARY:Young Adult Tie-Dye (Schneider)
DESCRIPTION:Tie-dye a shirt (shirts will be provided) For grades 5-12!
URL:https://www.lowellpl.lib.in.us/event/young-adult-tie-dye-2/
LOCATION:Schneider Branch Library\, 24002 Parrish Ave\, Schneider\, IN\, 46376\, United States
CATEGORIES:Events
ATTACH;FMTTYPE=image/jpeg:https://www.lowellpl.lib.in.us/wp-content/uploads/2022/05/tie-dye.jpg
END:VEVENT
BEGIN:VEVENT
DTSTART;TZID=America/Chicago:20250619T090000
DTEND;TZID=America/Chicago:20250619T120000
DTSTAMP:20260421T194052
CREATED:20250131T165606Z
LAST-MODIFIED:20251014T142700Z
UID:10003210-1750323600-1750334400@www.lowellpl.lib.in.us
SUMMARY:Knit & Crochet (Lowell)
DESCRIPTION:Meet up to knit and crochet\, and share patterns and tips.   \n 
URL:https://www.lowellpl.lib.in.us/event/knit-crochet-32/2025-06-19/
LOCATION:Lowell Public Library\, 1505 E Commercial Ave\, Lowell\, IN\, 46356-2107\, United States
CATEGORIES:Events
ATTACH;FMTTYPE=image/jpeg:https://www.lowellpl.lib.in.us/wp-content/uploads/2022/01/crochet.jpg
END:VEVENT
BEGIN:VEVENT
DTSTART;TZID=America/Chicago:20250619T103000
DTEND;TZID=America/Chicago:20250619T110000
DTSTAMP:20260421T194052
CREATED:20250409T142156Z
LAST-MODIFIED:20250527T174234Z
UID:10003402-1750329000-1750330800@www.lowellpl.lib.in.us
SUMMARY:BINGO (Lowell)
DESCRIPTION:Thursday\, June 19th \nBINGO! \n10:30 A.M \nOR \n1:30 P.M \nJoin Miss Jackie to play BINGO and win some cool prizes! \nThis is a program for children ages birth– 4th grade \nto enjoy with a parent/adult. \nREGISTRATION IS REQUIRED \nPlease sign up online or call \n#219-696-7704 \nREGISTRATION OPENS Monday\, June 9th \n 
URL:https://www.lowellpl.lib.in.us/event/bingo-3/
LOCATION:Lowell Public Library\, 1505 E Commercial Ave\, Lowell\, IN\, 46356-2107\, United States
CATEGORIES:Events,Kids
ATTACH;FMTTYPE=image/png:https://www.lowellpl.lib.in.us/wp-content/uploads/2025/04/BINGO-June-19th.png
END:VEVENT
BEGIN:VEVENT
DTSTART;TZID=America/Chicago:20250619T113000
DTEND;TZID=America/Chicago:20250619T123000
DTSTAMP:20260421T194052
CREATED:20250512T195530Z
LAST-MODIFIED:20250527T174249Z
UID:10004598-1750332600-1750336200@www.lowellpl.lib.in.us
SUMMARY:Bingo (Schneider)
DESCRIPTION:Play BINGO and win some cool prizes! \nThis is a program for children ages birth– 4th grade to enjoy with a parent/adult.
URL:https://www.lowellpl.lib.in.us/event/bingo-5/
LOCATION:Schneider Branch Library\, 24002 Parrish Ave\, Schneider\, IN\, 46376\, United States
CATEGORIES:Events
ATTACH;FMTTYPE=image/png:https://www.lowellpl.lib.in.us/wp-content/uploads/2025/04/BINGO-June-19th.png
END:VEVENT
BEGIN:VEVENT
DTSTART;TZID=America/Chicago:20250619T133000
DTEND;TZID=America/Chicago:20250619T140000
DTSTAMP:20260421T194052
CREATED:20250409T142428Z
LAST-MODIFIED:20250527T174303Z
UID:10003403-1750339800-1750341600@www.lowellpl.lib.in.us
SUMMARY:BINGO (Lowell)
DESCRIPTION:Thursday\, June 19th \nBINGO! \n10:30 A.M \nOR \n1:30 P.M \nJoin Miss Jackie to play BINGO and win some cool prizes! \nThis is a program for children ages birth– 4th grade \nto enjoy with a parent/adult. \nREGISTRATION IS REQUIRED \nPlease sign up online or call \n#219-696-7704 \nREGISTRATION OPENS Monday\, June 9th \n 
URL:https://www.lowellpl.lib.in.us/event/bingo-4/
LOCATION:Lowell Public Library\, 1505 E Commercial Ave\, Lowell\, IN\, 46356-2107\, United States
CATEGORIES:Events,Kids
ATTACH;FMTTYPE=image/png:https://www.lowellpl.lib.in.us/wp-content/uploads/2025/04/BINGO-June-19th.png
END:VEVENT
BEGIN:VEVENT
DTSTART;TZID=America/Chicago:20250619T160000
DTEND;TZID=America/Chicago:20250619T170000
DTSTAMP:20260421T194052
CREATED:20250506T224539Z
LAST-MODIFIED:20250527T174320Z
UID:10004577-1750348800-1750352400@www.lowellpl.lib.in.us
SUMMARY:Adult Book Club (Shelby)
DESCRIPTION:Read\, then meet to discuss “Vera Wong’s Unsolicited Advice for Murderers”\, written by Jesse Q. Sutanto. \n 
URL:https://www.lowellpl.lib.in.us/event/adult-book-club-16/
LOCATION:Shelby Branch\, 23323 Shelby Rd\, Shelby\, IN\, 46377\, United States
CATEGORIES:Adult,Events
ATTACH;FMTTYPE=image/jpeg:https://www.lowellpl.lib.in.us/wp-content/uploads/2025/05/vera-wong.jpg
END:VEVENT
BEGIN:VEVENT
DTSTART;TZID=America/Chicago:20250621T100000
DTEND;TZID=America/Chicago:20250621T120000
DTSTAMP:20260421T194052
CREATED:20241127T151929Z
LAST-MODIFIED:20250527T174346Z
UID:10002971-1750500000-1750507200@www.lowellpl.lib.in.us
SUMMARY:Poetry (Lowell)
DESCRIPTION:Aspiring poets can join the NW Indiana Poetry Society. Bring  your works or that of your favorite poet. \n 
URL:https://www.lowellpl.lib.in.us/event/poetry-21/2025-06-21/
LOCATION:Lowell Public Library\, 1505 E Commercial Ave\, Lowell\, IN\, 46356-2107\, United States
CATEGORIES:Events
ATTACH;FMTTYPE=image/jpeg:https://www.lowellpl.lib.in.us/wp-content/uploads/2022/01/poetry-pencil.jpg
END:VEVENT
BEGIN:VEVENT
DTSTART;TZID=America/Chicago:20250621T100000
DTEND;TZID=America/Chicago:20250621T120000
DTSTAMP:20260421T194052
CREATED:20250506T224928Z
LAST-MODIFIED:20250527T174332Z
UID:10004578-1750500000-1750507200@www.lowellpl.lib.in.us
SUMMARY:Movies for Grown-Ups (Shelby)
DESCRIPTION:Patrons choose the movie. \n 
URL:https://www.lowellpl.lib.in.us/event/movies-for-grown-ups-18/
LOCATION:Shelby Branch\, 23323 Shelby Rd\, Shelby\, IN\, 46377\, United States
CATEGORIES:Adult,Events
ATTACH;FMTTYPE=image/png:https://www.lowellpl.lib.in.us/wp-content/uploads/2025/01/family-movie-night-feb.png
END:VEVENT
BEGIN:VEVENT
DTSTART;TZID=America/Chicago:20250621T110000
DTEND;TZID=America/Chicago:20250621T120000
DTSTAMP:20260421T194052
CREATED:20250513T213311Z
LAST-MODIFIED:20250527T174403Z
UID:10004602-1750503600-1750507200@www.lowellpl.lib.in.us
SUMMARY:Coffee & Conversation (Schneider)
DESCRIPTION:Stop in for a FREE cup of coffee!
URL:https://www.lowellpl.lib.in.us/event/coffee-conversation-28/
LOCATION:Schneider Branch Library\, 24002 Parrish Ave\, Schneider\, IN\, 46376\, United States
CATEGORIES:Events
ATTACH;FMTTYPE=image/jpeg:https://www.lowellpl.lib.in.us/wp-content/uploads/2023/07/coffee-and-conversation.jpeg
END:VEVENT
BEGIN:VEVENT
DTSTART;TZID=America/Chicago:20250623T160000
DTEND;TZID=America/Chicago:20250623T170000
DTSTAMP:20260421T194052
CREATED:20250506T225206Z
LAST-MODIFIED:20250527T174540Z
UID:10004579-1750694400-1750698000@www.lowellpl.lib.in.us
SUMMARY:Senior Bingo (Shelby)
DESCRIPTION:Play for a chance to win a gift card. \n 
URL:https://www.lowellpl.lib.in.us/event/senior-bingo-36/
LOCATION:Shelby Branch\, 23323 Shelby Rd\, Shelby\, IN\, 46377\, United States
CATEGORIES:Adult,Events
ATTACH;FMTTYPE=image/gif:https://www.lowellpl.lib.in.us/wp-content/uploads/2022/01/bingo_animated.gif
END:VEVENT
BEGIN:VEVENT
DTSTART;TZID=America/Chicago:20250624T103000
DTEND;TZID=America/Chicago:20250624T110000
DTSTAMP:20260421T194052
CREATED:20250409T142926Z
LAST-MODIFIED:20250527T174608Z
UID:10003404-1750761000-1750762800@www.lowellpl.lib.in.us
SUMMARY:Recycled CD fish (Lowell)
DESCRIPTION:Tuesday\, June 24th \nRecycled CD fish! \n10:30 A.M \nOR \n1:30 P.M \nJoin Miss Jackie and make a fish with a CD! \nThis is a program for children ages birth– 4th grade \nto enjoy with a parent/adult. \nREGISTRATION IS REQUIRED \nPlease sign up online or call \n#219-696-7704 \nREGISTRATION OPENS Monday\, June 16th \n 
URL:https://www.lowellpl.lib.in.us/event/recycled-cd-fish/
LOCATION:Lowell Public Library\, 1505 E Commercial Ave\, Lowell\, IN\, 46356-2107\, United States
CATEGORIES:Events,Kids
ATTACH;FMTTYPE=image/png:https://www.lowellpl.lib.in.us/wp-content/uploads/2025/04/cd-fish-june-24th.png
END:VEVENT
BEGIN:VEVENT
DTSTART;TZID=America/Chicago:20250624T113000
DTEND;TZID=America/Chicago:20250624T123000
DTSTAMP:20260421T194052
CREATED:20250512T195049Z
LAST-MODIFIED:20250527T174619Z
UID:10004596-1750764600-1750768200@www.lowellpl.lib.in.us
SUMMARY:Recycled CD Fish (Schneider)
DESCRIPTION:Make a fish using an old CD! This is a program for children ages birth– 4th grade to enjoy with a parent/adult.
URL:https://www.lowellpl.lib.in.us/event/recycled-cd-fish-4/
LOCATION:Schneider Branch Library\, 24002 Parrish Ave\, Schneider\, IN\, 46376\, United States
CATEGORIES:Events
ATTACH;FMTTYPE=image/png:https://www.lowellpl.lib.in.us/wp-content/uploads/2025/04/cd-fish-june-24th.png
END:VEVENT
BEGIN:VEVENT
DTSTART;TZID=America/Chicago:20250624T133000
DTEND;TZID=America/Chicago:20250624T140000
DTSTAMP:20260421T194052
CREATED:20250409T143302Z
LAST-MODIFIED:20250527T174639Z
UID:10003405-1750771800-1750773600@www.lowellpl.lib.in.us
SUMMARY:Recycled CD Fish (Lowell)
DESCRIPTION:Tuesday\, June 24th \nRecycled CD fish! \n10:30 A.M \nOR \n1:30 P.M \nJoin Miss Jackie and make a fish with a CD! \nThis is a program for children ages birth– 4th grade \nto enjoy with a parent/adult. \nREGISTRATION IS REQUIRED \nPlease sign up online or call \n#219-696-7704 \nREGISTRATION OPENS Monday\, June 16th \n 
URL:https://www.lowellpl.lib.in.us/event/recycled-cd-fish-2/
LOCATION:Lowell Public Library\, 1505 E Commercial Ave\, Lowell\, IN\, 46356-2107\, United States
CATEGORIES:Events,Kids
ATTACH;FMTTYPE=image/png:https://www.lowellpl.lib.in.us/wp-content/uploads/2025/04/cd-fish-june-24th.png
END:VEVENT
BEGIN:VEVENT
DTSTART;TZID=America/Chicago:20250624T160000
DTEND;TZID=America/Chicago:20250624T170000
DTSTAMP:20260421T194052
CREATED:20250506T231617Z
LAST-MODIFIED:20250527T174654Z
UID:10004585-1750780800-1750784400@www.lowellpl.lib.in.us
SUMMARY:Recycled CD Fish (Shelby)
DESCRIPTION:Make a fish using an old CD! This is a program for children ages birth– 4th grade to enjoy with a parent/adult.
URL:https://www.lowellpl.lib.in.us/event/recycled-cd-fish-3/
LOCATION:Shelby Branch\, 23323 Shelby Rd\, Shelby\, IN\, 46377\, United States
CATEGORIES:Events
ATTACH;FMTTYPE=image/png:https://www.lowellpl.lib.in.us/wp-content/uploads/2025/04/cd-fish-june-24th.png
END:VEVENT
BEGIN:VEVENT
DTSTART;TZID=America/Chicago:20250624T160000
DTEND;TZID=America/Chicago:20250624T170000
DTSTAMP:20260421T194052
CREATED:20250519T204001Z
LAST-MODIFIED:20250527T174709Z
UID:10004606-1750780800-1750784400@www.lowellpl.lib.in.us
SUMMARY:Tales for Tails (Lowell)
DESCRIPTION:Tuesday’s \nJune 3rd\, 10th\, 17th\, 24th \nRead or just visit with a certified therapy dog \nJoin us on Tuesdays as we will be offering the opportunity for kids to read or just visit with therapy dogs. \nThis is a fun program\, where children get a chance to cozy up with a loveable pup and practice their reading skills. Kids can read to one of the therapy dogs for a few minutes or just visit with one. Some of these talented pups have pretty neat talents to share as well! Such a fun way to build confidence\, and increase the kids love of reading! \n*REGISTRATION IS REQUIRED* \nRegistration opens Monday\, May 19th \n  \n 
URL:https://www.lowellpl.lib.in.us/event/tales-for-tails-76/
LOCATION:Lowell Public Library\, 1505 E Commercial Ave\, Lowell\, IN\, 46356-2107\, United States
CATEGORIES:Events,Kids
ATTACH;FMTTYPE=image/jpeg:https://www.lowellpl.lib.in.us/wp-content/uploads/2023/05/therapy-dog.jpg
END:VEVENT
BEGIN:VEVENT
DTSTART;TZID=America/Chicago:20250625T130000
DTEND;TZID=America/Chicago:20250625T143000
DTSTAMP:20260421T194052
CREATED:20250421T184405Z
LAST-MODIFIED:20250619T203013Z
UID:10003454-1750856400-1750861800@www.lowellpl.lib.in.us
SUMMARY:YA Summer Tie-Dye (Lowell)
DESCRIPTION:Join other young adults as we tie-dye shirts on WEDNESDAY\, June 25 at 1pm at the Lowell Public Library. \nUse some RED & BLUE to show your patriotism or use other colors and display your creativity. \nPlease bring ONE WHITE\, cotton shirt to dye. We will not have shirts available to dye if you do not bring one.  \nThis is a free event for students starting 5th grade through 12th grade. Pre-registration is required. \nRegistration opens on 6/18.
URL:https://www.lowellpl.lib.in.us/event/ya-summer-tie-dye/
LOCATION:Lowell Public Library\, 1505 E Commercial Ave\, Lowell\, IN\, 46356-2107\, United States
CATEGORIES:Events,YA/Teen
ATTACH;FMTTYPE=image/jpeg:https://www.lowellpl.lib.in.us/wp-content/uploads/2025/04/patriotic-tie-dye-no-background.jpg
END:VEVENT
BEGIN:VEVENT
DTSTART;TZID=America/Chicago:20250625T160000
DTEND;TZID=America/Chicago:20250625T170000
DTSTAMP:20260421T194052
CREATED:20250506T230344Z
LAST-MODIFIED:20250527T172604Z
UID:10004582-1750867200-1750870800@www.lowellpl.lib.in.us
SUMMARY:YA Bingo (Shelby)
DESCRIPTION:Play this classic game for fun and prizes!
URL:https://www.lowellpl.lib.in.us/event/ya-bingo-3/
LOCATION:Shelby Branch\, 23323 Shelby Rd\, Shelby\, IN\, 46377\, United States
CATEGORIES:Events
ATTACH;FMTTYPE=image/jpeg:https://www.lowellpl.lib.in.us/wp-content/uploads/2023/05/bingo.jpg
END:VEVENT
BEGIN:VEVENT
DTSTART;TZID=America/Chicago:20250625T160000
DTEND;TZID=America/Chicago:20250625T170000
DTSTAMP:20260421T194052
CREATED:20250512T194034Z
LAST-MODIFIED:20250527T172635Z
UID:10004593-1750867200-1750870800@www.lowellpl.lib.in.us
SUMMARY:YA Wii Games (Schneider)
DESCRIPTION:Play Wii games with your friends.  Snacks will be provided. \n 
URL:https://www.lowellpl.lib.in.us/event/ya-wii-games-4/
LOCATION:Schneider Branch Library\, 24002 Parrish Ave\, Schneider\, IN\, 46376\, United States
CATEGORIES:Events
ATTACH;FMTTYPE=image/jpeg:https://www.lowellpl.lib.in.us/wp-content/uploads/2022/12/wii-remotes.jpg
END:VEVENT
BEGIN:VEVENT
DTSTART;TZID=America/Chicago:20250626T090000
DTEND;TZID=America/Chicago:20250626T120000
DTSTAMP:20260421T194052
CREATED:20250131T165606Z
LAST-MODIFIED:20251014T142700Z
UID:10003211-1750928400-1750939200@www.lowellpl.lib.in.us
SUMMARY:Knit & Crochet (Lowell)
DESCRIPTION:Meet up to knit and crochet\, and share patterns and tips.   \n 
URL:https://www.lowellpl.lib.in.us/event/knit-crochet-32/2025-06-26/
LOCATION:Lowell Public Library\, 1505 E Commercial Ave\, Lowell\, IN\, 46356-2107\, United States
CATEGORIES:Events
ATTACH;FMTTYPE=image/jpeg:https://www.lowellpl.lib.in.us/wp-content/uploads/2022/01/crochet.jpg
END:VEVENT
BEGIN:VEVENT
DTSTART;TZID=America/Chicago:20250626T103000
DTEND;TZID=America/Chicago:20250626T110000
DTSTAMP:20260421T194052
CREATED:20250409T143744Z
LAST-MODIFIED:20250527T174737Z
UID:10003406-1750933800-1750935600@www.lowellpl.lib.in.us
SUMMARY:Ocean in a Cup Snack Craft (Lowell)
DESCRIPTION:Thursday\, June 26th \nOcean in a cup snack \n10:30 A.M \nOR \n1:30 P.M \nJoin Miss Jackie to make this yummy ocean themed snack \n*Ingredients: cool whip\, graham cracker crumbs and Swedish fish* \nThis is a program for children ages birth– 4th grade \nto enjoy with a parent/adult. \nREGISTRATION IS REQUIRED \nPlease sign up online or call \n#219-696-7704 \nREGISTRATION OPENS Monday\, June 16th \n 
URL:https://www.lowellpl.lib.in.us/event/ocean-in-a-cup-snack-craft/
LOCATION:Lowell Public Library\, 1505 E Commercial Ave\, Lowell\, IN\, 46356-2107\, United States
CATEGORIES:Events,Kids
ATTACH;FMTTYPE=image/png:https://www.lowellpl.lib.in.us/wp-content/uploads/2025/04/ocean-in-a-cup-June-26th.png
END:VEVENT
BEGIN:VEVENT
DTSTART;TZID=America/Chicago:20250626T113000
DTEND;TZID=America/Chicago:20250626T123000
DTSTAMP:20260421T194052
CREATED:20250512T195716Z
LAST-MODIFIED:20250527T174758Z
UID:10004599-1750937400-1750941000@www.lowellpl.lib.in.us
SUMMARY:Ocean in a Cup Snack (Schneider)
DESCRIPTION:Make this yummy ocean-themed snack. \n*Ingredients: Cool Whip\, graham cracker crumbs\, and Swedish fish* \nThis is a program for children ages birth to 4th grade to enjoy with a parent/adult.
URL:https://www.lowellpl.lib.in.us/event/ocean-in-a-cup-snack-3/
LOCATION:Schneider Branch Library\, 24002 Parrish Ave\, Schneider\, IN\, 46376\, United States
CATEGORIES:Events
ATTACH;FMTTYPE=image/png:https://www.lowellpl.lib.in.us/wp-content/uploads/2025/04/ocean-in-a-cup-June-26th.png
END:VEVENT
BEGIN:VEVENT
DTSTART;TZID=America/Chicago:20250626T133000
DTEND;TZID=America/Chicago:20250626T140000
DTSTAMP:20260421T194052
CREATED:20250409T144415Z
LAST-MODIFIED:20250527T174818Z
UID:10003407-1750944600-1750946400@www.lowellpl.lib.in.us
SUMMARY:Ocean in a Cup Snack (Lowell)
DESCRIPTION:Thursday\, June 26th \nOcean in a cup snack \n10:30 A.M \nOR \n1:30 P.M \nJoin Miss Jackie to make this yummy ocean themed snack \n*Ingredients: cool whip\, graham cracker crumbs and Swedish fish* \nThis is a program for children ages birth– 4th grade \nto enjoy with a parent/adult. \nREGISTRATION IS REQUIRED \nPlease sign up online or call \n#219-696-7704 \nREGISTRATION OPENS Monday\, June 16th \n 
URL:https://www.lowellpl.lib.in.us/event/ocean-in-a-cup-snack/
LOCATION:Lowell Public Library\, 1505 E Commercial Ave\, Lowell\, IN\, 46356-2107\, United States
CATEGORIES:Events,Kids
ATTACH;FMTTYPE=image/png:https://www.lowellpl.lib.in.us/wp-content/uploads/2025/04/ocean-in-a-cup-June-26th.png
END:VEVENT
BEGIN:VEVENT
DTSTART;TZID=America/Chicago:20250626T160000
DTEND;TZID=America/Chicago:20250626T170000
DTSTAMP:20260421T194052
CREATED:20250506T232140Z
LAST-MODIFIED:20250527T174829Z
UID:10004587-1750953600-1750957200@www.lowellpl.lib.in.us
SUMMARY:Ocean in a Cup Snack (Shelby)
DESCRIPTION:Make this yummy ocean-themed snack. \n*Ingredients: Cool Whip\, graham cracker crumbs\, and Swedish fish* \nThis is a program for children ages birth to 4th grade to enjoy with a parent/adult.
URL:https://www.lowellpl.lib.in.us/event/ocean-in-a-cup-snack-2/
LOCATION:Shelby Branch\, 23323 Shelby Rd\, Shelby\, IN\, 46377\, United States
CATEGORIES:Events
ATTACH;FMTTYPE=image/png:https://www.lowellpl.lib.in.us/wp-content/uploads/2025/04/ocean-in-a-cup-June-26th.png
END:VEVENT
BEGIN:VEVENT
DTSTART;TZID=America/Chicago:20250628T090000
DTEND;TZID=America/Chicago:20250628T163000
DTSTAMP:20260421T194052
CREATED:20250505T182011Z
LAST-MODIFIED:20250527T174956Z
UID:10004569-1751101200-1751128200@www.lowellpl.lib.in.us
SUMMARY:$3 Bag Book Sale (Lowell)
DESCRIPTION:On the last Saturday of each month\, get a bag of books for $3. You can bring your own brown grocery bag or ask for one at the circulation desk.  \n 
URL:https://www.lowellpl.lib.in.us/event/3-bag-book-sale-30/
LOCATION:Lowell Public Library\, 1505 E Commercial Ave\, Lowell\, IN\, 46356-2107\, United States
CATEGORIES:Adult,Events
ATTACH;FMTTYPE=image/jpeg:https://www.lowellpl.lib.in.us/wp-content/uploads/2023/04/Friends-Book-Sale-yellow_12_5_0.jpg
END:VEVENT
BEGIN:VEVENT
DTSTART;TZID=America/Chicago:20250628T100000
DTEND;TZID=America/Chicago:20250628T110000
DTSTAMP:20260421T194052
CREATED:20250506T224145Z
LAST-MODIFIED:20250527T173756Z
UID:10004576-1751104800-1751108400@www.lowellpl.lib.in.us
SUMMARY:Coffee and Conversation (Shelby)
DESCRIPTION:Stop in for a cup of coffee. Stay for a chat. \n 
URL:https://www.lowellpl.lib.in.us/event/coffee-and-conversation-8/2025-06-28/
LOCATION:Shelby Branch\, 23323 Shelby Rd\, Shelby\, IN\, 46377\, United States
CATEGORIES:Adult,Events
ATTACH;FMTTYPE=image/jpeg:https://www.lowellpl.lib.in.us/wp-content/uploads/2023/07/coffee-and-conversation.jpeg
END:VEVENT
END:VCALENDAR