BEGIN:VCALENDAR
VERSION:2.0
PRODID:-//Lowell Public Library - Lowell, IN - ECPv6.7.0//NONSGML v1.0//EN
CALSCALE:GREGORIAN
METHOD:PUBLISH
X-ORIGINAL-URL:https://www.lowellpl.lib.in.us
X-WR-CALDESC:Events for Lowell Public Library - Lowell, IN
REFRESH-INTERVAL;VALUE=DURATION:PT1H
X-Robots-Tag:noindex
X-PUBLISHED-TTL:PT1H
BEGIN:VTIMEZONE
TZID:America/Chicago
BEGIN:DAYLIGHT
TZOFFSETFROM:-0600
TZOFFSETTO:-0500
TZNAME:CDT
DTSTART:20250309T080000
END:DAYLIGHT
BEGIN:STANDARD
TZOFFSETFROM:-0500
TZOFFSETTO:-0600
TZNAME:CST
DTSTART:20251102T070000
END:STANDARD
END:VTIMEZONE
BEGIN:VEVENT
DTSTART;TZID=America/Chicago:20250626T103000
DTEND;TZID=America/Chicago:20250626T110000
DTSTAMP:20260421T225838
CREATED:20250409T143744Z
LAST-MODIFIED:20250527T174737Z
UID:10003406-1750933800-1750935600@www.lowellpl.lib.in.us
SUMMARY:Ocean in a Cup Snack Craft (Lowell)
DESCRIPTION:Thursday\, June 26th \nOcean in a cup snack \n10:30 A.M \nOR \n1:30 P.M \nJoin Miss Jackie to make this yummy ocean themed snack \n*Ingredients: cool whip\, graham cracker crumbs and Swedish fish* \nThis is a program for children ages birth– 4th grade \nto enjoy with a parent/adult. \nREGISTRATION IS REQUIRED \nPlease sign up online or call \n#219-696-7704 \nREGISTRATION OPENS Monday\, June 16th \n 
URL:https://www.lowellpl.lib.in.us/event/ocean-in-a-cup-snack-craft/
LOCATION:Lowell Public Library\, 1505 E Commercial Ave\, Lowell\, IN\, 46356-2107\, United States
CATEGORIES:Events,Kids
ATTACH;FMTTYPE=image/png:https://www.lowellpl.lib.in.us/wp-content/uploads/2025/04/ocean-in-a-cup-June-26th.png
END:VEVENT
BEGIN:VEVENT
DTSTART;TZID=America/Chicago:20250626T113000
DTEND;TZID=America/Chicago:20250626T123000
DTSTAMP:20260421T225838
CREATED:20250512T195716Z
LAST-MODIFIED:20250527T174758Z
UID:10004599-1750937400-1750941000@www.lowellpl.lib.in.us
SUMMARY:Ocean in a Cup Snack (Schneider)
DESCRIPTION:Make this yummy ocean-themed snack. \n*Ingredients: Cool Whip\, graham cracker crumbs\, and Swedish fish* \nThis is a program for children ages birth to 4th grade to enjoy with a parent/adult.
URL:https://www.lowellpl.lib.in.us/event/ocean-in-a-cup-snack-3/
LOCATION:Schneider Branch Library\, 24002 Parrish Ave\, Schneider\, IN\, 46376\, United States
CATEGORIES:Events
ATTACH;FMTTYPE=image/png:https://www.lowellpl.lib.in.us/wp-content/uploads/2025/04/ocean-in-a-cup-June-26th.png
END:VEVENT
BEGIN:VEVENT
DTSTART;TZID=America/Chicago:20250626T133000
DTEND;TZID=America/Chicago:20250626T140000
DTSTAMP:20260421T225838
CREATED:20250409T144415Z
LAST-MODIFIED:20250527T174818Z
UID:10003407-1750944600-1750946400@www.lowellpl.lib.in.us
SUMMARY:Ocean in a Cup Snack (Lowell)
DESCRIPTION:Thursday\, June 26th \nOcean in a cup snack \n10:30 A.M \nOR \n1:30 P.M \nJoin Miss Jackie to make this yummy ocean themed snack \n*Ingredients: cool whip\, graham cracker crumbs and Swedish fish* \nThis is a program for children ages birth– 4th grade \nto enjoy with a parent/adult. \nREGISTRATION IS REQUIRED \nPlease sign up online or call \n#219-696-7704 \nREGISTRATION OPENS Monday\, June 16th \n 
URL:https://www.lowellpl.lib.in.us/event/ocean-in-a-cup-snack/
LOCATION:Lowell Public Library\, 1505 E Commercial Ave\, Lowell\, IN\, 46356-2107\, United States
CATEGORIES:Events,Kids
ATTACH;FMTTYPE=image/png:https://www.lowellpl.lib.in.us/wp-content/uploads/2025/04/ocean-in-a-cup-June-26th.png
END:VEVENT
BEGIN:VEVENT
DTSTART;TZID=America/Chicago:20250626T160000
DTEND;TZID=America/Chicago:20250626T170000
DTSTAMP:20260421T225838
CREATED:20250506T232140Z
LAST-MODIFIED:20250527T174829Z
UID:10004587-1750953600-1750957200@www.lowellpl.lib.in.us
SUMMARY:Ocean in a Cup Snack (Shelby)
DESCRIPTION:Make this yummy ocean-themed snack. \n*Ingredients: Cool Whip\, graham cracker crumbs\, and Swedish fish* \nThis is a program for children ages birth to 4th grade to enjoy with a parent/adult.
URL:https://www.lowellpl.lib.in.us/event/ocean-in-a-cup-snack-2/
LOCATION:Shelby Branch\, 23323 Shelby Rd\, Shelby\, IN\, 46377\, United States
CATEGORIES:Events
ATTACH;FMTTYPE=image/png:https://www.lowellpl.lib.in.us/wp-content/uploads/2025/04/ocean-in-a-cup-June-26th.png
END:VEVENT
BEGIN:VEVENT
DTSTART;TZID=America/Chicago:20250628T090000
DTEND;TZID=America/Chicago:20250628T163000
DTSTAMP:20260421T225838
CREATED:20250505T182011Z
LAST-MODIFIED:20250527T174956Z
UID:10004569-1751101200-1751128200@www.lowellpl.lib.in.us
SUMMARY:$3 Bag Book Sale (Lowell)
DESCRIPTION:On the last Saturday of each month\, get a bag of books for $3. You can bring your own brown grocery bag or ask for one at the circulation desk.  \n 
URL:https://www.lowellpl.lib.in.us/event/3-bag-book-sale-30/
LOCATION:Lowell Public Library\, 1505 E Commercial Ave\, Lowell\, IN\, 46356-2107\, United States
CATEGORIES:Adult,Events
ATTACH;FMTTYPE=image/jpeg:https://www.lowellpl.lib.in.us/wp-content/uploads/2023/04/Friends-Book-Sale-yellow_12_5_0.jpg
END:VEVENT
BEGIN:VEVENT
DTSTART;TZID=America/Chicago:20250628T100000
DTEND;TZID=America/Chicago:20250628T110000
DTSTAMP:20260421T225838
CREATED:20250506T224145Z
LAST-MODIFIED:20250527T173756Z
UID:10004576-1751104800-1751108400@www.lowellpl.lib.in.us
SUMMARY:Coffee and Conversation (Shelby)
DESCRIPTION:Stop in for a cup of coffee. Stay for a chat. \n 
URL:https://www.lowellpl.lib.in.us/event/coffee-and-conversation-8/2025-06-28/
LOCATION:Shelby Branch\, 23323 Shelby Rd\, Shelby\, IN\, 46377\, United States
CATEGORIES:Adult,Events
ATTACH;FMTTYPE=image/jpeg:https://www.lowellpl.lib.in.us/wp-content/uploads/2023/07/coffee-and-conversation.jpeg
END:VEVENT
BEGIN:VEVENT
DTSTART;TZID=America/Chicago:20250630T160000
DTEND;TZID=America/Chicago:20250630T170000
DTSTAMP:20260421T225838
CREATED:20250506T222530Z
LAST-MODIFIED:20250527T173314Z
UID:10004574-1751299200-1751302800@www.lowellpl.lib.in.us
SUMMARY:Over 18 Game Day (Shelby)
DESCRIPTION:Get together to play cards or board games. \n 
URL:https://www.lowellpl.lib.in.us/event/over-18-game-day-36/2025-06-30/
LOCATION:Shelby Branch\, 23323 Shelby Rd\, Shelby\, IN\, 46377\, United States
CATEGORIES:Adult,Events
ATTACH;FMTTYPE=image/jpeg:https://www.lowellpl.lib.in.us/wp-content/uploads/2024/04/over-18-game-2.jpg
END:VEVENT
BEGIN:VEVENT
DTSTART;TZID=America/Chicago:20250701T103000
DTEND;TZID=America/Chicago:20250701T110000
DTSTAMP:20260421T225838
CREATED:20250409T150655Z
LAST-MODIFIED:20250527T175049Z
UID:10003408-1751365800-1751367600@www.lowellpl.lib.in.us
SUMMARY:T.P. Roll Fish (Lowell)
DESCRIPTION:Tuesday\, July 1st \nTP roll fish \n10:30 A.M \nOR \n1:30 P.M \nJoin Miss Jackie to make a cute fish out of a TP roll \nThis is a program for children ages birth– 4th grade \nto enjoy with a parent/adult. \nREGISTRATION IS REQUIRED \nPlease sign up online or call \n#219-696-7704 \nREGISTRATION OPENS Monday\, June 23rd \n 
URL:https://www.lowellpl.lib.in.us/event/t-p-roll-fish/
LOCATION:Lowell Public Library\, 1505 E Commercial Ave\, Lowell\, IN\, 46356-2107\, United States
CATEGORIES:Events,Kids
ATTACH;FMTTYPE=image/png:https://www.lowellpl.lib.in.us/wp-content/uploads/2025/04/tp-roll-fish-july-1st.png
END:VEVENT
BEGIN:VEVENT
DTSTART;TZID=America/Chicago:20250701T113000
DTEND;TZID=America/Chicago:20250701T123000
DTSTAMP:20260421T225838
CREATED:20250610T210945Z
LAST-MODIFIED:20250610T210945Z
UID:10004638-1751369400-1751373000@www.lowellpl.lib.in.us
SUMMARY:TP Roll Fish (Schneider)
DESCRIPTION:Make a cute fish out of a TP roll. This is a program for children ages birth– 4th grade \nto enjoy with a parent/adult.
URL:https://www.lowellpl.lib.in.us/event/tp-roll-fish-schneider/
LOCATION:Schneider Branch Library\, 24002 Parrish Ave\, Schneider\, IN\, 46376\, United States
CATEGORIES:Events
ATTACH;FMTTYPE=image/png:https://www.lowellpl.lib.in.us/wp-content/uploads/2025/04/tp-roll-fish-july-1st.png
END:VEVENT
BEGIN:VEVENT
DTSTART;TZID=America/Chicago:20250701T133000
DTEND;TZID=America/Chicago:20250701T140000
DTSTAMP:20260421T225838
CREATED:20250409T150940Z
LAST-MODIFIED:20250527T175112Z
UID:10003409-1751376600-1751378400@www.lowellpl.lib.in.us
SUMMARY:T.P. Roll Fish (Lowell)
DESCRIPTION:Tuesday\, July 1st \nTP roll fish \n10:30 A.M \nOR \n1:30 P.M \nJoin Miss Jackie to make a cute fish out of a TP roll \nThis is a program for children ages birth– 4th grade \nto enjoy with a parent/adult. \nREGISTRATION IS REQUIRED \nPlease sign up online or call \n#219-696-7704 \nREGISTRATION OPENS Monday\, June 23rd \n 
URL:https://www.lowellpl.lib.in.us/event/t-p-roll-fish-2/
LOCATION:Lowell Public Library\, 1505 E Commercial Ave\, Lowell\, IN\, 46356-2107\, United States
CATEGORIES:Events,Kids
ATTACH;FMTTYPE=image/png:https://www.lowellpl.lib.in.us/wp-content/uploads/2025/04/tp-roll-fish-july-1st.png
END:VEVENT
BEGIN:VEVENT
DTSTART;TZID=America/Chicago:20250701T160000
DTEND;TZID=America/Chicago:20250701T170000
DTSTAMP:20260421T225838
CREATED:20250519T205333Z
LAST-MODIFIED:20250527T175125Z
UID:10004607-1751385600-1751389200@www.lowellpl.lib.in.us
SUMMARY:Tales for Tails (Lowell)
DESCRIPTION:Tuesday’s \nJuly 1st\, 8th\, 15th\, 22nd\, 29th \nRead or just visit with a certified therapy dog \nJoin us on Tuesdays as we will be offering the opportunity for kids to read or just visit with therapy dogs. \nThis is a fun program\, where children get a chance to cozy up with a loveable pup and practice their reading skills. Kids can read to one of the therapy dogs for a few minutes or just visit with one. Some of these talented pups have pretty neat talents to share as well! Such a fun way to build confidence\, and increase the kids love of reading! \n*REGISTRATION IS REQUIRED* \nRegistration opens Monday\, June 16th \n  \n 
URL:https://www.lowellpl.lib.in.us/event/tales-for-tails-77/
LOCATION:Lowell Public Library\, 1505 E Commercial Ave\, Lowell\, IN\, 46356-2107\, United States
CATEGORIES:Events,Kids
ATTACH;FMTTYPE=image/jpeg:https://www.lowellpl.lib.in.us/wp-content/uploads/2023/05/therapy-dog.jpg
END:VEVENT
BEGIN:VEVENT
DTSTART;TZID=America/Chicago:20250701T160000
DTEND;TZID=America/Chicago:20250701T170000
DTSTAMP:20260421T225838
CREATED:20250610T204051Z
LAST-MODIFIED:20250610T204051Z
UID:10004631-1751385600-1751389200@www.lowellpl.lib.in.us
SUMMARY:TP Roll Fish (Shelby)
DESCRIPTION:Make a cute fish out of a TP roll. This is a program for children ages birth– 4th grade \nto enjoy with a parent/adult.
URL:https://www.lowellpl.lib.in.us/event/tp-roll-fish-shelby/
LOCATION:Shelby Branch\, 23323 Shelby Rd\, Shelby\, IN\, 46377\, United States
CATEGORIES:Events
ATTACH;FMTTYPE=image/png:https://www.lowellpl.lib.in.us/wp-content/uploads/2025/04/tp-roll-fish-july-1st.png
END:VEVENT
BEGIN:VEVENT
DTSTART;TZID=America/Chicago:20250702T160000
DTEND;TZID=America/Chicago:20250702T170000
DTSTAMP:20260421T225838
CREATED:20250610T201153Z
LAST-MODIFIED:20250610T201153Z
UID:10004627-1751472000-1751475600@www.lowellpl.lib.in.us
SUMMARY:YA Board Games (Shelby)
DESCRIPTION:Bring a board game or play one of ours.
URL:https://www.lowellpl.lib.in.us/event/ya-board-games-shelby/
LOCATION:Shelby Branch\, 23323 Shelby Rd\, Shelby\, IN\, 46377\, United States
CATEGORIES:Events
ATTACH;FMTTYPE=image/jpeg:https://www.lowellpl.lib.in.us/wp-content/uploads/2022/01/boardgames.jpg
END:VEVENT
BEGIN:VEVENT
DTSTART;TZID=America/Chicago:20250702T163000
DTEND;TZID=America/Chicago:20250702T173000
DTSTAMP:20260421T225838
CREATED:20250617T193252Z
LAST-MODIFIED:20250617T193252Z
UID:10004650-1751473800-1751477400@www.lowellpl.lib.in.us
SUMMARY:YA Water Games (Schneider)
DESCRIPTION:Play a variety of water-themed games with your friends!
URL:https://www.lowellpl.lib.in.us/event/ya-water-games-schneider/
LOCATION:Schneider Branch Library\, 24002 Parrish Ave\, Schneider\, IN\, 46376\, United States
CATEGORIES:Events
ATTACH;FMTTYPE=image/jpeg:https://www.lowellpl.lib.in.us/wp-content/uploads/2022/05/water-balloons.jpg
END:VEVENT
BEGIN:VEVENT
DTSTART;TZID=America/Chicago:20250703T090000
DTEND;TZID=America/Chicago:20250703T120000
DTSTAMP:20260421T225838
CREATED:20250131T165606Z
LAST-MODIFIED:20251014T142700Z
UID:10003212-1751533200-1751544000@www.lowellpl.lib.in.us
SUMMARY:Knit & Crochet (Lowell)
DESCRIPTION:Meet up to knit and crochet\, and share patterns and tips.   \n 
URL:https://www.lowellpl.lib.in.us/event/knit-crochet-32/2025-07-03/
LOCATION:Lowell Public Library\, 1505 E Commercial Ave\, Lowell\, IN\, 46356-2107\, United States
CATEGORIES:Events
ATTACH;FMTTYPE=image/jpeg:https://www.lowellpl.lib.in.us/wp-content/uploads/2022/01/crochet.jpg
END:VEVENT
BEGIN:VEVENT
DTSTART;TZID=America/Chicago:20250703T103000
DTEND;TZID=America/Chicago:20250703T110000
DTSTAMP:20260421T225838
CREATED:20250409T151832Z
LAST-MODIFIED:20250527T175137Z
UID:10003410-1751538600-1751540400@www.lowellpl.lib.in.us
SUMMARY:Rockin' Submarine (Lowell)
DESCRIPTION:Thursday\, July 3rd \nRockin’ submarine \n10:30 A.M \nOR \n1:30 P.M \nJoin Miss Jackie to make this Rockin’ submarine! \nThis is a program for children ages birth– 4th grade \nto enjoy with a parent/adult. \nREGISTRATION IS REQUIRED \nPlease sign up online or call \n#219-696-7704 \nREGISTRATION OPENS Monday\, June 23rd \n 
URL:https://www.lowellpl.lib.in.us/event/rockin-submarine/
LOCATION:Lowell Public Library\, 1505 E Commercial Ave\, Lowell\, IN\, 46356-2107\, United States
CATEGORIES:Events,Kids
ATTACH;FMTTYPE=image/png:https://www.lowellpl.lib.in.us/wp-content/uploads/2025/04/submarine-july-3rd.png
END:VEVENT
BEGIN:VEVENT
DTSTART;TZID=America/Chicago:20250703T113000
DTEND;TZID=America/Chicago:20250703T123000
DTSTAMP:20260421T225838
CREATED:20250610T212009Z
LAST-MODIFIED:20250610T212009Z
UID:10004642-1751542200-1751545800@www.lowellpl.lib.in.us
SUMMARY:Rockin' Submarine (Schneider)
DESCRIPTION:Make this Rockin’ submarine! This is a program for children ages birth– 4th grade \nto enjoy with a parent/adult.
URL:https://www.lowellpl.lib.in.us/event/rockin-submarine-schneider/
LOCATION:Schneider Branch Library\, 24002 Parrish Ave\, Schneider\, IN\, 46376\, United States
CATEGORIES:Events
ATTACH;FMTTYPE=image/png:https://www.lowellpl.lib.in.us/wp-content/uploads/2025/04/submarine-july-3rd.png
END:VEVENT
BEGIN:VEVENT
DTSTART;TZID=America/Chicago:20250703T130000
DTEND;TZID=America/Chicago:20250703T140000
DTSTAMP:20260421T225838
CREATED:20250409T152353Z
LAST-MODIFIED:20250527T175151Z
UID:10003411-1751547600-1751551200@www.lowellpl.lib.in.us
SUMMARY:Rockin' Submarine (Lowell)
DESCRIPTION:Thursday\, July 3rd \nRockin’ submarine \n10:30 A.M \nOR \n1:30 P.M \nJoin Miss Jackie to make this Rockin’ submarine! \nThis is a program for children ages birth– 4th grade \nto enjoy with a parent/adult. \nREGISTRATION IS REQUIRED \nPlease sign up online or call \n#219-696-7704 \nREGISTRATION OPENS Monday\, June 23rd \n 
URL:https://www.lowellpl.lib.in.us/event/rockin-submarine-2/
LOCATION:Lowell Public Library\, 1505 E Commercial Ave\, Lowell\, IN\, 46356-2107\, United States
CATEGORIES:Events,Kids
ATTACH;FMTTYPE=image/png:https://www.lowellpl.lib.in.us/wp-content/uploads/2025/04/submarine-july-3rd.png
END:VEVENT
BEGIN:VEVENT
DTSTART;TZID=America/Chicago:20250703T160000
DTEND;TZID=America/Chicago:20250703T170000
DTSTAMP:20260421T225838
CREATED:20250610T205157Z
LAST-MODIFIED:20250610T205157Z
UID:10004635-1751558400-1751562000@www.lowellpl.lib.in.us
SUMMARY:Rockin' Submarine (Shelby)
DESCRIPTION:Make a Rockin’ submarine! This is a program for children ages birth– 4th grade \nto enjoy with a parent/adult.
URL:https://www.lowellpl.lib.in.us/event/rockin-submarine-shelby/
LOCATION:Shelby Branch\, 23323 Shelby Rd\, Shelby\, IN\, 46377\, United States
CATEGORIES:Events
ATTACH;FMTTYPE=image/png:https://www.lowellpl.lib.in.us/wp-content/uploads/2025/04/submarine-july-3rd.png
END:VEVENT
BEGIN:VEVENT
DTSTART;TZID=America/Chicago:20250703T173000
DTEND;TZID=America/Chicago:20250703T190000
DTSTAMP:20260421T225838
CREATED:20241220T165749Z
LAST-MODIFIED:20250527T175204Z
UID:10003044-1751563800-1751569200@www.lowellpl.lib.in.us
SUMMARY:Simple Stamping (Lowell)
DESCRIPTION:Make two cards with envelopes.  A $7 fee\, payable at class\, will cover all materials. Limit 12. Pre-register. REGISTRATION OPENS June 5 \n 
URL:https://www.lowellpl.lib.in.us/event/simple-stamping-37/
LOCATION:Lowell Public Library\, 1505 E Commercial Ave\, Lowell\, IN\, 46356-2107\, United States
CATEGORIES:Events
ATTACH;FMTTYPE=image/jpeg:https://www.lowellpl.lib.in.us/wp-content/uploads/2022/12/stamping2.jpeg
END:VEVENT
BEGIN:VEVENT
DTSTART;TZID=America/Chicago:20250707T160000
DTEND;TZID=America/Chicago:20250707T170000
DTSTAMP:20260421T225838
CREATED:20250610T192841Z
LAST-MODIFIED:20250610T192841Z
UID:10004618-1751904000-1751907600@www.lowellpl.lib.in.us
SUMMARY:Over 18 Game Day (Shelby)
DESCRIPTION:Get together to play cards or board games. \n 
URL:https://www.lowellpl.lib.in.us/event/over-18-game-day-shelby/2025-07-07/
LOCATION:Shelby Branch\, 23323 Shelby Rd\, Shelby\, IN\, 46377\, United States
CATEGORIES:Events
ATTACH;FMTTYPE=image/jpeg:https://www.lowellpl.lib.in.us/wp-content/uploads/2024/04/over-18-game-2.jpg
END:VEVENT
BEGIN:VEVENT
DTSTART;TZID=America/Chicago:20250707T170000
DTEND;TZID=America/Chicago:20250707T180000
DTSTAMP:20260421T225838
CREATED:20250617T191802Z
LAST-MODIFIED:20250617T191859Z
UID:10004646-1751907600-1751911200@www.lowellpl.lib.in.us
SUMMARY:Adult Craft Night Out (Schneider)
DESCRIPTION:Bring what you are working on or find something new here. Snacks will be provided. \n 
URL:https://www.lowellpl.lib.in.us/event/adult-craft-night-out-schneider/
LOCATION:Schneider Branch Library\, 24002 Parrish Ave\, Schneider\, IN\, 46376\, United States
CATEGORIES:Events
ATTACH;FMTTYPE=image/png:https://www.lowellpl.lib.in.us/wp-content/uploads/2024/03/Adult-Craft.png
END:VEVENT
BEGIN:VEVENT
DTSTART;TZID=America/Chicago:20250708T103000
DTEND;TZID=America/Chicago:20250708T110000
DTSTAMP:20260421T225838
CREATED:20250409T155006Z
LAST-MODIFIED:20250527T180351Z
UID:10003412-1751970600-1751972400@www.lowellpl.lib.in.us
SUMMARY:Blow Fish (Lowell)
DESCRIPTION:Tuesday\, July 8th \nBlow Fish \n10:30 A.M \nOR \n1:30 P.M \nJoin Miss Jackie to make a blow fish and painting with a fork! \nThis is a program for children ages birth– 4th grade \nto enjoy with a parent/adult. \nREGISTRATION IS REQUIRED \nPlease sign up online or call \n#219-696-7704 \nREGISTRATION OPENS Monday\, June 30th \n 
URL:https://www.lowellpl.lib.in.us/event/blow-fish/
LOCATION:Lowell Public Library\, 1505 E Commercial Ave\, Lowell\, IN\, 46356-2107\, United States
CATEGORIES:Events,Kids
ATTACH;FMTTYPE=image/png:https://www.lowellpl.lib.in.us/wp-content/uploads/2025/04/blowfish-july-8th.png
END:VEVENT
BEGIN:VEVENT
DTSTART;TZID=America/Chicago:20250708T113000
DTEND;TZID=America/Chicago:20250708T123000
DTSTAMP:20260421T225838
CREATED:20250610T211305Z
LAST-MODIFIED:20250610T211305Z
UID:10004639-1751974200-1751977800@www.lowellpl.lib.in.us
SUMMARY:Outdoor Games (Schneider)
DESCRIPTION:Kids will play a variety of outdoor games
URL:https://www.lowellpl.lib.in.us/event/outdoor-games-schneider/
LOCATION:Schneider Branch Library\, 24002 Parrish Ave\, Schneider\, IN\, 46376\, United States
CATEGORIES:Events
ATTACH;FMTTYPE=image/jpeg:https://www.lowellpl.lib.in.us/wp-content/uploads/2022/05/outdoor-games.jpg
END:VEVENT
BEGIN:VEVENT
DTSTART;TZID=America/Chicago:20250708T133000
DTEND;TZID=America/Chicago:20250708T140000
DTSTAMP:20260421T225838
CREATED:20250409T155524Z
LAST-MODIFIED:20250527T180415Z
UID:10003413-1751981400-1751983200@www.lowellpl.lib.in.us
SUMMARY:Blow Fish (Lowell)
DESCRIPTION:Tuesday\, July 8th \nBlow Fish \n10:30 A.M \nOR \n1:30 P.M \nJoin Miss Jackie to make a blow fish and painting with a fork! \nThis is a program for children ages birth– 4th grade \nto enjoy with a parent/adult. \nREGISTRATION IS REQUIRED \nPlease sign up online or call \n#219-696-7704 \nREGISTRATION OPENS Monday\, June 30th \n 
URL:https://www.lowellpl.lib.in.us/event/blow-fish-2/
LOCATION:Lowell Public Library\, 1505 E Commercial Ave\, Lowell\, IN\, 46356-2107\, United States
CATEGORIES:Events,Kids
ATTACH;FMTTYPE=image/png:https://www.lowellpl.lib.in.us/wp-content/uploads/2025/04/blowfish-july-8th.png
END:VEVENT
BEGIN:VEVENT
DTSTART;TZID=America/Chicago:20250708T160000
DTEND;TZID=America/Chicago:20250708T170000
DTSTAMP:20260421T225838
CREATED:20250519T205607Z
LAST-MODIFIED:20250527T180433Z
UID:10004608-1751990400-1751994000@www.lowellpl.lib.in.us
SUMMARY:Tales for Tails (Lowell)
DESCRIPTION:Tuesday’s \nJuly 1st\, 8th\, 15th\, 22nd\, 29th \nRead or just visit with a certified therapy dog \nJoin us on Tuesdays as we will be offering the opportunity for kids to read or just visit with therapy dogs. \nThis is a fun program\, where children get a chance to cozy up with a loveable pup and practice their reading skills. Kids can read to one of the therapy dogs for a few minutes or just visit with one. Some of these talented pups have pretty neat talents to share as well! Such a fun way to build confidence\, and increase the kids love of reading! \n*REGISTRATION IS REQUIRED* \nRegistration opens Monday\, June 16th \n  \n 
URL:https://www.lowellpl.lib.in.us/event/tales-for-tails-78/
LOCATION:Lowell Public Library\, 1505 E Commercial Ave\, Lowell\, IN\, 46356-2107\, United States
CATEGORIES:Events,Kids
ATTACH;FMTTYPE=image/jpeg:https://www.lowellpl.lib.in.us/wp-content/uploads/2023/05/therapy-dog.jpg
END:VEVENT
BEGIN:VEVENT
DTSTART;TZID=America/Chicago:20250708T160000
DTEND;TZID=America/Chicago:20250708T170000
DTSTAMP:20260421T225838
CREATED:20250610T204347Z
LAST-MODIFIED:20250610T204347Z
UID:10004632-1751990400-1751994000@www.lowellpl.lib.in.us
SUMMARY:Blowfish (Shelby)
DESCRIPTION:Make a blow fish by painting with a fork! \nThis is a program for children ages birth– 4th grade \nto enjoy with a parent/adult.
URL:https://www.lowellpl.lib.in.us/event/blowfish-shelby/
LOCATION:Shelby Branch\, 23323 Shelby Rd\, Shelby\, IN\, 46377\, United States
CATEGORIES:Events
ATTACH;FMTTYPE=image/png:https://www.lowellpl.lib.in.us/wp-content/uploads/2025/04/blowfish-july-8th.png
END:VEVENT
BEGIN:VEVENT
DTSTART;TZID=America/Chicago:20250709T100000
DTEND;TZID=America/Chicago:20250709T120000
DTSTAMP:20260421T225838
CREATED:20250110T182351Z
LAST-MODIFIED:20250527T180515Z
UID:10003079-1752055200-1752062400@www.lowellpl.lib.in.us
SUMMARY:Drop-In Tech Help (Lowell)
DESCRIPTION:Do you have a question about how to use your phone\, tablet\, laptop\, or computer? Stop in during our drop-in hours and ask for Amanda—she will work with you to find the answer!   (First come\, first served) \n 
URL:https://www.lowellpl.lib.in.us/event/drop-in-tech-help-10/
LOCATION:Lowell Public Library\, 1505 E Commercial Ave\, Lowell\, IN\, 46356-2107\, United States
ATTACH;FMTTYPE=image/jpeg:https://www.lowellpl.lib.in.us/wp-content/uploads/2024/09/technology-Amanda.jpg
END:VEVENT
BEGIN:VEVENT
DTSTART;TZID=America/Chicago:20250709T130000
DTEND;TZID=America/Chicago:20250709T140000
DTSTAMP:20260421T225838
CREATED:20250505T193209Z
LAST-MODIFIED:20250527T180527Z
UID:10004570-1752066000-1752069600@www.lowellpl.lib.in.us
SUMMARY:YA Ice Cream Sundaes (Lowell)
DESCRIPTION:I scream\, you scream\, we all scream for ICE CREAM SUNDAES! \nCelebrate “National Ice Cream Sundae Day” by coming in and loading up a bowl of ice cream with your favorite toppings! \nThis is a free program for students entering 5th grade through 12th grade. Please do not sign up your younger children. \nPre-registration is REQUIRED for us to have enough supplies. Registration opens on 7/2/25. \n 
URL:https://www.lowellpl.lib.in.us/event/ya-ice-cream-sundaes/
LOCATION:Lowell Public Library\, 1505 E Commercial Ave\, Lowell\, IN\, 46356-2107\, United States
CATEGORIES:Events,YA/Teen
ATTACH;FMTTYPE=image/jpeg:https://www.lowellpl.lib.in.us/wp-content/uploads/2025/05/sundae.jpg
END:VEVENT
BEGIN:VEVENT
DTSTART;TZID=America/Chicago:20250709T160000
DTEND;TZID=America/Chicago:20250709T170000
DTSTAMP:20260421T225838
CREATED:20250610T201502Z
LAST-MODIFIED:20250610T201613Z
UID:10004628-1752076800-1752080400@www.lowellpl.lib.in.us
SUMMARY:YA Ice Cream Sundaes (Shelby)
DESCRIPTION:Enjoy ice cream sundaes and trivia games. \n 
URL:https://www.lowellpl.lib.in.us/event/ya-ice-cream-sundaes-shelby/
LOCATION:Shelby Branch\, 23323 Shelby Rd\, Shelby\, IN\, 46377\, United States
CATEGORIES:Events
ATTACH;FMTTYPE=image/jpeg:https://www.lowellpl.lib.in.us/wp-content/uploads/2022/06/ice-cream-sundae.jpg
END:VEVENT
END:VCALENDAR